Workbook
Name product_list: 'HD-produkten Blanko'!$A$3:$A$17
Name product_list: 'HD-produkten'!$A$3:$A$17
Name product_unit: 'HD-produkten'!#REF!
Name product_unit: 'HD-produkten'!#REF!
Name product_unit: 'HD-produkten Blanko'!#REF!
Name product_unit: 'HD-produkten'!#REF!

Sheet Starten

Sheet Anleitung
F1: Anleitung
G2: . | H2: . | I2: . | J2: . | K2: . | L2: . | M2: .
B4: Liebe Winzerinnen und Winzer,
B6: mit diesem Dosierrechner bieten wir Ihnen eine Hilfestellung zur Planung des Produktbedarfs für
B7: den Pflanzenschutz im Weinbau.
B9: Der Dosierrechner bietet folgende Möglichkeiten:
C11: + | D11: Professionelle Planung Ihrer Spritzfolge
C12: + | D12: Vorinstallierte BASF Produkte mit den entsprechenden Aufwandmengen
C13: + | D13: Flexible Möglichkeit Produkte von anderen Anbietern einzutragen
C14: + | D14: Berechnung der benötigten Produktmenge zum jeweiligen Entwicklungsstadium
C15: + | D15: Berechnung der benötigten Produktmenge pro Spritzfass
C16: + | D16: Berechnung des Gesamtbedarfs an Pflanzenschutzmittel für Ihren Betrieb
C17: + | D17: Berechnung der Pflanzenschutzmittelkosten für Ihren Betrieb
C18: + | D18: Hilfestellung bei der Aufzeichnung Ihrer Pflanzenschutzanwendungen
B21: Glossar
C23: Zeitpunkt
D24: Entspricht dem Entwicklungsstadium Ihrer Reben
C25: Datum
D26: Tag der Pflanzenschutzmaßnahme
C27: Produkt
D28: Bezeichnung des Produktes
C29: Empfohlene und Aktuelle Aufwandmenge bei voller Belaubung [kg, L, Stk / ha]
D30: Die volle Aufwandmenge eines Produktes bei voller Belaubung
C31: Einheit [kg, L, Stk]
D32: kg, L oder Stück
C33: Verwendete Düsenanzahl [Stk]
D34: Anzahl der geöffneten Düsen bei der jeweiligen Spritzung
C35: Spritzbrühe [L / ha]
D36: Automatisch berechnete Brühenmenge auf Basis der Anzahl der geöffneten Düsen
D37: (ergibt Annäherungswerte, je nach Spritzentyp kann es Abweichungen geben)
C38: Betriebsfläche [ha]
D39: Gesamte Weinbaufläche des Betriebes
C40: Behandelte Fläche [ha]
D41: Tatsächlich behandelte Fläche bei der jeweiligen Spritzung
D42: (zB: bei Spezialbotrytiziden wird oft nur eine Teilfläche behandelt)
C43: Produktmenge pro Spritzfassfüllung [kg, L, Stk]
D44: Automatisch berechnete Menge an Produkt in kg, L oder Stück pro Spritzfassfüllung angepasst an
D45: das entsprechende Entwicklungsstadium und der verwendeten Wassermenge
C46: Gesamtproduktbedarf laut Entwicklunsstadien für den Betrieb [kg, L, Stk]
D47: Automatisch berechnete Menge an Produkt für die zu behandelnde Fläche angepasst an
...

Sheet Dosierrechner BASF
D1: Berechnung der Pflanzenschutzmittelmenge für eine bestimmte Anlage
E2: . | F2: . | G2: . | H2: . | I2: . | J2: . | K2: . | L2: . | M2: . | N2: . | O2: .
B5: Kopfdaten: | H5: Bitte, fügen Sie folgende Daten ein
B7: Name : | H7: Max Mustermann
B9: Betriebsgröße [ha] : | H9: 5
B11: Inhalt Spritzfass [L] : | H11: 600
B13: Wasseraufwandmenge/ha* bei voller Belaubung [L] : | H13: 500
B15: Anzahl der offenen Düsen bei voller Belaubung [Stk] : | H15: 10
B18: Zeitpunkt | C18: Datum [TT.MM] | D18: Produkt [Auswahl] | E18: Empfohlene Aufwandmenge bei voller Belaubung [kg, L, Stk / ha] | F18: Aktuellle Aufwandmenge bei voller Belaubung [kg, L, Stk / ha] | G18: Einheit [kg, L, Stk] | H18: Verwendete Düsenanzahl [Stk] | I18: Spritzbrühe [L / ha] | J18: Behandelte Fläche [ha] | K18: Produktmenge pro Spritzfassfüllung [kg, L, Stk] | L18: Gesamtproduktbedarf laut Entwicklunsstadien für den Betrieb [kg, L, Stk] | M18: Berechnete Aufwandmenge pro ha [kg, L, Stk] | N18: Bemerkungen
B19: Austrieb ES 09 | D19: Kumulus® WG | E19: =IF( ISTEXT(D19), IF(D19 = "Kumulus® WG", 7, IFERROR(IF(VLOOKUP(D19,'HD-produkten'!$A$3:$E$64, 4, FALSE) > 0, VLOOKUP(D19,'HD-produkten'!$A$3:$E$64, 4, FALSE), ""), "")), "") -> 7 | G19: =IF( ISTEXT(D19), IFERROR(IF(VLOOKUP(D19,'HD-produkten'!$A$3:$E$16, 3, FALSE) > 0, VLOOKUP(D19,'HD-produkten'!$A$3:$E$64, 3, FALSE), ""), ""), "") -> kg | I19: =IF(AND(ISNUMBER(H19),ISNUMBER($H$13),ISNUMBER($H$15), ISTEXT(D19), D19 <> "Kumulus® WG"), $H$13*H19/$H$15, "") | K19: =IF(AND(ISNUMBER(M19), D19 <> "Kumulus® WG"), M19*$H$11/$H$13*$H$15/H19, "") | L19: =IF(ISNUMBER(M19),M19*IF(ISNUMBER(J19),J19,$H$9),"") -> 35 | M19: =IF(AND(ISTEXT(D19),OR(ISNUMBER(F19),ISNUMBER(E19)), ISNUMBER($H$9), ISNUMBER($H$13), OR(D19 = "Kumulus® WG", AND(ISNUMBER(H19), ISNUMBER(I19)))), IF(ISNUMBER(F19), F19, E19)*IF(D19 = "Kumulus® WG", 1, I19/$H$13), "") -> 7 | N19: *
D20: Polyram® WG | E20: =IF( ISTEXT(D20), IF(D20 = "Kumulus® WG", 7, IFERROR(IF(VLOOKUP(D20,'HD-produkten'!$A$3:$E$64, 4, FALSE) > 0, VLOOKUP(D20,'HD-produkten'!$A$3:$E$64, 4, FALSE), ""), "")), "") -> 3.2 | G20: =IF( ISTEXT(D20), IFERROR(IF(VLOOKUP(D20,'HD-produkten'!$A$3:$E$16, 3, FALSE) > 0, VLOOKUP(D20,'HD-produkten'!$A$3:$E$64, 3, FALSE), ""), ""), "") -> kg | H20: 4 | I20: =IF(AND(ISNUMBER(H20),ISNUMBER($H$13),ISNUMBER($H$15), ISTEXT(D20), D20 <> "Kumulus® WG"), $H$13*H20/$H$15, "") -> 200 | K20: =IF(AND(ISNUMBER(M20), D20 <> "Kumulus® WG"), M20*$H$11/$H$13*$H$15/H20, "") -> 3.84 | L20: =IF(ISNUMBER(M20),M20*IF(ISNUMBER(J20),J20,$H$9),"") -> 6.4 | M20: =IF(AND(ISTEXT(D20),OR(ISNUMBER(F20),ISNUMBER(E20)), ISNUMBER($H$9), ISNUMBER($H$13), OR(D20 = "Kumulus® WG", AND(ISNUMBER(H20), ISNUMBER(I20)))), IF(ISNUMBER(F20), F20, E20)*IF(D20 = "Kumulus® WG", 1, I20/$H$13), "") -> 1.28
E21: =IF( ISTEXT(D21), IF(D21 = "Kumulus® WG", 7, IFERROR(IF(VLOOKUP(D21,'HD-produkten'!$A$3:$E$64, 4, FALSE) > 0, VLOOKUP(D21,'HD-produkten'!$A$3:$E$64, 4, FALSE), ""), "")), "") | G21: =IF( ISTEXT(D21), IFERROR(IF(VLOOKUP(D21,'HD-produkten'!$A$3:$E$16, 3, FALSE) > 0, VLOOKUP(D21,'HD-produkten'!$A$3:$E$64, 3, FALSE), ""), ""), "") | I21: =IF(AND(ISNUMBER(H21),ISNUMBER($H$13),ISNUMBER($H$15), ISTEXT(D21), D21 <> "Kumulus® WG"), $H$13*H21/$H$15, "") | K21: =IF(AND(ISNUMBER(M21), D21 <> "Kumulus® WG"), M21*$H$11/$H$13*$H$15/H21, "") | L21: =IF(ISNUMBER(M21),M21*IF(ISNUMBER(J21),J21,$H$9),"") | M21: =IF(AND(ISTEXT(D21),OR(ISNUMBER(F21),ISNUMBER(E21)), ISNUMBER($H$9), ISNUMBER($H$13), OR(D21 = "Kumulus® WG", AND(ISNUMBER(H21), ISNUMBER(I21)))), IF(ISNUMBER(F21), F21, E21)*IF(D21 = "Kumulus® WG", 1, I21/$H$13), "")
E22: =IF( ISTEXT(D22), IF(D22 = "Kumulus® WG", 7, IFERROR(IF(VLOOKUP(D22,'HD-produkten'!$A$3:$E$64, 4, FALSE) > 0, VLOOKUP(D22,'HD-produkten'!$A$3:$E$64, 4, FALSE), ""), "")), "") | G22: =IF( ISTEXT(D22), IFERROR(IF(VLOOKUP(D22,'HD-produkten'!$A$3:$E$16, 3, FALSE) > 0, VLOOKUP(D22,'HD-produkten'!$A$3:$E$64, 3, FALSE), ""), ""), "") | I22: =IF(AND(ISNUMBER(H22),ISNUMBER($H$13),ISNUMBER($H$15), ISTEXT(D22), D22 <> "Kumulus® WG"), $H$13*H22/$H$15, "") | K22: =IF(AND(ISNUMBER(M22), D22 <> "Kumulus® WG"), M22*$H$11/$H$13*$H$15/H22, "") | L22: =IF(ISNUMBER(M22),M22*IF(ISNUMBER(J22),J22,$H$9),"") | M22: =IF(AND(ISTEXT(D22),OR(ISNUMBER(F22),ISNUMBER(E22)), ISNUMBER($H$9), ISNUMBER($H$13), OR(D22 = "Kumulus® WG", AND(ISNUMBER(H22), ISNUMBER(I22)))), IF(ISNUMBER(F22), F22, E22)*IF(D22 = "Kumulus® WG", 1, I22/$H$13), "")
E23: =IF( ISTEXT(D23), IF(D23 = "Kumulus® WG", 7, IFERROR(IF(VLOOKUP(D23,'HD-produkten'!$A$3:$E$64, 4, FALSE) > 0, VLOOKUP(D23,'HD-produkten'!$A$3:$E$64, 4, FALSE), ""), "")), "") | G23: =IF( ISTEXT(D23), IFERROR(IF(VLOOKUP(D23,'HD-produkten'!$A$3:$E$16, 3, FALSE) > 0, VLOOKUP(D23,'HD-produkten'!$A$3:$E$64, 3, FALSE), ""), ""), "") | I23: =IF(AND(ISNUMBER(H23),ISNUMBER($H$13),ISNUMBER($H$15), ISTEXT(D23), D23 <> "Kumulus® WG"), $H$13*H23/$H$15, "") | K23: =IF(AND(ISNUMBER(M23), D23 <> "Kumulus® WG"), M23*$H$11/$H$13*$H$15/H23, "") | L23: =IF(ISNUMBER(M23),M23*IF(ISNUMBER(J23),J23,$H$9),"") | M23: =IF(AND(ISTEXT(D23),OR(ISNUMBER(F23),ISNUMBER(E23)), ISNUMBER($H$9), ISNUMBER($H$13), OR(D23 = "Kumulus® WG", AND(ISNUMBER(H23), ISNUMBER(I23)))), IF(ISNUMBER(F23), F23, E23)*IF(D23 = "Kumulus® WG", 1, I23/$H$13), "")
E24: =IF( ISTEXT(D24), IF(D24 = "Kumulus® WG", 7, IFERROR(IF(VLOOKUP(D24,'HD-produkten'!$A$3:$E$64, 4, FALSE) > 0, VLOOKUP(D24,'HD-produkten'!$A$3:$E$64, 4, FALSE), ""), "")), "") | G24: =IF( ISTEXT(D24), IFERROR(IF(VLOOKUP(D24,'HD-produkten'!$A$3:$E$16, 3, FALSE) > 0, VLOOKUP(D24,'HD-produkten'!$A$3:$E$64, 3, FALSE), ""), ""), "") | I24: =IF(AND(ISNUMBER(H24),ISNUMBER($H$13),ISNUMBER($H$15), ISTEXT(D24), D24 <> "Kumulus® WG"), $H$13*H24/$H$15, "") | K24: =IF(AND(ISNUMBER(M24), D24 <> "Kumulus® WG"), M24*$H$11/$H$13*$H$15/H24, "") | L24: =IF(ISNUMBER(M24),M24*IF(ISNUMBER(J24),J24,$H$9),"") | M24: =IF(AND(ISTEXT(D24),OR(ISNUMBER(F24),ISNUMBER(E24)), ISNUMBER($H$9), ISNUMBER($H$13), OR(D24 = "Kumulus® WG", AND(ISNUMBER(H24), ISNUMBER(I24)))), IF(ISNUMBER(F24), F24, E24)*IF(D24 = "Kumulus® WG", 1, I24/$H$13), "")
E25: =IF( ISTEXT(D25), IF(D25 = "Kumulus® WG", 7, IFERROR(IF(VLOOKUP(D25,'HD-produkten'!$A$3:$E$64, 4, FALSE) > 0, VLOOKUP(D25,'HD-produkten'!$A$3:$E$64, 4, FALSE), ""), "")), "") | G25: =IF( ISTEXT(D25), IFERROR(IF(VLOOKUP(D25,'HD-produkten'!$A$3:$E$16, 3, FALSE) > 0, VLOOKUP(D25,'HD-produkten'!$A$3:$E$64, 3, FALSE), ""), ""), "") | I25: =IF(AND(ISNUMBER(H25),ISNUMBER($H$13),ISNUMBER($H$15), ISTEXT(D25), D25 <> "Kumulus® WG"), $H$13*H25/$H$15, "") | K25: =IF(AND(ISNUMBER(M25), D25 <> "Kumulus® WG"), M25*$H$11/$H$13*$H$15/H25, "") | L25: =IF(ISNUMBER(M25),M25*IF(ISNUMBER(J25),J25,$H$9),"") | M25: =IF(AND(ISTEXT(D25),OR(ISNUMBER(F25),ISNUMBER(E25)), ISNUMBER($H$9), ISNUMBER($H$13), OR(D25 = "Kumulus® WG", AND(ISNUMBER(H25), ISNUMBER(I25)))), IF(ISNUMBER(F25), F25, E25)*IF(D25 = "Kumulus® WG", 1, I25/$H$13), "")
B26: 3 - 6 Blatt Stadium ES 11 - 19 | D26: Kumulus® WG | E26: =IF( ISTEXT(D26), IFERROR(IF(VLOOKUP(D26,'HD-produkten'!$A$3:$E$64, 4, FALSE) > 0, VLOOKUP(D26,'HD-produkten'!$A$3:$E$64, 4, FALSE), ""), ""), "") -> 3 | G26: =IF( ISTEXT(D26), IFERROR(IF(VLOOKUP(D26,'HD-produkten'!$A$3:$E$16, 3, FALSE) > 0, VLOOKUP(D26,'HD-produkten'!$A$3:$E$64, 3, FALSE), ""), ""), "") -> kg | H26: 4 | I26: =IF(AND(ISNUMBER(H26),ISNUMBER($H$13),ISNUMBER($H$15), ISTEXT(D26)), $H$13*H26/$H$15, "") -> 200 | K26: =IF(ISNUMBER(M26), $H$15/H26 * IF(D26 <> "Kumulus® WG", M26 * $H$11/$H$13, E26), "") -> 7.5 | L26: =IF(ISNUMBER(M26),M26*IF(ISNUMBER(J26),J26,$H$9),"") -> 15 | M26: =IF(AND( ISTEXT(D26), OR( ISNUMBER(F26), ISNUMBER(E26)), ISNUMBER(H26), ISNUMBER(I26), ISNUMBER($H$9), ISNUMBER($H$13)), IF(D26="Kumulus® WG", 3, IF(ISNUMBER(F26), F26, E26)*I26/$H$13), "") -> 3
D27: Polyram® WG | E27: =IF( ISTEXT(D27), IFERROR(IF(VLOOKUP(D27,'HD-produkten'!$A$3:$E$64, 4, FALSE) > 0, VLOOKUP(D27,'HD-produkten'!$A$3:$E$64, 4, FALSE), ""), ""), "") -> 3.2 | G27: =IF( ISTEXT(D27), IFERROR(IF(VLOOKUP(D27,'HD-produkten'!$A$3:$E$16, 3, FALSE) > 0, VLOOKUP(D27,'HD-produkten'!$A$3:$E$64, 3, FALSE), ""), ""), "") -> kg | H27: 4 | I27: =IF(AND(ISNUMBER(H27),ISNUMBER($H$13),ISNUMBER($H$15), ISTEXT(D27)), $H$13*H27/$H$15, "") -> 200 | K27: =IF(ISNUMBER(M27), $H$15/H27 * IF(D27 <> "Kumulus® WG", M27 * $H$11/$H$13, E27), "") -> 3.84 | L27: =IF(ISNUMBER(M27),M27*IF(ISNUMBER(J27),J27,$H$9),"") -> 6.4 | M27: =IF(AND( ISTEXT(D27), OR( ISNUMBER(F27), ISNUMBER(E27)), ISNUMBER(H27), ISNUMBER(I27), ISNUMBER($H$9), ISNUMBER($H$13)), IF(D27="Kumulus® WG", 3, IF(ISNUMBER(F27), F27, E27)*I27/$H$13), "") -> 1.28
D28: Prosper | E28: =IF( ISTEXT(D28), IFERROR(IF(VLOOKUP(D28,'HD-produkten'!$A$3:$E$64, 4, FALSE) > 0, VLOOKUP(D28,'HD-produkten'!$A$3:$E$64, 4, FALSE), ""), ""), "") | F28: 0.8 | G28: =IF( ISTEXT(D28), IFERROR(IF(VLOOKUP(D28,'HD-produkten'!$A$3:$E$16, 3, FALSE) > 0, VLOOKUP(D28,'HD-produkten'!$A$3:$E$64, 3, FALSE), ""), ""), "") | H28: 4 | I28: =IF(AND(ISNUMBER(H28),ISNUMBER($H$13),ISNUMBER($H$15), ISTEXT(D28)), $H$13*H28/$H$15, "") -> 200 | K28: =IF(ISNUMBER(M28), $H$15/H28 * IF(D28 <> "Kumulus® WG", M28 * $H$11/$H$13, E28), "") -> 0.96 | L28: =IF(ISNUMBER(M28),M28*IF(ISNUMBER(J28),J28,$H$9),"") -> 1.6 | M28: =IF(AND( ISTEXT(D28), OR( ISNUMBER(F28), ISNUMBER(E28)), ISNUMBER(H28), ISNUMBER(I28), ISNUMBER($H$9), ISNUMBER($H$13)), IF(D28="Kumulus® WG", 3, IF(ISNUMBER(F28), F28, E28)*I28/$H$13), "") -> 0.32
E29: =IF( ISTEXT(D29), IFERROR(IF(VLOOKUP(D29,'HD-produkten'!$A$3:$E$64, 4, FALSE) > 0, VLOOKUP(D29,'HD-produkten'!$A$3:$E$64, 4, FALSE), ""), ""), "") | G29: =IF( ISTEXT(D29), IFERROR(IF(VLOOKUP(D29,'HD-produkten'!$A$3:$E$16, 3, FALSE) > 0, VLOOKUP(D29,'HD-produkten'!$A$3:$E$64, 3, FALSE), ""), ""), "") | I29: =IF(AND(ISNUMBER(H29),ISNUMBER($H$13),ISNUMBER($H$15), ISTEXT(D29)), $H$13*H29/$H$15, "") | K29: =IF(ISNUMBER(M29), $H$15/H29 * IF(D29 <> "Kumulus® WG", M29 * $H$11/$H$13, E29), "") | L29: =IF(ISNUMBER(M29),M29*IF(ISNUMBER(J29),J29,$H$9),"") | M29: =IF(AND( ISTEXT(D29), OR( ISNUMBER(F29), ISNUMBER(E29)), ISNUMBER(H29), ISNUMBER(I29), ISNUMBER($H$9), ISNUMBER($H$13)), IF(D29="Kumulus® WG", 3, IF(ISNUMBER(F29), F29, E29)*I29/$H$13), "")
E30: =IF( ISTEXT(D30), IFERROR(IF(VLOOKUP(D30,'HD-produkten'!$A$3:$E$64, 4, FALSE) > 0, VLOOKUP(D30,'HD-produkten'!$A$3:$E$64, 4, FALSE), ""), ""), "") | G30: =IF( ISTEXT(D30), IFERROR(IF(VLOOKUP(D30,'HD-produkten'!$A$3:$E$16, 3, FALSE) > 0, VLOOKUP(D30,'HD-produkten'!$A$3:$E$64, 3, FALSE), ""), ""), "") | I30: =IF(AND(ISNUMBER(H30),ISNUMBER($H$13),ISNUMBER($H$15), ISTEXT(D30)), $H$13*H30/$H$15, "") | K30: =IF(ISNUMBER(M30), $H$15/H30 * IF(D30 <> "Kumulus® WG", M30 * $H$11/$H$13, E30), "") | L30: =IF(ISNUMBER(M30),M30*IF(ISNUMBER(J30),J30,$H$9),"") | M30: =IF(AND( ISTEXT(D30), OR( ISNUMBER(F30), ISNUMBER(E30)), ISNUMBER(H30), ISNUMBER(I30), ISNUMBER($H$9), ISNUMBER($H$13)), IF(D30="Kumulus® WG", 3, IF(ISNUMBER(F30), F30, E30)*I30/$H$13), "")
E31: =IF( ISTEXT(D31), IFERROR(IF(VLOOKUP(D31,'HD-produkten'!$A$3:$E$64, 4, FALSE) > 0, VLOOKUP(D31,'HD-produkten'!$A$3:$E$64, 4, FALSE), ""), ""), "") | G31: =IF( ISTEXT(D31), IFERROR(IF(VLOOKUP(D31,'HD-produkten'!$A$3:$E$16, 3, FALSE) > 0, VLOOKUP(D31,'HD-produkten'!$A$3:$E$64, 3, FALSE), ""), ""), "") | I31: =IF(AND(ISNUMBER(H31),ISNUMBER($H$13),ISNUMBER($H$15), ISTEXT(D31)), $H$13*H31/$H$15, "") | K31: =IF(ISNUMBER(M31), $H$15/H31 * IF(D31 <> "Kumulus® WG", M31 * $H$11/$H$13, E31), "") | L31: =IF(ISNUMBER(M31),M31*IF(ISNUMBER(J31),J31,$H$9),"") | M31: =IF(AND( ISTEXT(D31), OR( ISNUMBER(F31), ISNUMBER(E31)), ISNUMBER(H31), ISNUMBER(I31), ISNUMBER($H$9), ISNUMBER($H$13)), IF(D31="Kumulus® WG", 3, IF(ISNUMBER(F31), F31, E31)*I31/$H$13), "")
E32: =IF( ISTEXT(D32), IFERROR(IF(VLOOKUP(D32,'HD-produkten'!$A$3:$E$64, 4, FALSE) > 0, VLOOKUP(D32,'HD-produkten'!$A$3:$E$64, 4, FALSE), ""), ""), "") | G32: =IF( ISTEXT(D32), IFERROR(IF(VLOOKUP(D32,'HD-produkten'!$A$3:$E$16, 3, FALSE) > 0, VLOOKUP(D32,'HD-produkten'!$A$3:$E$64, 3, FALSE), ""), ""), "") | I32: =IF(AND(ISNUMBER(H32),ISNUMBER($H$13),ISNUMBER($H$15), ISTEXT(D32)), $H$13*H32/$H$15, "") | K32: =IF(ISNUMBER(M32), $H$15/H32 * IF(D32 <> "Kumulus® WG", M32 * $H$11/$H$13, E32), "") | L32: =IF(ISNUMBER(M32),M32*IF(ISNUMBER(J32),J32,$H$9),"") | M32: =IF(AND( ISTEXT(D32), OR( ISNUMBER(F32), ISNUMBER(E32)), ISNUMBER(H32), ISNUMBER(I32), ISNUMBER($H$9), ISNUMBER($H$13)), IF(D32="Kumulus® WG", 3, IF(ISNUMBER(F32), F32, E32)*I32/$H$13), "")
E33: =IF( ISTEXT(D33), IFERROR(IF(VLOOKUP(D33,'HD-produkten'!$A$3:$E$64, 4, FALSE) > 0, VLOOKUP(D33,'HD-produkten'!$A$3:$E$64, 4, FALSE), ""), ""), "") | G33: =IF( ISTEXT(D33), IFERROR(IF(VLOOKUP(D33,'HD-produkten'!$A$3:$E$16, 3, FALSE) > 0, VLOOKUP(D33,'HD-produkten'!$A$3:$E$64, 3, FALSE), ""), ""), "") | I33: =IF(AND(ISNUMBER(H33),ISNUMBER($H$13),ISNUMBER($H$15), ISTEXT(D33)), $H$13*H33/$H$15, "") | K33: =IF(ISNUMBER(M33), $H$15/H33 * IF(D33 <> "Kumulus® WG", M33 * $H$11/$H$13, E33), "") | L33: =IF(ISNUMBER(M33),M33*IF(ISNUMBER(J33),J33,$H$9),"") | M33: =IF(AND( ISTEXT(D33), OR( ISNUMBER(F33), ISNUMBER(E33)), ISNUMBER(H33), ISNUMBER(I33), ISNUMBER($H$9), ISNUMBER($H$13)), IF(D33="Kumulus® WG", 3, IF(ISNUMBER(F33), F33, E33)*I33/$H$13), "")
B34: Letzte Vorblüte ES 57 – 61 | D34: Delan® Pro | E34: =IF( ISTEXT(D34), IFERROR(IF(VLOOKUP(D34,'HD-produkten'!$A$3:$E$64, 4, FALSE) > 0, VLOOKUP(D34,'HD-produkten'!$A$3:$E$64, 4, FALSE), ""), ""), "") -> 4 | G34: =IF( ISTEXT(D34), IFERROR(IF(VLOOKUP(D34,'HD-produkten'!$A$3:$E$16, 3, FALSE) > 0, VLOOKUP(D34,'HD-produkten'!$A$3:$E$64, 3, FALSE), ""), ""), "") -> L | H34: 6 | I34: =IF(AND(ISNUMBER(H34),ISNUMBER($H$13),ISNUMBER($H$15), ISTEXT(D34)), $H$13*H34/$H$15, "") -> 300 | K34: =IF(ISNUMBER(M34), $H$15/H34 * IF(D34 <> "Kumulus® WG", M34 * $H$11/$H$13, E34), "") -> 4.8 | L34: =IF(ISNUMBER(M34),M34*IF(ISNUMBER(J34),J34,$H$9),"") -> 12 | M34: =IF(AND( ISTEXT(D34), OR( ISNUMBER(F34), ISNUMBER(E34)), ISNUMBER(H34), ISNUMBER(I34), ISNUMBER($H$9), ISNUMBER($H$13)), IF(D34="Kumulus® WG", 3, IF(ISNUMBER(F34), F34, E34)*I34/$H$13), "") -> 2.4
D35: Vivando® | E35: =IF( ISTEXT(D35), IFERROR(IF(VLOOKUP(D35,'HD-produkten'!$A$3:$E$64, 4, FALSE) > 0, VLOOKUP(D35,'HD-produkten'!$A$3:$E$64, 4, FALSE), ""), ""), "") -> 0.32 | G35: =IF( ISTEXT(D35), IFERROR(IF(VLOOKUP(D35,'HD-produkten'!$A$3:$E$16, 3, FALSE) > 0, VLOOKUP(D35,'HD-produkten'!$A$3:$E$64, 3, FALSE), ""), ""), "") -> L | H35: 6 | I35: =IF(AND(ISNUMBER(H35),ISNUMBER($H$13),ISNUMBER($H$15), ISTEXT(D35)), $H$13*H35/$H$15, "") -> 300 | K35: =IF(ISNUMBER(M35), $H$15/H35 * IF(D35 <> "Kumulus® WG", M35 * $H$11/$H$13, E35), "") -> 0.384 | L35: =IF(ISNUMBER(M35),M35*IF(ISNUMBER(J35),J35,$H$9),"") -> 0.96 | M35: =IF(AND( ISTEXT(D35), OR( ISNUMBER(F35), ISNUMBER(E35)), ISNUMBER(H35), ISNUMBER(I35), ISNUMBER($H$9), ISNUMBER($H$13)), IF(D35="Kumulus® WG", 3, IF(ISNUMBER(F35), F35, E35)*I35/$H$13), "") -> 0.192
D36: Kumulus® WG | E36: =IF( ISTEXT(D36), IFERROR(IF(VLOOKUP(D36,'HD-produkten'!$A$3:$E$64, 4, FALSE) > 0, VLOOKUP(D36,'HD-produkten'!$A$3:$E$64, 4, FALSE), ""), ""), "") -> 3 | G36: =IF( ISTEXT(D36), IFERROR(IF(VLOOKUP(D36,'HD-produkten'!$A$3:$E$16, 3, FALSE) > 0, VLOOKUP(D36,'HD-produkten'!$A$3:$E$64, 3, FALSE), ""), ""), "") -> kg | H36: 6 | I36: =IF(AND(ISNUMBER(H36),ISNUMBER($H$13),ISNUMBER($H$15), ISTEXT(D36)), $H$13*H36/$H$15, "") -> 300 | K36: =IF(ISNUMBER(M36), $H$15/H36 * IF(D36 <> "Kumulus® WG", M36 * $H$11/$H$13, E36), "") -> 5 | L36: =IF(ISNUMBER(M36),M36*IF(ISNUMBER(J36),J36,$H$9),"") -> 15 | M36: =IF(AND( ISTEXT(D36), OR( ISNUMBER(F36), ISNUMBER(E36)), ISNUMBER(H36), ISNUMBER(I36), ISNUMBER($H$9), ISNUMBER($H$13)), IF(D36="Kumulus® WG", 3, IF(ISNUMBER(F36), F36, E36)*I36/$H$13), "") -> 3
E37: =IF( ISTEXT(D37), IFERROR(IF(VLOOKUP(D37,'HD-produkten'!$A$3:$E$64, 4, FALSE) > 0, VLOOKUP(D37,'HD-produkten'!$A$3:$E$64, 4, FALSE), ""), ""), "") | G37: =IF( ISTEXT(D37), IFERROR(IF(VLOOKUP(D37,'HD-produkten'!$A$3:$E$16, 3, FALSE) > 0, VLOOKUP(D37,'HD-produkten'!$A$3:$E$64, 3, FALSE), ""), ""), "") | I37: =IF(AND(ISNUMBER(H37),ISNUMBER($H$13),ISNUMBER($H$15), ISTEXT(D37)), $H$13*H37/$H$15, "") | K37: =IF(ISNUMBER(M37), $H$15/H37 * IF(D37 <> "Kumulus® WG", M37 * $H$11/$H$13, E37), "") | L37: =IF(ISNUMBER(M37),M37*IF(ISNUMBER(J37),J37,$H$9),"") | M37: =IF(AND( ISTEXT(D37), OR( ISNUMBER(F37), ISNUMBER(E37)), ISNUMBER(H37), ISNUMBER(I37), ISNUMBER($H$9), ISNUMBER($H$13)), IF(D37="Kumulus® WG", 3, IF(ISNUMBER(F37), F37, E37)*I37/$H$13), "")
E38: =IF( ISTEXT(D38), IFERROR(IF(VLOOKUP(D38,'HD-produkten'!$A$3:$E$64, 4, FALSE) > 0, VLOOKUP(D38,'HD-produkten'!$A$3:$E$64, 4, FALSE), ""), ""), "") | G38: =IF( ISTEXT(D38), IFERROR(IF(VLOOKUP(D38,'HD-produkten'!$A$3:$E$16, 3, FALSE) > 0, VLOOKUP(D38,'HD-produkten'!$A$3:$E$64, 3, FALSE), ""), ""), "") | I38: =IF(AND(ISNUMBER(H38),ISNUMBER($H$13),ISNUMBER($H$15), ISTEXT(D38)), $H$13*H38/$H$15, "") | K38: =IF(ISNUMBER(M38), $H$15/H38 * IF(D38 <> "Kumulus® WG", M38 * $H$11/$H$13, E38), "") | L38: =IF(ISNUMBER(M38),M38*IF(ISNUMBER(J38),J38,$H$9),"") | M38: =IF(AND( ISTEXT(D38), OR( ISNUMBER(F38), ISNUMBER(E38)), ISNUMBER(H38), ISNUMBER(I38), ISNUMBER($H$9), ISNUMBER($H$13)), IF(D38="Kumulus® WG", 3, IF(ISNUMBER(F38), F38, E38)*I38/$H$13), "")
E39: =IF( ISTEXT(D39), IFERROR(IF(VLOOKUP(D39,'HD-produkten'!$A$3:$E$64, 4, FALSE) > 0, VLOOKUP(D39,'HD-produkten'!$A$3:$E$64, 4, FALSE), ""), ""), "") | G39: =IF( ISTEXT(D39), IFERROR(IF(VLOOKUP(D39,'HD-produkten'!$A$3:$E$16, 3, FALSE) > 0, VLOOKUP(D39,'HD-produkten'!$A$3:$E$64, 3, FALSE), ""), ""), "") | I39: =IF(AND(ISNUMBER(H39),ISNUMBER($H$13),ISNUMBER($H$15), ISTEXT(D39)), $H$13*H39/$H$15, "") | K39: =IF(ISNUMBER(M39), $H$15/H39 * IF(D39 <> "Kumulus® WG", M39 * $H$11/$H$13, E39), "") | L39: =IF(ISNUMBER(M39),M39*IF(ISNUMBER(J39),J39,$H$9),"") | M39: =IF(AND( ISTEXT(D39), OR( ISNUMBER(F39), ISNUMBER(E39)), ISNUMBER(H39), ISNUMBER(I39), ISNUMBER($H$9), ISNUMBER($H$13)), IF(D39="Kumulus® WG", 3, IF(ISNUMBER(F39), F39, E39)*I39/$H$13), "")
E40: =IF( ISTEXT(D40), IFERROR(IF(VLOOKUP(D40,'HD-produkten'!$A$3:$E$64, 4, FALSE) > 0, VLOOKUP(D40,'HD-produkten'!$A$3:$E$64, 4, FALSE), ""), ""), "") | G40: =IF( ISTEXT(D40), IFERROR(IF(VLOOKUP(D40,'HD-produkten'!$A$3:$E$16, 3, FALSE) > 0, VLOOKUP(D40,'HD-produkten'!$A$3:$E$64, 3, FALSE), ""), ""), "") | I40: =IF(AND(ISNUMBER(H40),ISNUMBER($H$13),ISNUMBER($H$15), ISTEXT(D40)), $H$13*H40/$H$15, "") | K40: =IF(ISNUMBER(M40), $H$15/H40 * IF(D40 <> "Kumulus® WG", M40 * $H$11/$H$13, E40), "") | L40: =IF(ISNUMBER(M40),M40*IF(ISNUMBER(J40),J40,$H$9),"") | M40: =IF(AND( ISTEXT(D40), OR( ISNUMBER(F40), ISNUMBER(E40)), ISNUMBER(H40), ISNUMBER(I40), ISNUMBER($H$9), ISNUMBER($H$13)), IF(D40="Kumulus® WG", 3, IF(ISNUMBER(F40), F40, E40)*I40/$H$13), "")
E41: =IF( ISTEXT(D41), IFERROR(IF(VLOOKUP(D41,'HD-produkten'!$A$3:$E$64, 4, FALSE) > 0, VLOOKUP(D41,'HD-produkten'!$A$3:$E$64, 4, FALSE), ""), ""), "") | G41: =IF( ISTEXT(D41), IFERROR(IF(VLOOKUP(D41,'HD-produkten'!$A$3:$E$16, 3, FALSE) > 0, VLOOKUP(D41,'HD-produkten'!$A$3:$E$64, 3, FALSE), ""), ""), "") | I41: =IF(AND(ISNUMBER(H41),ISNUMBER($H$13),ISNUMBER($H$15), ISTEXT(D41)), $H$13*H41/$H$15, "") | K41: =IF(ISNUMBER(M41), $H$15/H41 * IF(D41 <> "Kumulus® WG", M41 * $H$11/$H$13, E41), "") | L41: =IF(ISNUMBER(M41),M41*IF(ISNUMBER(J41),J41,$H$9),"") | M41: =IF(AND( ISTEXT(D41), OR( ISNUMBER(F41), ISNUMBER(E41)), ISNUMBER(H41), ISNUMBER(I41), ISNUMBER($H$9), ISNUMBER($H$13)), IF(D41="Kumulus® WG", 3, IF(ISNUMBER(F41), F41, E41)*I41/$H$13), "")
B42: Abgehende Blüte ES 68 - 69 | D42: Aktuan® Gold | E42: =IF( ISTEXT(D42), IFERROR(IF(VLOOKUP(D42,'HD-produkten'!$A$3:$E$64, 4, FALSE) > 0, VLOOKUP(D42,'HD-produkten'!$A$3:$E$64, 4, FALSE), ""), ""), "") -> 1.56 | G42: =IF( ISTEXT(D42), IFERROR(IF(VLOOKUP(D42,'HD-produkten'!$A$3:$E$16, 3, FALSE) > 0, VLOOKUP(D42,'HD-produkten'!$A$3:$E$64, 3, FALSE), ""), ""), "") -> kg | H42: 8 | I42: =IF(AND(ISNUMBER(H42),ISNUMBER($H$13),ISNUMBER($H$15), ISTEXT(D42)), $H$13*H42/$H$15, "") -> 400 | K42: =IF(ISNUMBER(M42), $H$15/H42 * IF(D42 <> "Kumulus® WG", M42 * $H$11/$H$13, E42), "") -> 1.872 | L42: =IF(ISNUMBER(M42),M42*IF(ISNUMBER(J42),J42,$H$9),"") -> 6.24 | M42: =IF(AND( ISTEXT(D42), OR( ISNUMBER(F42), ISNUMBER(E42)), ISNUMBER(H42), ISNUMBER(I42), ISNUMBER($H$9), ISNUMBER($H$13)), IF(D42="Kumulus® WG", 3, IF(ISNUMBER(F42), F42, E42)*I42/$H$13), "") -> 1.248
D43: Sercadis® | E43: =IF( ISTEXT(D43), IFERROR(IF(VLOOKUP(D43,'HD-produkten'!$A$3:$E$64, 4, FALSE) > 0, VLOOKUP(D43,'HD-produkten'!$A$3:$E$64, 4, FALSE), ""), ""), "") -> 0.24 | G43: =IF( ISTEXT(D43), IFERROR(IF(VLOOKUP(D43,'HD-produkten'!$A$3:$E$16, 3, FALSE) > 0, VLOOKUP(D43,'HD-produkten'!$A$3:$E$64, 3, FALSE), ""), ""), "") -> L | H43: 8 | I43: =IF(AND(ISNUMBER(H43),ISNUMBER($H$13),ISNUMBER($H$15), ISTEXT(D43)), $H$13*H43/$H$15, "") -> 400 | K43: =IF(ISNUMBER(M43), $H$15/H43 * IF(D43 <> "Kumulus® WG", M43 * $H$11/$H$13, E43), "") -> 0.288 | L43: =IF(ISNUMBER(M43),M43*IF(ISNUMBER(J43),J43,$H$9),"") -> 0.96 | M43: =IF(AND( ISTEXT(D43), OR( ISNUMBER(F43), ISNUMBER(E43)), ISNUMBER(H43), ISNUMBER(I43), ISNUMBER($H$9), ISNUMBER($H$13)), IF(D43="Kumulus® WG", 3, IF(ISNUMBER(F43), F43, E43)*I43/$H$13), "") -> 0.192
D44: Kumulus® WG | E44: =IF( ISTEXT(D44), IFERROR(IF(VLOOKUP(D44,'HD-produkten'!$A$3:$E$64, 4, FALSE) > 0, VLOOKUP(D44,'HD-produkten'!$A$3:$E$64, 4, FALSE), ""), ""), "") -> 3 | G44: =IF( ISTEXT(D44), IFERROR(IF(VLOOKUP(D44,'HD-produkten'!$A$3:$E$16, 3, FALSE) > 0, VLOOKUP(D44,'HD-produkten'!$A$3:$E$64, 3, FALSE), ""), ""), "") -> kg | H44: 8 | I44: =IF(AND(ISNUMBER(H44),ISNUMBER($H$13),ISNUMBER($H$15), ISTEXT(D44)), $H$13*H44/$H$15, "") -> 400 | K44: =IF(ISNUMBER(M44), $H$15/H44 * IF(D44 <> "Kumulus® WG", M44 * $H$11/$H$13, E44), "") -> 3.75 | L44: =IF(ISNUMBER(M44),M44*IF(ISNUMBER(J44),J44,$H$9),"") -> 15 | M44: =IF(AND( ISTEXT(D44), OR( ISNUMBER(F44), ISNUMBER(E44)), ISNUMBER(H44), ISNUMBER(I44), ISNUMBER($H$9), ISNUMBER($H$13)), IF(D44="Kumulus® WG", 3, IF(ISNUMBER(F44), F44, E44)*I44/$H$13), "") -> 3
D45: Scala® | E45: =IF( ISTEXT(D45), IFERROR(IF(VLOOKUP(D45,'HD-produkten'!$A$3:$E$64, 4, FALSE) > 0, VLOOKUP(D45,'HD-produkten'!$A$3:$E$64, 4, FALSE), ""), ""), "") -> 2 | G45: =IF( ISTEXT(D45), IFERROR(IF(VLOOKUP(D45,'HD-produkten'!$A$3:$E$16, 3, FALSE) > 0, VLOOKUP(D45,'HD-produkten'!$A$3:$E$64, 3, FALSE), ""), ""), "") -> L | H45: 8 | I45: =IF(AND(ISNUMBER(H45),ISNUMBER($H$13),ISNUMBER($H$15), ISTEXT(D45)), $H$13*H45/$H$15, "") -> 400 | K45: =IF(ISNUMBER(M45), $H$15/H45 * IF(D45 <> "Kumulus® WG", M45 * $H$11/$H$13, E45), "") -> 2.4 | L45: =IF(ISNUMBER(M45),M45*IF(ISNUMBER(J45),J45,$H$9),"") -> 8 | M45: =IF(AND( ISTEXT(D45), OR( ISNUMBER(F45), ISNUMBER(E45)), ISNUMBER(H45), ISNUMBER(I45), ISNUMBER($H$9), ISNUMBER($H$13)), IF(D45="Kumulus® WG", 3, IF(ISNUMBER(F45), F45, E45)*I45/$H$13), "") -> 1.6
E46: =IF( ISTEXT(D46), IFERROR(IF(VLOOKUP(D46,'HD-produkten'!$A$3:$E$64, 4, FALSE) > 0, VLOOKUP(D46,'HD-produkten'!$A$3:$E$64, 4, FALSE), ""), ""), "") | G46: =IF( ISTEXT(D46), IFERROR(IF(VLOOKUP(D46,'HD-produkten'!$A$3:$E$16, 3, FALSE) > 0, VLOOKUP(D46,'HD-produkten'!$A$3:$E$64, 3, FALSE), ""), ""), "") | I46: =IF(AND(ISNUMBER(H46),ISNUMBER($H$13),ISNUMBER($H$15), ISTEXT(D46)), $H$13*H46/$H$15, "") | K46: =IF(ISNUMBER(M46), $H$15/H46 * IF(D46 <> "Kumulus® WG", M46 * $H$11/$H$13, E46), "") | L46: =IF(ISNUMBER(M46),M46*IF(ISNUMBER(J46),J46,$H$9),"") | M46: =IF(AND( ISTEXT(D46), OR( ISNUMBER(F46), ISNUMBER(E46)), ISNUMBER(H46), ISNUMBER(I46), ISNUMBER($H$9), ISNUMBER($H$13)), IF(D46="Kumulus® WG", 3, IF(ISNUMBER(F46), F46, E46)*I46/$H$13), "")
E47: =IF( ISTEXT(D47), IFERROR(IF(VLOOKUP(D47,'HD-produkten'!$A$3:$E$64, 4, FALSE) > 0, VLOOKUP(D47,'HD-produkten'!$A$3:$E$64, 4, FALSE), ""), ""), "") | G47: =IF( ISTEXT(D47), IFERROR(IF(VLOOKUP(D47,'HD-produkten'!$A$3:$E$16, 3, FALSE) > 0, VLOOKUP(D47,'HD-produkten'!$A$3:$E$64, 3, FALSE), ""), ""), "") | I47: =IF(AND(ISNUMBER(H47),ISNUMBER($H$13),ISNUMBER($H$15), ISTEXT(D47)), $H$13*H47/$H$15, "") | K47: =IF(ISNUMBER(M47), $H$15/H47 * IF(D47 <> "Kumulus® WG", M47 * $H$11/$H$13, E47), "") | L47: =IF(ISNUMBER(M47),M47*IF(ISNUMBER(J47),J47,$H$9),"") | M47: =IF(AND( ISTEXT(D47), OR( ISNUMBER(F47), ISNUMBER(E47)), ISNUMBER(H47), ISNUMBER(I47), ISNUMBER($H$9), ISNUMBER($H$13)), IF(D47="Kumulus® WG", 3, IF(ISNUMBER(F47), F47, E47)*I47/$H$13), "")
E48: =IF( ISTEXT(D48), IFERROR(IF(VLOOKUP(D48,'HD-produkten'!$A$3:$E$64, 4, FALSE) > 0, VLOOKUP(D48,'HD-produkten'!$A$3:$E$64, 4, FALSE), ""), ""), "") | G48: =IF( ISTEXT(D48), IFERROR(IF(VLOOKUP(D48,'HD-produkten'!$A$3:$E$16, 3, FALSE) > 0, VLOOKUP(D48,'HD-produkten'!$A$3:$E$64, 3, FALSE), ""), ""), "") | I48: =IF(AND(ISNUMBER(H48),ISNUMBER($H$13),ISNUMBER($H$15), ISTEXT(D48)), $H$13*H48/$H$15, "") | K48: =IF(ISNUMBER(M48), $H$15/H48 * IF(D48 <> "Kumulus® WG", M48 * $H$11/$H$13, E48), "") | L48: =IF(ISNUMBER(M48),M48*IF(ISNUMBER(J48),J48,$H$9),"") | M48: =IF(AND( ISTEXT(D48), OR( ISNUMBER(F48), ISNUMBER(E48)), ISNUMBER(H48), ISNUMBER(I48), ISNUMBER($H$9), ISNUMBER($H$13)), IF(D48="Kumulus® WG", 3, IF(ISNUMBER(F48), F48, E48)*I48/$H$13), "")
E49: =IF( ISTEXT(D49), IFERROR(IF(VLOOKUP(D49,'HD-produkten'!$A$3:$E$64, 4, FALSE) > 0, VLOOKUP(D49,'HD-produkten'!$A$3:$E$64, 4, FALSE), ""), ""), "") | G49: =IF( ISTEXT(D49), IFERROR(IF(VLOOKUP(D49,'HD-produkten'!$A$3:$E$16, 3, FALSE) > 0, VLOOKUP(D49,'HD-produkten'!$A$3:$E$64, 3, FALSE), ""), ""), "") | I49: =IF(AND(ISNUMBER(H49),ISNUMBER($H$13),ISNUMBER($H$15), ISTEXT(D49)), $H$13*H49/$H$15, "") | K49: =IF(ISNUMBER(M49), $H$15/H49 * IF(D49 <> "Kumulus® WG", M49 * $H$11/$H$13, E49), "") | L49: =IF(ISNUMBER(M49),M49*IF(ISNUMBER(J49),J49,$H$9),"") | M49: =IF(AND( ISTEXT(D49), OR( ISNUMBER(F49), ISNUMBER(E49)), ISNUMBER(H49), ISNUMBER(I49), ISNUMBER($H$9), ISNUMBER($H$13)), IF(D49="Kumulus® WG", 3, IF(ISNUMBER(F49), F49, E49)*I49/$H$13), "")
...

Sheet Gesamtbedarf BASF
B1: Gesamtbedarf
D2: . | E2: . | F2: . | G2: . | H2: . | I2: .
B4: . | D4: . | E4: . | F4: . | G4: . | H4: . | I4: .
B5: Ergebnis
B7: Betriebsgröße : | C7: =IF(ISNUMBER('Dosierrechner BASF'!H9), CONCATENATE('Dosierrechner BASF'!H9, " ha"), "") -> 5 ha
B8: Gesamtkosten : | C8: =IF(SUM(H13:H43)/2 > 0, SUM(H13:H43)/2, "")
B9: Gesamtkosten pro ha : | C9: =IF(AND(C8>0, C8<>"", ISNUMBER('Dosierrechner BASF'!H9)), C8/'Dosierrechner BASF'!H9, "")
B12: Produkt | C12: Pfl. Reg. Nr. | D12: Industrie | E12: Kosten pro Einheit [kg, L, Stk] | F12: Gesamtmenge | H12: Gesamtkosten
B13: {=IFERROR(INDEX( 'HD-produkten'!$A$3:$A$48, SMALL( IF(0 < 'HD-produkten'!$F$3:$F$48, ROW('HD-produkten'!$F$3:$F$48)-2, ""), ROW(A1))), "")} -> Aktuan® Gold | C13: =IF( B13<>"", VLOOKUP(B13,'HD-produkten'!$A$3:$F$113, 5, FALSE), "") -> 3207 | D13: =IF( B13<>"", VLOOKUP(B13,'HD-produkten'!$A$3:$F$113, 2, FALSE), "") -> Basf | E13: 0 | F13: =IF( B13<>"", VLOOKUP(B13,'HD-produkten'!$A$3:$F$113, 6, FALSE), "") -> 6.24 | G13: =IF( B13<>"", VLOOKUP(B13,'HD-produkten'!$A$3:$F$113, 3, FALSE), "") -> kg | H13: =IF(B13<>"",E13*F13,"Keine Daten verfügbar") -> 0
B14: {=IFERROR(INDEX( 'HD-produkten'!$A$3:$A$48, SMALL( IF(0 < 'HD-produkten'!$F$3:$F$48, ROW('HD-produkten'!$F$3:$F$48)-2, ""), ROW(A2))), "")} -> Cantus® | C14: =IF( B14<>"", VLOOKUP(B14,'HD-produkten'!$A$3:$F$113, 5, FALSE), "") -> 3149 | D14: =IF( B14<>"", VLOOKUP(B14,'HD-produkten'!$A$3:$F$113, 2, FALSE), "") -> Basf | E14: 0 | F14: =IF( B14<>"", VLOOKUP(B14,'HD-produkten'!$A$3:$F$113, 6, FALSE), "") -> 6 | G14: =IF( B14<>"", VLOOKUP(B14,'HD-produkten'!$A$3:$F$113, 3, FALSE), "") -> kg | H14: =IF(B14<>"",E14*F14, IF(B13<>"", SUM(H$13:H13), "")) -> 0
B15: {=IFERROR(INDEX( 'HD-produkten'!$A$3:$A$48, SMALL( IF(0 < 'HD-produkten'!$F$3:$F$48, ROW('HD-produkten'!$F$3:$F$48)-2, ""), ROW(A3))), "")} -> Collis® | C15: =IF( B15<>"", VLOOKUP(B15,'HD-produkten'!$A$3:$F$113, 5, FALSE), "") -> 3299 | D15: =IF( B15<>"", VLOOKUP(B15,'HD-produkten'!$A$3:$F$113, 2, FALSE), "") -> Basf | E15: 0 | F15: =IF( B15<>"", VLOOKUP(B15,'HD-produkten'!$A$3:$F$113, 6, FALSE), "") -> 3.2 | G15: =IF( B15<>"", VLOOKUP(B15,'HD-produkten'!$A$3:$F$113, 3, FALSE), "") -> L | H15: =IF(B15<>"",E15*F15, IF(B14<>"", SUM(H$13:H14), "")) -> 0
B16: {=IFERROR(INDEX( 'HD-produkten'!$A$3:$A$48, SMALL( IF(0 < 'HD-produkten'!$F$3:$F$48, ROW('HD-produkten'!$F$3:$F$48)-2, ""), ROW(A4))), "")} -> Copac® Flow | C16: =IF( B16<>"", VLOOKUP(B16,'HD-produkten'!$A$3:$F$113, 5, FALSE), "") -> 3675 | D16: =IF( B16<>"", VLOOKUP(B16,'HD-produkten'!$A$3:$F$113, 2, FALSE), "") -> Basf | E16: 0 | F16: =IF( B16<>"", VLOOKUP(B16,'HD-produkten'!$A$3:$F$113, 6, FALSE), "") -> 7.5 | G16: =IF( B16<>"", VLOOKUP(B16,'HD-produkten'!$A$3:$F$113, 3, FALSE), "") -> L | H16: =IF(B16<>"",E16*F16, IF(B15<>"", SUM(H$13:H15), "")) -> 0
B17: {=IFERROR(INDEX( 'HD-produkten'!$A$3:$A$48, SMALL( IF(0 < 'HD-produkten'!$F$3:$F$48, ROW('HD-produkten'!$F$3:$F$48)-2, ""), ROW(A5))), "")} -> Delan® Pro | C17: =IF( B17<>"", VLOOKUP(B17,'HD-produkten'!$A$3:$F$113, 5, FALSE), "") -> 3632 | D17: =IF( B17<>"", VLOOKUP(B17,'HD-produkten'!$A$3:$F$113, 2, FALSE), "") -> Basf | E17: 0 | F17: =IF( B17<>"", VLOOKUP(B17,'HD-produkten'!$A$3:$F$113, 6, FALSE), "") -> 32 | G17: =IF( B17<>"", VLOOKUP(B17,'HD-produkten'!$A$3:$F$113, 3, FALSE), "") -> L | H17: =IF(B17<>"",E17*F17, IF(B16<>"", SUM(H$13:H16), "")) -> 0
B18: {=IFERROR(INDEX( 'HD-produkten'!$A$3:$A$48, SMALL( IF(0 < 'HD-produkten'!$F$3:$F$48, ROW('HD-produkten'!$F$3:$F$48)-2, ""), ROW(A6))), "")} -> Enervin® | C18: =IF( B18<>"", VLOOKUP(B18,'HD-produkten'!$A$3:$F$113, 5, FALSE), "") -> 3494 | D18: =IF( B18<>"", VLOOKUP(B18,'HD-produkten'!$A$3:$F$113, 2, FALSE), "") -> Basf | E18: 0 | F18: =IF( B18<>"", VLOOKUP(B18,'HD-produkten'!$A$3:$F$113, 6, FALSE), "") -> 15 | G18: =IF( B18<>"", VLOOKUP(B18,'HD-produkten'!$A$3:$F$113, 3, FALSE), "") -> kg | H18: =IF(B18<>"",E18*F18, IF(B17<>"", SUM(H$13:H17), "")) -> 0
B19: {=IFERROR(INDEX( 'HD-produkten'!$A$3:$A$48, SMALL( IF(0 < 'HD-produkten'!$F$3:$F$48, ROW('HD-produkten'!$F$3:$F$48)-2, ""), ROW(A7))), "")} -> Kumulus® WG | C19: =IF( B19<>"", VLOOKUP(B19,'HD-produkten'!$A$3:$F$113, 5, FALSE), "") -> 396 | D19: =IF( B19<>"", VLOOKUP(B19,'HD-produkten'!$A$3:$F$113, 2, FALSE), "") -> Basf | E19: 0 | F19: =IF( B19<>"", VLOOKUP(B19,'HD-produkten'!$A$3:$F$113, 6, FALSE), "") -> 110 | G19: =IF( B19<>"", VLOOKUP(B19,'HD-produkten'!$A$3:$F$113, 3, FALSE), "") -> kg | H19: =IF(B19<>"",E19*F19, IF(B18<>"", SUM(H$13:H18), "")) -> 0
B20: {=IFERROR(INDEX( 'HD-produkten'!$A$3:$A$48, SMALL( IF(0 < 'HD-produkten'!$F$3:$F$48, ROW('HD-produkten'!$F$3:$F$48)-2, ""), ROW(A8))), "")} -> Polyram® WG | C20: =IF( B20<>"", VLOOKUP(B20,'HD-produkten'!$A$3:$F$113, 5, FALSE), "") -> 3384 | D20: =IF( B20<>"", VLOOKUP(B20,'HD-produkten'!$A$3:$F$113, 2, FALSE), "") -> Basf | E20: 0 | F20: =IF( B20<>"", VLOOKUP(B20,'HD-produkten'!$A$3:$F$113, 6, FALSE), "") -> 12.8 | G20: =IF( B20<>"", VLOOKUP(B20,'HD-produkten'!$A$3:$F$113, 3, FALSE), "") -> kg | H20: =IF(B20<>"",E20*F20, IF(B19<>"", SUM(H$13:H19), "")) -> 0
B21: {=IFERROR(INDEX( 'HD-produkten'!$A$3:$A$48, SMALL( IF(0 < 'HD-produkten'!$F$3:$F$48, ROW('HD-produkten'!$F$3:$F$48)-2, ""), ROW(A9))), "")} -> Scala® | C21: =IF( B21<>"", VLOOKUP(B21,'HD-produkten'!$A$3:$F$113, 5, FALSE), "") -> 3064 | D21: =IF( B21<>"", VLOOKUP(B21,'HD-produkten'!$A$3:$F$113, 2, FALSE), "") -> Basf | E21: 0 | F21: =IF( B21<>"", VLOOKUP(B21,'HD-produkten'!$A$3:$F$113, 6, FALSE), "") -> 8 | G21: =IF( B21<>"", VLOOKUP(B21,'HD-produkten'!$A$3:$F$113, 3, FALSE), "") -> L | H21: =IF(B21<>"",E21*F21, IF(B20<>"", SUM(H$13:H20), "")) -> 0
B22: {=IFERROR(INDEX( 'HD-produkten'!$A$3:$A$48, SMALL( IF(0 < 'HD-produkten'!$F$3:$F$48, ROW('HD-produkten'!$F$3:$F$48)-2, ""), ROW(A10))), "")} -> Sercadis® | C22: =IF( B22<>"", VLOOKUP(B22,'HD-produkten'!$A$3:$F$113, 5, FALSE), "") -> 3796 | D22: =IF( B22<>"", VLOOKUP(B22,'HD-produkten'!$A$3:$F$113, 2, FALSE), "") -> Basf | E22: 0 | F22: =IF( B22<>"", VLOOKUP(B22,'HD-produkten'!$A$3:$F$113, 6, FALSE), "") -> 2.16 | G22: =IF( B22<>"", VLOOKUP(B22,'HD-produkten'!$A$3:$F$113, 3, FALSE), "") -> L | H22: =IF(B22<>"",E22*F22, IF(B21<>"", SUM(H$13:H21), "")) -> 0
B23: {=IFERROR(INDEX( 'HD-produkten'!$A$3:$A$48, SMALL( IF(0 < 'HD-produkten'!$F$3:$F$48, ROW('HD-produkten'!$F$3:$F$48)-2, ""), ROW(A11))), "")} -> Vivando® | C23: =IF( B23<>"", VLOOKUP(B23,'HD-produkten'!$A$3:$F$113, 5, FALSE), "") -> 3356 | D23: =IF( B23<>"", VLOOKUP(B23,'HD-produkten'!$A$3:$F$113, 2, FALSE), "") -> Basf | E23: 0 | F23: =IF( B23<>"", VLOOKUP(B23,'HD-produkten'!$A$3:$F$113, 6, FALSE), "") -> 4.16 | G23: =IF( B23<>"", VLOOKUP(B23,'HD-produkten'!$A$3:$F$113, 3, FALSE), "") -> L | H23: =IF(B23<>"",E23*F23, IF(B22<>"", SUM(H$13:H22), "")) -> 0
B24: {=IFERROR(INDEX( 'HD-produkten'!$A$3:$A$48, SMALL( IF(0 < 'HD-produkten'!$F$3:$F$48, ROW('HD-produkten'!$F$3:$F$48)-2, ""), ROW(A12))), "")} -> Zampro® | C24: =IF( B24<>"", VLOOKUP(B24,'HD-produkten'!$A$3:$F$113, 5, FALSE), "") -> 3672 | D24: =IF( B24<>"", VLOOKUP(B24,'HD-produkten'!$A$3:$F$113, 2, FALSE), "") -> Basf | E24: 0 | F24: =IF( B24<>"", VLOOKUP(B24,'HD-produkten'!$A$3:$F$113, 6, FALSE), "") -> 7.5 | G24: =IF( B24<>"", VLOOKUP(B24,'HD-produkten'!$A$3:$F$113, 3, FALSE), "") -> L | H24: =IF(B24<>"",E24*F24, IF(B23<>"", SUM(H$13:H23), "")) -> 0
B25: {=IFERROR(INDEX( 'HD-produkten'!$A$3:$A$48, SMALL( IF(0 < 'HD-produkten'!$F$3:$F$48, ROW('HD-produkten'!$F$3:$F$48)-2, ""), ROW(A13))), "")} -> Prosper | E25: 0 | F25: =IF( B25<>"", VLOOKUP(B25,'HD-produkten'!$A$3:$F$113, 6, FALSE), "") -> 1.6 | G25: =IF( B25<>"", VLOOKUP(B25,'HD-produkten'!$A$3:$F$113, 3, FALSE), "") | H25: =IF(B25<>"",E25*F25, IF(B24<>"", SUM(H$13:H24), "")) -> 0
B26: {=IFERROR(INDEX( 'HD-produkten'!$A$3:$A$48, SMALL( IF(0 < 'HD-produkten'!$F$3:$F$48, ROW('HD-produkten'!$F$3:$F$48)-2, ""), ROW(A14))), "")} | C26: =IF( B26<>"", VLOOKUP(B26,'HD-produkten'!$A$3:$F$113, 5, FALSE), "") | D26: =IF( B26<>"", VLOOKUP(B26,'HD-produkten'!$A$3:$F$113, 2, FALSE), "") | E26: 0 | F26: =IF( B26<>"", VLOOKUP(B26,'HD-produkten'!$A$3:$F$113, 6, FALSE), "") | G26: =IF( B26<>"", VLOOKUP(B26,'HD-produkten'!$A$3:$F$113, 3, FALSE), "") | H26: =IF(B26<>"",E26*F26, IF(B25<>"", SUM(H$13:H25), "")) -> 0
B27: {=IFERROR(INDEX( 'HD-produkten'!$A$3:$A$48, SMALL( IF(0 < 'HD-produkten'!$F$3:$F$48, ROW('HD-produkten'!$F$3:$F$48)-2, ""), ROW(A15))), "")} | C27: =IF( B27<>"", VLOOKUP(B27,'HD-produkten'!$A$3:$F$113, 5, FALSE), "") | D27: =IF( B27<>"", VLOOKUP(B27,'HD-produkten'!$A$3:$F$113, 2, FALSE), "") | E27: 0 | F27: =IF( B27<>"", VLOOKUP(B27,'HD-produkten'!$A$3:$F$113, 6, FALSE), "") | G27: =IF( B27<>"", VLOOKUP(B27,'HD-produkten'!$A$3:$F$113, 3, FALSE), "") | H27: =IF(B27<>"",E27*F27, IF(B26<>"", SUM(H$13:H26), ""))
B28: {=IFERROR(INDEX( 'HD-produkten'!$A$3:$A$48, SMALL( IF(0 < 'HD-produkten'!$F$3:$F$48, ROW('HD-produkten'!$F$3:$F$48)-2, ""), ROW(A16))), "")} | C28: =IF( B28<>"", VLOOKUP(B28,'HD-produkten'!$A$3:$F$113, 5, FALSE), "") | D28: =IF( B28<>"", VLOOKUP(B28,'HD-produkten'!$A$3:$F$113, 2, FALSE), "") | E28: 0 | F28: =IF( B28<>"", VLOOKUP(B28,'HD-produkten'!$A$3:$F$113, 6, FALSE), "") | G28: =IF( B28<>"", VLOOKUP(B28,'HD-produkten'!$A$3:$F$113, 3, FALSE), "") | H28: =IF(B28<>"",E28*F28, IF(B27<>"", SUM(H$13:H27), ""))
B29: {=IFERROR(INDEX( 'HD-produkten'!$A$3:$A$48, SMALL( IF(0 < 'HD-produkten'!$F$3:$F$48, ROW('HD-produkten'!$F$3:$F$48)-2, ""), ROW(A17))), "")} | C29: =IF( B29<>"", VLOOKUP(B29,'HD-produkten'!$A$3:$F$113, 5, FALSE), "") | D29: =IF( B29<>"", VLOOKUP(B29,'HD-produkten'!$A$3:$F$113, 2, FALSE), "") | E29: 0 | F29: =IF( B29<>"", VLOOKUP(B29,'HD-produkten'!$A$3:$F$113, 6, FALSE), "") | G29: =IF( B29<>"", VLOOKUP(B29,'HD-produkten'!$A$3:$F$113, 3, FALSE), "") | H29: =IF(B29<>"",E29*F29, IF(B28<>"", SUM(H$13:H28), ""))
B30: {=IFERROR(INDEX( 'HD-produkten'!$A$3:$A$48, SMALL( IF(0 < 'HD-produkten'!$F$3:$F$48, ROW('HD-produkten'!$F$3:$F$48)-2, ""), ROW(A18))), "")} | C30: =IF( B30<>"", VLOOKUP(B30,'HD-produkten'!$A$3:$F$113, 5, FALSE), "") | D30: =IF( B30<>"", VLOOKUP(B30,'HD-produkten'!$A$3:$F$113, 2, FALSE), "") | E30: 0 | F30: =IF( B30<>"", VLOOKUP(B30,'HD-produkten'!$A$3:$F$113, 6, FALSE), "") | G30: =IF( B30<>"", VLOOKUP(B30,'HD-produkten'!$A$3:$F$113, 3, FALSE), "") | H30: =IF(B30<>"",E30*F30, IF(B29<>"", SUM(H$13:H29), ""))
B31: {=IFERROR(INDEX( 'HD-produkten'!$A$3:$A$48, SMALL( IF(0 < 'HD-produkten'!$F$3:$F$48, ROW('HD-produkten'!$F$3:$F$48)-2, ""), ROW(A19))), "")} | C31: =IF( B31<>"", VLOOKUP(B31,'HD-produkten'!$A$3:$F$113, 5, FALSE), "") | D31: =IF( B31<>"", VLOOKUP(B31,'HD-produkten'!$A$3:$F$113, 2, FALSE), "") | E31: 0 | F31: =IF( B31<>"", VLOOKUP(B31,'HD-produkten'!$A$3:$F$113, 6, FALSE), "") | G31: =IF( B31<>"", VLOOKUP(B31,'HD-produkten'!$A$3:$F$113, 3, FALSE), "") | H31: =IF(B31<>"",E31*F31, IF(B30<>"", SUM(H$13:H30), ""))
B32: {=IFERROR(INDEX( 'HD-produkten'!$A$3:$A$48, SMALL( IF(0 < 'HD-produkten'!$F$3:$F$48, ROW('HD-produkten'!$F$3:$F$48)-2, ""), ROW(A20))), "")} | C32: =IF( B32<>"", VLOOKUP(B32,'HD-produkten'!$A$3:$F$113, 5, FALSE), "") | D32: =IF( B32<>"", VLOOKUP(B32,'HD-produkten'!$A$3:$F$113, 2, FALSE), "") | E32: 0 | F32: =IF( B32<>"", VLOOKUP(B32,'HD-produkten'!$A$3:$F$113, 6, FALSE), "") | G32: =IF( B32<>"", VLOOKUP(B32,'HD-produkten'!$A$3:$F$113, 3, FALSE), "") | H32: =IF(B32<>"",E32*F32, IF(B31<>"", SUM(H$13:H31), ""))
B33: {=IFERROR(INDEX( 'HD-produkten'!$A$3:$A$48, SMALL( IF(0 < 'HD-produkten'!$F$3:$F$48, ROW('HD-produkten'!$F$3:$F$48)-2, ""), ROW(A21))), "")} | C33: =IF( B33<>"", VLOOKUP(B33,'HD-produkten'!$A$3:$F$113, 5, FALSE), "") | D33: =IF( B33<>"", VLOOKUP(B33,'HD-produkten'!$A$3:$F$113, 2, FALSE), "") | E33: 0 | F33: =IF( B33<>"", VLOOKUP(B33,'HD-produkten'!$A$3:$F$113, 6, FALSE), "") | G33: =IF( B33<>"", VLOOKUP(B33,'HD-produkten'!$A$3:$F$113, 3, FALSE), "") | H33: =IF(B33<>"",E33*F33, IF(B32<>"", SUM(H$13:H32), ""))
B34: {=IFERROR(INDEX( 'HD-produkten'!$A$3:$A$48, SMALL( IF(0 < 'HD-produkten'!$F$3:$F$48, ROW('HD-produkten'!$F$3:$F$48)-2, ""), ROW(A22))), "")} | C34: =IF( B34<>"", VLOOKUP(B34,'HD-produkten'!$A$3:$F$113, 5, FALSE), "") | D34: =IF( B34<>"", VLOOKUP(B34,'HD-produkten'!$A$3:$F$113, 2, FALSE), "") | E34: 0 | F34: =IF( B34<>"", VLOOKUP(B34,'HD-produkten'!$A$3:$F$113, 6, FALSE), "") | G34: =IF( B34<>"", VLOOKUP(B34,'HD-produkten'!$A$3:$F$113, 3, FALSE), "") | H34: =IF(B34<>"",E34*F34, IF(B33<>"", SUM(H$13:H33), ""))
B35: {=IFERROR(INDEX( 'HD-produkten'!$A$3:$A$48, SMALL( IF(0 < 'HD-produkten'!$F$3:$F$48, ROW('HD-produkten'!$F$3:$F$48)-2, ""), ROW(A23))), "")} | C35: =IF( B35<>"", VLOOKUP(B35,'HD-produkten'!$A$3:$F$113, 5, FALSE), "") | D35: =IF( B35<>"", VLOOKUP(B35,'HD-produkten'!$A$3:$F$113, 2, FALSE), "") | E35: 0 | F35: =IF( B35<>"", VLOOKUP(B35,'HD-produkten'!$A$3:$F$113, 6, FALSE), "") | G35: =IF( B35<>"", VLOOKUP(B35,'HD-produkten'!$A$3:$F$113, 3, FALSE), "") | H35: =IF(B35<>"",E35*F35, IF(B34<>"", SUM(H$13:H34), ""))
B36: {=IFERROR(INDEX( 'HD-produkten'!$A$3:$A$48, SMALL( IF(0 < 'HD-produkten'!$F$3:$F$48, ROW('HD-produkten'!$F$3:$F$48)-2, ""), ROW(A24))), "")} | C36: =IF( B36<>"", VLOOKUP(B36,'HD-produkten'!$A$3:$F$113, 5, FALSE), "") | D36: =IF( B36<>"", VLOOKUP(B36,'HD-produkten'!$A$3:$F$113, 2, FALSE), "") | E36: 0 | F36: =IF( B36<>"", VLOOKUP(B36,'HD-produkten'!$A$3:$F$113, 6, FALSE), "") | G36: =IF( B36<>"", VLOOKUP(B36,'HD-produkten'!$A$3:$F$113, 3, FALSE), "") | H36: =IF(B36<>"",E36*F36, IF(B35<>"", SUM(H$13:H35), ""))
B37: {=IFERROR(INDEX( 'HD-produkten'!$A$3:$A$48, SMALL( IF(0 < 'HD-produkten'!$F$3:$F$48, ROW('HD-produkten'!$F$3:$F$48)-2, ""), ROW(A25))), "")} | C37: =IF( B37<>"", VLOOKUP(B37,'HD-produkten'!$A$3:$F$113, 5, FALSE), "") | D37: =IF( B37<>"", VLOOKUP(B37,'HD-produkten'!$A$3:$F$113, 2, FALSE), "") | E37: 0 | F37: =IF( B37<>"", VLOOKUP(B37,'HD-produkten'!$A$3:$F$113, 6, FALSE), "") | G37: =IF( B37<>"", VLOOKUP(B37,'HD-produkten'!$A$3:$F$113, 3, FALSE), "") | H37: =IF(B37<>"",E37*F37, IF(B36<>"", SUM(H$13:H36), ""))
... B43: {=IFERROR(INDEX( 'HD-produkten'!$A$3:$A$48, SMALL( IF(0 < 'HD-produkten'!$F$3:$F$48, ROW('HD-produkten'!$F$3:$F$48)-2, ""), ROW(A31))), "")} | C43: =IF( B43<>"", VLOOKUP(B43,'HD-produkten'!$A$3:$F$113, 5, FALSE), "") | D43: =IF( B43<>"", VLOOKUP(B43,'HD-produkten'!$A$3:$F$113, 2, FALSE), "") | E43: 0 | F43: =IF( B43<>"", VLOOKUP(B43,'HD-produkten'!$A$3:$F$113, 6, FALSE), "") | G43: =IF( B43<>"", VLOOKUP(B43,'HD-produkten'!$A$3:$F$113, 3, FALSE), "") | H43: =IF(B43<>"",E43*F43, IF(B42<>"", SUM(H$13:H42), ""))

Sheet Dosierrechner Blanko
D1: Berechnung der Pflanzenschutzmittelmenge für eine bestimmte Anlage
E2: . | F2: . | G2: . | H2: . | I2: . | J2: . | K2: . | L2: . | M2: . | N2: . | O2: .
B5: Kopfdaten: | H5: Bitte, fügen Sie folgende Daten ein
B7: Name :
B9: Betriebsgröße [ha] :
B11: Inhalt Spritzfass [L] :
B13: Wasseraufwandmenge/ha* bei voller Belaubung [L] :
B15: Anzahl der offenen Düsen bei voller Belaubung [Stk] :
B18: Zeitpunkt | C18: Datum [TT.MM] | D18: Produkt [Auswahl] | E18: Empfohlene Aufwandmenge bei voller Belaubung [kg, L, Stk / ha] | F18: Aktuellle Aufwandmenge bei voller Belaubung [kg, L, Stk / ha] | G18: Einheit [kg, L, Stk] | H18: Verwendete Düsenanzahl [Stk] | I18: Spritzbrühe [L / ha] | J18: Behandelte Fläche [ha] | K18: Produktmenge pro Spritzfassfüllung [kg, L, Stk] | L18: Gesamtproduktbedarf laut Entwicklunsstadien für den Betrieb [kg, L, Stk] | M18: Berechnete Aufwandmenge pro ha [kg, L, Stk] | N18: Bemerkungen
B19: Austrieb ES 09 | E19: =IF( ISTEXT(D19), IF(D19 = "Kumulus® WG", 7, IFERROR(IF(VLOOKUP(D19,'HD-produkten'!$A$3:$E$64, 4, FALSE) > 0, VLOOKUP(D19,'HD-produkten'!$A$3:$E$64, 4, FALSE), ""), "")), "") | G19: =IF( ISTEXT(D19), IFERROR(IF(VLOOKUP(D19,'HD-produkten'!$A$3:$E$16, 3, FALSE) > 0, VLOOKUP(D19,'HD-produkten'!$A$3:$E$64, 3, FALSE), ""), ""), "") | I19: =IF(AND(ISNUMBER(H19),ISNUMBER($H$13),ISNUMBER($H$15), ISTEXT(D19), D19 <> "Kumulus® WG"), $H$13*H19/$H$15, "") | K19: =IF(AND(ISNUMBER(M19), D19 <> "Kumulus® WG"), M19*$H$11/$H$13*$H$15/H19, "") | L19: =IF(ISNUMBER(M19),M19*IF(ISNUMBER(J19),J19,$H$9),"") | M19: =IF(AND(ISTEXT(D19),OR(ISNUMBER(F19),ISNUMBER(E19)), ISNUMBER($H$9), ISNUMBER($H$13), OR(D19 = "Kumulus® WG", AND(ISNUMBER(H19), ISNUMBER(I19)))), IF(ISNUMBER(F19), F19, E19)*IF(D19 = "Kumulus® WG", 1, I19/$H$13), "") | N19: *
E20: =IF( ISTEXT(D20), IF(D20 = "Kumulus® WG", 7, IFERROR(IF(VLOOKUP(D20,'HD-produkten'!$A$3:$E$64, 4, FALSE) > 0, VLOOKUP(D20,'HD-produkten'!$A$3:$E$64, 4, FALSE), ""), "")), "") | G20: =IF( ISTEXT(D20), IFERROR(IF(VLOOKUP(D20,'HD-produkten'!$A$3:$E$16, 3, FALSE) > 0, VLOOKUP(D20,'HD-produkten'!$A$3:$E$64, 3, FALSE), ""), ""), "") | I20: =IF(AND(ISNUMBER(H20),ISNUMBER($H$13),ISNUMBER($H$15), ISTEXT(D20), D20 <> "Kumulus® WG"), $H$13*H20/$H$15, "") | K20: =IF(AND(ISNUMBER(M20), D20 <> "Kumulus® WG"), M20*$H$11/$H$13*$H$15/H20, "") | L20: =IF(ISNUMBER(M20),M20*IF(ISNUMBER(J20),J20,$H$9),"") | M20: =IF(AND(ISTEXT(D20),OR(ISNUMBER(F20),ISNUMBER(E20)), ISNUMBER($H$9), ISNUMBER($H$13), OR(D20 = "Kumulus® WG", AND(ISNUMBER(H20), ISNUMBER(I20)))), IF(ISNUMBER(F20), F20, E20)*IF(D20 = "Kumulus® WG", 1, I20/$H$13), "")
E21: =IF( ISTEXT(D21), IF(D21 = "Kumulus® WG", 7, IFERROR(IF(VLOOKUP(D21,'HD-produkten'!$A$3:$E$64, 4, FALSE) > 0, VLOOKUP(D21,'HD-produkten'!$A$3:$E$64, 4, FALSE), ""), "")), "") | G21: =IF( ISTEXT(D21), IFERROR(IF(VLOOKUP(D21,'HD-produkten'!$A$3:$E$16, 3, FALSE) > 0, VLOOKUP(D21,'HD-produkten'!$A$3:$E$64, 3, FALSE), ""), ""), "") | I21: =IF(AND(ISNUMBER(H21),ISNUMBER($H$13),ISNUMBER($H$15), ISTEXT(D21), D21 <> "Kumulus® WG"), $H$13*H21/$H$15, "") | K21: =IF(AND(ISNUMBER(M21), D21 <> "Kumulus® WG"), M21*$H$11/$H$13*$H$15/H21, "") | L21: =IF(ISNUMBER(M21),M21*IF(ISNUMBER(J21),J21,$H$9),"") | M21: =IF(AND(ISTEXT(D21),OR(ISNUMBER(F21),ISNUMBER(E21)), ISNUMBER($H$9), ISNUMBER($H$13), OR(D21 = "Kumulus® WG", AND(ISNUMBER(H21), ISNUMBER(I21)))), IF(ISNUMBER(F21), F21, E21)*IF(D21 = "Kumulus® WG", 1, I21/$H$13), "")
E22: =IF( ISTEXT(D22), IF(D22 = "Kumulus® WG", 7, IFERROR(IF(VLOOKUP(D22,'HD-produkten'!$A$3:$E$64, 4, FALSE) > 0, VLOOKUP(D22,'HD-produkten'!$A$3:$E$64, 4, FALSE), ""), "")), "") | G22: =IF( ISTEXT(D22), IFERROR(IF(VLOOKUP(D22,'HD-produkten'!$A$3:$E$16, 3, FALSE) > 0, VLOOKUP(D22,'HD-produkten'!$A$3:$E$64, 3, FALSE), ""), ""), "") | I22: =IF(AND(ISNUMBER(H22),ISNUMBER($H$13),ISNUMBER($H$15), ISTEXT(D22), D22 <> "Kumulus® WG"), $H$13*H22/$H$15, "") | K22: =IF(AND(ISNUMBER(M22), D22 <> "Kumulus® WG"), M22*$H$11/$H$13*$H$15/H22, "") | L22: =IF(ISNUMBER(M22),M22*IF(ISNUMBER(J22),J22,$H$9),"") | M22: =IF(AND(ISTEXT(D22),OR(ISNUMBER(F22),ISNUMBER(E22)), ISNUMBER($H$9), ISNUMBER($H$13), OR(D22 = "Kumulus® WG", AND(ISNUMBER(H22), ISNUMBER(I22)))), IF(ISNUMBER(F22), F22, E22)*IF(D22 = "Kumulus® WG", 1, I22/$H$13), "")
E23: =IF( ISTEXT(D23), IF(D23 = "Kumulus® WG", 7, IFERROR(IF(VLOOKUP(D23,'HD-produkten'!$A$3:$E$64, 4, FALSE) > 0, VLOOKUP(D23,'HD-produkten'!$A$3:$E$64, 4, FALSE), ""), "")), "") | G23: =IF( ISTEXT(D23), IFERROR(IF(VLOOKUP(D23,'HD-produkten'!$A$3:$E$16, 3, FALSE) > 0, VLOOKUP(D23,'HD-produkten'!$A$3:$E$64, 3, FALSE), ""), ""), "") | I23: =IF(AND(ISNUMBER(H23),ISNUMBER($H$13),ISNUMBER($H$15), ISTEXT(D23), D23 <> "Kumulus® WG"), $H$13*H23/$H$15, "") | K23: =IF(AND(ISNUMBER(M23), D23 <> "Kumulus® WG"), M23*$H$11/$H$13*$H$15/H23, "") | L23: =IF(ISNUMBER(M23),M23*IF(ISNUMBER(J23),J23,$H$9),"") | M23: =IF(AND(ISTEXT(D23),OR(ISNUMBER(F23),ISNUMBER(E23)), ISNUMBER($H$9), ISNUMBER($H$13), OR(D23 = "Kumulus® WG", AND(ISNUMBER(H23), ISNUMBER(I23)))), IF(ISNUMBER(F23), F23, E23)*IF(D23 = "Kumulus® WG", 1, I23/$H$13), "")
E24: =IF( ISTEXT(D24), IF(D24 = "Kumulus® WG", 7, IFERROR(IF(VLOOKUP(D24,'HD-produkten'!$A$3:$E$64, 4, FALSE) > 0, VLOOKUP(D24,'HD-produkten'!$A$3:$E$64, 4, FALSE), ""), "")), "") | G24: =IF( ISTEXT(D24), IFERROR(IF(VLOOKUP(D24,'HD-produkten'!$A$3:$E$16, 3, FALSE) > 0, VLOOKUP(D24,'HD-produkten'!$A$3:$E$64, 3, FALSE), ""), ""), "") | I24: =IF(AND(ISNUMBER(H24),ISNUMBER($H$13),ISNUMBER($H$15), ISTEXT(D24), D24 <> "Kumulus® WG"), $H$13*H24/$H$15, "") | K24: =IF(AND(ISNUMBER(M24), D24 <> "Kumulus® WG"), M24*$H$11/$H$13*$H$15/H24, "") | L24: =IF(ISNUMBER(M24),M24*IF(ISNUMBER(J24),J24,$H$9),"") | M24: =IF(AND(ISTEXT(D24),OR(ISNUMBER(F24),ISNUMBER(E24)), ISNUMBER($H$9), ISNUMBER($H$13), OR(D24 = "Kumulus® WG", AND(ISNUMBER(H24), ISNUMBER(I24)))), IF(ISNUMBER(F24), F24, E24)*IF(D24 = "Kumulus® WG", 1, I24/$H$13), "")
E25: =IF( ISTEXT(D25), IF(D25 = "Kumulus® WG", 7, IFERROR(IF(VLOOKUP(D25,'HD-produkten'!$A$3:$E$64, 4, FALSE) > 0, VLOOKUP(D25,'HD-produkten'!$A$3:$E$64, 4, FALSE), ""), "")), "") | G25: =IF( ISTEXT(D25), IFERROR(IF(VLOOKUP(D25,'HD-produkten'!$A$3:$E$16, 3, FALSE) > 0, VLOOKUP(D25,'HD-produkten'!$A$3:$E$64, 3, FALSE), ""), ""), "") | I25: =IF(AND(ISNUMBER(H25),ISNUMBER($H$13),ISNUMBER($H$15), ISTEXT(D25), D25 <> "Kumulus® WG"), $H$13*H25/$H$15, "") | K25: =IF(AND(ISNUMBER(M25), D25 <> "Kumulus® WG"), M25*$H$11/$H$13*$H$15/H25, "") | L25: =IF(ISNUMBER(M25),M25*IF(ISNUMBER(J25),J25,$H$9),"") | M25: =IF(AND(ISTEXT(D25),OR(ISNUMBER(F25),ISNUMBER(E25)), ISNUMBER($H$9), ISNUMBER($H$13), OR(D25 = "Kumulus® WG", AND(ISNUMBER(H25), ISNUMBER(I25)))), IF(ISNUMBER(F25), F25, E25)*IF(D25 = "Kumulus® WG", 1, I25/$H$13), "")
B26: 3 - 6 Blatt Stadium ES 11 - 19 | E26: =IF( ISTEXT(D26), IFERROR(IF(VLOOKUP(D26,'HD-produkten'!$A$3:$E$64, 4, FALSE) > 0, VLOOKUP(D26,'HD-produkten'!$A$3:$E$64, 4, FALSE), ""), ""), "") | G26: =IF( ISTEXT(D26), IFERROR(IF(VLOOKUP(D26,'HD-produkten'!$A$3:$E$16, 3, FALSE) > 0, VLOOKUP(D26,'HD-produkten'!$A$3:$E$64, 3, FALSE), ""), ""), "") | I26: =IF(AND(ISNUMBER(H26),ISNUMBER($H$13),ISNUMBER($H$15), ISTEXT(D26)), $H$13*H26/$H$15, "") | K26: =IF(ISNUMBER(M26), $H$15/H26 * IF(D26 <> "Kumulus® WG", M26 * $H$11/$H$13, E26), "") | L26: =IF(ISNUMBER(M26),M26*IF(ISNUMBER(J26),J26,$H$9),"") | M26: =IF(AND( ISTEXT(D26), OR( ISNUMBER(F26), ISNUMBER(E26)), ISNUMBER(H26), ISNUMBER(I26), ISNUMBER($H$9), ISNUMBER($H$13)), IF(D26="Kumulus® WG", 3, IF(ISNUMBER(F26), F26, E26)*I26/$H$13), "")
E27: =IF( ISTEXT(D27), IFERROR(IF(VLOOKUP(D27,'HD-produkten'!$A$3:$E$64, 4, FALSE) > 0, VLOOKUP(D27,'HD-produkten'!$A$3:$E$64, 4, FALSE), ""), ""), "") | G27: =IF( ISTEXT(D27), IFERROR(IF(VLOOKUP(D27,'HD-produkten'!$A$3:$E$16, 3, FALSE) > 0, VLOOKUP(D27,'HD-produkten'!$A$3:$E$64, 3, FALSE), ""), ""), "") | I27: =IF(AND(ISNUMBER(H27),ISNUMBER($H$13),ISNUMBER($H$15), ISTEXT(D27)), $H$13*H27/$H$15, "") | K27: =IF(ISNUMBER(M27), $H$15/H27 * IF(D27 <> "Kumulus® WG", M27 * $H$11/$H$13, E27), "") | L27: =IF(ISNUMBER(M27),M27*IF(ISNUMBER(J27),J27,$H$9),"") | M27: =IF(AND( ISTEXT(D27), OR( ISNUMBER(F27), ISNUMBER(E27)), ISNUMBER(H27), ISNUMBER(I27), ISNUMBER($H$9), ISNUMBER($H$13)), IF(D27="Kumulus® WG", 3, IF(ISNUMBER(F27), F27, E27)*I27/$H$13), "")
E28: =IF( ISTEXT(D28), IFERROR(IF(VLOOKUP(D28,'HD-produkten'!$A$3:$E$64, 4, FALSE) > 0, VLOOKUP(D28,'HD-produkten'!$A$3:$E$64, 4, FALSE), ""), ""), "") | G28: =IF( ISTEXT(D28), IFERROR(IF(VLOOKUP(D28,'HD-produkten'!$A$3:$E$16, 3, FALSE) > 0, VLOOKUP(D28,'HD-produkten'!$A$3:$E$64, 3, FALSE), ""), ""), "") | I28: =IF(AND(ISNUMBER(H28),ISNUMBER($H$13),ISNUMBER($H$15), ISTEXT(D28)), $H$13*H28/$H$15, "") | K28: =IF(ISNUMBER(M28), $H$15/H28 * IF(D28 <> "Kumulus® WG", M28 * $H$11/$H$13, E28), "") | L28: =IF(ISNUMBER(M28),M28*IF(ISNUMBER(J28),J28,$H$9),"") | M28: =IF(AND( ISTEXT(D28), OR( ISNUMBER(F28), ISNUMBER(E28)), ISNUMBER(H28), ISNUMBER(I28), ISNUMBER($H$9), ISNUMBER($H$13)), IF(D28="Kumulus® WG", 3, IF(ISNUMBER(F28), F28, E28)*I28/$H$13), "")
E29: =IF( ISTEXT(D29), IFERROR(IF(VLOOKUP(D29,'HD-produkten'!$A$3:$E$64, 4, FALSE) > 0, VLOOKUP(D29,'HD-produkten'!$A$3:$E$64, 4, FALSE), ""), ""), "") | G29: =IF( ISTEXT(D29), IFERROR(IF(VLOOKUP(D29,'HD-produkten'!$A$3:$E$16, 3, FALSE) > 0, VLOOKUP(D29,'HD-produkten'!$A$3:$E$64, 3, FALSE), ""), ""), "") | I29: =IF(AND(ISNUMBER(H29),ISNUMBER($H$13),ISNUMBER($H$15), ISTEXT(D29)), $H$13*H29/$H$15, "") | K29: =IF(ISNUMBER(M29), $H$15/H29 * IF(D29 <> "Kumulus® WG", M29 * $H$11/$H$13, E29), "") | L29: =IF(ISNUMBER(M29),M29*IF(ISNUMBER(J29),J29,$H$9),"") | M29: =IF(AND( ISTEXT(D29), OR( ISNUMBER(F29), ISNUMBER(E29)), ISNUMBER(H29), ISNUMBER(I29), ISNUMBER($H$9), ISNUMBER($H$13)), IF(D29="Kumulus® WG", 3, IF(ISNUMBER(F29), F29, E29)*I29/$H$13), "")
E30: =IF( ISTEXT(D30), IFERROR(IF(VLOOKUP(D30,'HD-produkten'!$A$3:$E$64, 4, FALSE) > 0, VLOOKUP(D30,'HD-produkten'!$A$3:$E$64, 4, FALSE), ""), ""), "") | G30: =IF( ISTEXT(D30), IFERROR(IF(VLOOKUP(D30,'HD-produkten'!$A$3:$E$16, 3, FALSE) > 0, VLOOKUP(D30,'HD-produkten'!$A$3:$E$64, 3, FALSE), ""), ""), "") | I30: =IF(AND(ISNUMBER(H30),ISNUMBER($H$13),ISNUMBER($H$15), ISTEXT(D30)), $H$13*H30/$H$15, "") | K30: =IF(ISNUMBER(M30), $H$15/H30 * IF(D30 <> "Kumulus® WG", M30 * $H$11/$H$13, E30), "") | L30: =IF(ISNUMBER(M30),M30*IF(ISNUMBER(J30),J30,$H$9),"") | M30: =IF(AND( ISTEXT(D30), OR( ISNUMBER(F30), ISNUMBER(E30)), ISNUMBER(H30), ISNUMBER(I30), ISNUMBER($H$9), ISNUMBER($H$13)), IF(D30="Kumulus® WG", 3, IF(ISNUMBER(F30), F30, E30)*I30/$H$13), "")
E31: =IF( ISTEXT(D31), IFERROR(IF(VLOOKUP(D31,'HD-produkten'!$A$3:$E$64, 4, FALSE) > 0, VLOOKUP(D31,'HD-produkten'!$A$3:$E$64, 4, FALSE), ""), ""), "") | G31: =IF( ISTEXT(D31), IFERROR(IF(VLOOKUP(D31,'HD-produkten'!$A$3:$E$16, 3, FALSE) > 0, VLOOKUP(D31,'HD-produkten'!$A$3:$E$64, 3, FALSE), ""), ""), "") | I31: =IF(AND(ISNUMBER(H31),ISNUMBER($H$13),ISNUMBER($H$15), ISTEXT(D31)), $H$13*H31/$H$15, "") | K31: =IF(ISNUMBER(M31), $H$15/H31 * IF(D31 <> "Kumulus® WG", M31 * $H$11/$H$13, E31), "") | L31: =IF(ISNUMBER(M31),M31*IF(ISNUMBER(J31),J31,$H$9),"") | M31: =IF(AND( ISTEXT(D31), OR( ISNUMBER(F31), ISNUMBER(E31)), ISNUMBER(H31), ISNUMBER(I31), ISNUMBER($H$9), ISNUMBER($H$13)), IF(D31="Kumulus® WG", 3, IF(ISNUMBER(F31), F31, E31)*I31/$H$13), "")
E32: =IF( ISTEXT(D32), IFERROR(IF(VLOOKUP(D32,'HD-produkten'!$A$3:$E$64, 4, FALSE) > 0, VLOOKUP(D32,'HD-produkten'!$A$3:$E$64, 4, FALSE), ""), ""), "") | G32: =IF( ISTEXT(D32), IFERROR(IF(VLOOKUP(D32,'HD-produkten'!$A$3:$E$16, 3, FALSE) > 0, VLOOKUP(D32,'HD-produkten'!$A$3:$E$64, 3, FALSE), ""), ""), "") | I32: =IF(AND(ISNUMBER(H32),ISNUMBER($H$13),ISNUMBER($H$15), ISTEXT(D32)), $H$13*H32/$H$15, "") | K32: =IF(ISNUMBER(M32), $H$15/H32 * IF(D32 <> "Kumulus® WG", M32 * $H$11/$H$13, E32), "") | L32: =IF(ISNUMBER(M32),M32*IF(ISNUMBER(J32),J32,$H$9),"") | M32: =IF(AND( ISTEXT(D32), OR( ISNUMBER(F32), ISNUMBER(E32)), ISNUMBER(H32), ISNUMBER(I32), ISNUMBER($H$9), ISNUMBER($H$13)), IF(D32="Kumulus® WG", 3, IF(ISNUMBER(F32), F32, E32)*I32/$H$13), "")
E33: =IF( ISTEXT(D33), IFERROR(IF(VLOOKUP(D33,'HD-produkten'!$A$3:$E$64, 4, FALSE) > 0, VLOOKUP(D33,'HD-produkten'!$A$3:$E$64, 4, FALSE), ""), ""), "") | G33: =IF( ISTEXT(D33), IFERROR(IF(VLOOKUP(D33,'HD-produkten'!$A$3:$E$16, 3, FALSE) > 0, VLOOKUP(D33,'HD-produkten'!$A$3:$E$64, 3, FALSE), ""), ""), "") | I33: =IF(AND(ISNUMBER(H33),ISNUMBER($H$13),ISNUMBER($H$15), ISTEXT(D33)), $H$13*H33/$H$15, "") | K33: =IF(ISNUMBER(M33), $H$15/H33 * IF(D33 <> "Kumulus® WG", M33 * $H$11/$H$13, E33), "") | L33: =IF(ISNUMBER(M33),M33*IF(ISNUMBER(J33),J33,$H$9),"") | M33: =IF(AND( ISTEXT(D33), OR( ISNUMBER(F33), ISNUMBER(E33)), ISNUMBER(H33), ISNUMBER(I33), ISNUMBER($H$9), ISNUMBER($H$13)), IF(D33="Kumulus® WG", 3, IF(ISNUMBER(F33), F33, E33)*I33/$H$13), "")
B34: Letzte Vorblüte ES 57 – 61 | E34: =IF( ISTEXT(D34), IFERROR(IF(VLOOKUP(D34,'HD-produkten'!$A$3:$E$64, 4, FALSE) > 0, VLOOKUP(D34,'HD-produkten'!$A$3:$E$64, 4, FALSE), ""), ""), "") | G34: =IF( ISTEXT(D34), IFERROR(IF(VLOOKUP(D34,'HD-produkten'!$A$3:$E$16, 3, FALSE) > 0, VLOOKUP(D34,'HD-produkten'!$A$3:$E$64, 3, FALSE), ""), ""), "") | I34: =IF(AND(ISNUMBER(H34),ISNUMBER($H$13),ISNUMBER($H$15), ISTEXT(D34)), $H$13*H34/$H$15, "") | K34: =IF(ISNUMBER(M34), $H$15/H34 * IF(D34 <> "Kumulus® WG", M34 * $H$11/$H$13, E34), "") | L34: =IF(ISNUMBER(M34),M34*IF(ISNUMBER(J34),J34,$H$9),"") | M34: =IF(AND( ISTEXT(D34), OR( ISNUMBER(F34), ISNUMBER(E34)), ISNUMBER(H34), ISNUMBER(I34), ISNUMBER($H$9), ISNUMBER($H$13)), IF(D34="Kumulus® WG", 3, IF(ISNUMBER(F34), F34, E34)*I34/$H$13), "")
E35: =IF( ISTEXT(D35), IFERROR(IF(VLOOKUP(D35,'HD-produkten'!$A$3:$E$64, 4, FALSE) > 0, VLOOKUP(D35,'HD-produkten'!$A$3:$E$64, 4, FALSE), ""), ""), "") | G35: =IF( ISTEXT(D35), IFERROR(IF(VLOOKUP(D35,'HD-produkten'!$A$3:$E$16, 3, FALSE) > 0, VLOOKUP(D35,'HD-produkten'!$A$3:$E$64, 3, FALSE), ""), ""), "") | I35: =IF(AND(ISNUMBER(H35),ISNUMBER($H$13),ISNUMBER($H$15), ISTEXT(D35)), $H$13*H35/$H$15, "") | K35: =IF(ISNUMBER(M35), $H$15/H35 * IF(D35 <> "Kumulus® WG", M35 * $H$11/$H$13, E35), "") | L35: =IF(ISNUMBER(M35),M35*IF(ISNUMBER(J35),J35,$H$9),"") | M35: =IF(AND( ISTEXT(D35), OR( ISNUMBER(F35), ISNUMBER(E35)), ISNUMBER(H35), ISNUMBER(I35), ISNUMBER($H$9), ISNUMBER($H$13)), IF(D35="Kumulus® WG", 3, IF(ISNUMBER(F35), F35, E35)*I35/$H$13), "")
E36: =IF( ISTEXT(D36), IFERROR(IF(VLOOKUP(D36,'HD-produkten'!$A$3:$E$64, 4, FALSE) > 0, VLOOKUP(D36,'HD-produkten'!$A$3:$E$64, 4, FALSE), ""), ""), "") | G36: =IF( ISTEXT(D36), IFERROR(IF(VLOOKUP(D36,'HD-produkten'!$A$3:$E$16, 3, FALSE) > 0, VLOOKUP(D36,'HD-produkten'!$A$3:$E$64, 3, FALSE), ""), ""), "") | I36: =IF(AND(ISNUMBER(H36),ISNUMBER($H$13),ISNUMBER($H$15), ISTEXT(D36)), $H$13*H36/$H$15, "") | K36: =IF(ISNUMBER(M36), $H$15/H36 * IF(D36 <> "Kumulus® WG", M36 * $H$11/$H$13, E36), "") | L36: =IF(ISNUMBER(M36),M36*IF(ISNUMBER(J36),J36,$H$9),"") | M36: =IF(AND( ISTEXT(D36), OR( ISNUMBER(F36), ISNUMBER(E36)), ISNUMBER(H36), ISNUMBER(I36), ISNUMBER($H$9), ISNUMBER($H$13)), IF(D36="Kumulus® WG", 3, IF(ISNUMBER(F36), F36, E36)*I36/$H$13), "")
E37: =IF( ISTEXT(D37), IFERROR(IF(VLOOKUP(D37,'HD-produkten'!$A$3:$E$64, 4, FALSE) > 0, VLOOKUP(D37,'HD-produkten'!$A$3:$E$64, 4, FALSE), ""), ""), "") | G37: =IF( ISTEXT(D37), IFERROR(IF(VLOOKUP(D37,'HD-produkten'!$A$3:$E$16, 3, FALSE) > 0, VLOOKUP(D37,'HD-produkten'!$A$3:$E$64, 3, FALSE), ""), ""), "") | I37: =IF(AND(ISNUMBER(H37),ISNUMBER($H$13),ISNUMBER($H$15), ISTEXT(D37)), $H$13*H37/$H$15, "") | K37: =IF(ISNUMBER(M37), $H$15/H37 * IF(D37 <> "Kumulus® WG", M37 * $H$11/$H$13, E37), "") | L37: =IF(ISNUMBER(M37),M37*IF(ISNUMBER(J37),J37,$H$9),"") | M37: =IF(AND( ISTEXT(D37), OR( ISNUMBER(F37), ISNUMBER(E37)), ISNUMBER(H37), ISNUMBER(I37), ISNUMBER($H$9), ISNUMBER($H$13)), IF(D37="Kumulus® WG", 3, IF(ISNUMBER(F37), F37, E37)*I37/$H$13), "")
E38: =IF( ISTEXT(D38), IFERROR(IF(VLOOKUP(D38,'HD-produkten'!$A$3:$E$64, 4, FALSE) > 0, VLOOKUP(D38,'HD-produkten'!$A$3:$E$64, 4, FALSE), ""), ""), "") | G38: =IF( ISTEXT(D38), IFERROR(IF(VLOOKUP(D38,'HD-produkten'!$A$3:$E$16, 3, FALSE) > 0, VLOOKUP(D38,'HD-produkten'!$A$3:$E$64, 3, FALSE), ""), ""), "") | I38: =IF(AND(ISNUMBER(H38),ISNUMBER($H$13),ISNUMBER($H$15), ISTEXT(D38)), $H$13*H38/$H$15, "") | K38: =IF(ISNUMBER(M38), $H$15/H38 * IF(D38 <> "Kumulus® WG", M38 * $H$11/$H$13, E38), "") | L38: =IF(ISNUMBER(M38),M38*IF(ISNUMBER(J38),J38,$H$9),"") | M38: =IF(AND( ISTEXT(D38), OR( ISNUMBER(F38), ISNUMBER(E38)), ISNUMBER(H38), ISNUMBER(I38), ISNUMBER($H$9), ISNUMBER($H$13)), IF(D38="Kumulus® WG", 3, IF(ISNUMBER(F38), F38, E38)*I38/$H$13), "")
