Workbook
Name product_list: 'HD-produkten Blanko'!$A$3:$A$17
Name product_list: 'HD-produkten'!$A$3:$A$17
Name product_unit: 'HD-produkten'!#REF!
Name product_unit: 'HD-produkten'!#REF!
Name product_unit: 'HD-produkten Blanko'!#REF!
Name product_unit: 'HD-produkten'!#REF!

Sheet Starten

Sheet Anleitung
F1: Anleitung
G2: . | H2: . | I2: . | J2: . | K2: . | L2: . | M2: .
B4: Liebe Winzerinnen und Winzer,
B6: mit diesem Dosierrechner bieten wir Ihnen eine Hilfestellung zur Planung des Produktbedarfs für
B7: den Pflanzenschutz im Weinbau.
B9: Der Dosierrechner bietet folgende Möglichkeiten:
C11: + | D11: Professionelle Planung Ihrer Spritzfolge
C12: + | D12: Vorinstallierte BASF Produkte mit den entsprechenden Aufwandmengen
C13: + | D13: Flexible Möglichkeit Produkte von anderen Anbietern einzutragen
C14: + | D14: Berechnung der benötigten Produktmenge zum jeweiligen Entwicklungsstadium
C15: + | D15: Berechnung der benötigten Produktmenge pro Spritzfass
C16: + | D16: Berechnung des Gesamtbedarfs an Pflanzenschutzmittel für Ihren Betrieb
C17: + | D17: Berechnung der Pflanzenschutzmittelkosten für Ihren Betrieb
C18: + | D18: Hilfestellung bei der Aufzeichnung Ihrer Pflanzenschutzanwendungen
B21: Glossar
C23: Zeitpunkt
D24: Entspricht dem Entwicklungsstadium Ihrer Reben
C25: Datum
D26: Tag der Pflanzenschutzmaßnahme
C27: Produkt
D28: Bezeichnung des Produktes
C29: Empfohlene und Aktuelle Aufwandmenge bei voller Belaubung [kg, L, Stk / ha]
D30: Die volle Aufwandmenge eines Produktes bei voller Belaubung
C31: Einheit [kg, L, Stk]
D32: kg, L oder Stück
C33: Verwendete Düsenanzahl [Stk]
D34: Anzahl der geöffneten Düsen bei der jeweiligen Spritzung
C35: Spritzbrühe [L / ha]
D36: Automatisch berechnete Brühenmenge auf Basis der Anzahl der geöffneten Düsen
D37: (ergibt Annäherungswerte, je nach Spritzentyp kann es Abweichungen geben)
C38: Betriebsfläche [ha]
D39: Gesamte Weinbaufläche des Betriebes
C40: Behandelte Fläche [ha]
D41: Tatsächlich behandelte Fläche bei der jeweiligen Spritzung
D42: (zB: bei Spezialbotrytiziden wird oft nur eine Teilfläche behandelt)
C43: Produktmenge pro Spritzfassfüllung [kg, L, Stk]
D44: Automatisch berechnete Menge an Produkt in kg, L oder Stück pro Spritzfassfüllung angepasst an
D45: das entsprechende Entwicklungsstadium und der verwendeten Wassermenge
C46: Gesamtproduktbedarf laut Entwicklunsstadien für den Betrieb [kg, L, Stk]
D47: Automatisch berechnete Menge an Produkt für die zu behandelnde Fläche angepasst an
D48: das entsprechende Entwicklungsstadium und der verwendeten Wassermenge
C49: Berechnete Aufwandmenge pro ha [kg, L, Stk]
D50: Tatsächlich ausgebrachte Menge an Produkt pro ha in kg, L oder Stück
C51: Kosten pro kg, L, Stk
D52: Preis des Produktes pro kg, L oder Stück
C53: Kosten pro ha
D54: Gesamtkosten der Pflanzenschutzmittel pro ha
C55: Gesamtkosten
D56: Gesamtkosten der Pflanzenschutzmittel auf der behandelten Fläche
C57: Bemerkungen
D58: Platz für etwaige Anmerkungen

Sheet Dosierrechner BASF
D1: Berechnung der Pflanzenschutzmittelmenge für eine bestimmte Anlage
E2: . | F2: . | G2: . | H2: . | I2: . | J2: . | K2: . | L2: . | M2: . | N2: . | O2: .
B5: Kopfdaten: | H5: Bitte, fügen Sie folgende Daten ein
B7: Name : | H7: Max Mustermann
B9: Betriebsgröße [ha] : | H9: 5
B11: Inhalt Spritzfass [L] : | H11: 600
B13: Wasseraufwandmenge/ha* bei voller Belaubung [L] : | H13: 500
B15: Anzahl der offenen Düsen bei voller Belaubung [Stk] : | H15: 10
B18: Zeitpunkt | C18: Datum [TT.MM] | D18: Produkt [Auswahl] | E18: Empfohlene Aufwandmenge bei voller Belaubung [kg, L, Stk / ha] | F18: Aktuellle Aufwandmenge bei voller Belaubung [kg, L, Stk / ha] | G18: Einheit [kg, L, Stk] | H18: Verwendete Düsenanzahl [Stk] | I18: Spritzbrühe [L / ha] | J18: Behandelte Fläche [ha] | K18: Produktmenge pro Spritzfassfüllung [kg, L, Stk] | L18: Gesamtproduktbedarf laut Entwicklunsstadien für den Betrieb [kg, L, Stk] | M18: Berechnete Aufwandmenge pro ha [kg, L, Stk] | N18: Bemerkungen
B19: Austrieb ES 09 | D19: Kumulus® WG | E19: =IF( ISTEXT(D19), IF(D19 = "Kumulus® WG", 7, IFERROR(IF(VLOOKUP(D19,'HD-produkten'!$A$3:$E$64, 4, FALSE) > 0, VLOOKUP(D19,'HD-produkten'!$A$3:$E$64, 4, FALSE), ""), "")), "") -> 7 | G19: =IF( ISTEXT(D19), IFERROR(IF(VLOOKUP(D19,'HD-produkten'!$A$3:$E$16, 3, FALSE) > 0, VLOOKUP(D19,'HD-produkten'!$A$3:$E$64, 3, FALSE), ""), ""), "") -> kg | I19: =IF(AND(ISNUMBER(H19),ISNUMBER($H$13),ISNUMBER($H$15), ISTEXT(D19), D19 <> "Kumulus® WG"), $H$13*H19/$H$15, "") | K19: =IF(AND(ISNUMBER(M19), D19 <> "Kumulus® WG"), M19*$H$11/$H$13*$H$15/H19, "") | L19: =IF(ISNUMBER(M19),M19*IF(ISNUMBER(J19),J19,$H$9),"") -> 35 | M19: =IF(AND(ISTEXT(D19),OR(ISNUMBER(F19),ISNUMBER(E19)), ISNUMBER($H$9), ISNUMBER($H$13), OR(D19 = "Kumulus® WG", AND(ISNUMBER(H19), ISNUMBER(I19)))), IF(ISNUMBER(F19), F19, E19)*IF(D19 = "Kumulus® WG", 1, I19/$H$13), "") -> 7 | N19: *
D20: Polyram® WG | E20: =IF( ISTEXT(D20), IF(D20 = "Kumulus® WG", 7, IFERROR(IF(VLOOKUP(D20,'HD-produkten'!$A$3:$E$64, 4, FALSE) > 0, VLOOKUP(D20,'HD-produkten'!$A$3:$E$64, 4, FALSE), ""), "")), "") -> 3.2 | G20: =IF( ISTEXT(D20), IFERROR(IF(VLOOKUP(D20,'HD-produkten'!$A$3:$E$16, 3, FALSE) > 0, VLOOKUP(D20,'HD-produkten'!$A$3:$E$64, 3, FALSE), ""), ""), "") -> kg | H20: 4 | I20: =IF(AND(ISNUMBER(H20),ISNUMBER($H$13),ISNUMBER($H$15), ISTEXT(D20), D20 <> "Kumulus® WG"), $H$13*H20/$H$15, "") -> 200 | K20: =IF(AND(ISNUMBER(M20), D20 <> "Kumulus® WG"), M20*$H$11/$H$13*$H$15/H20, "") -> 3.84 | L20: =IF(ISNUMBER(M20),M20*IF(ISNUMBER(J20),J20,$H$9),"") -> 6.4 | M20: =IF(AND(ISTEXT(D20),OR(ISNUMBER(F20),ISNUMBER(E20)), ISNUMBER($H$9), ISNUMBER($H$13), OR(D20 = "Kumulus® WG", AND(ISNUMBER(H20), ISNUMBER(I20)))), IF(ISNUMBER(F20), F20, E20)*IF(D20 = "Kumulus® WG", 1, I20/$H$13), "") -> 1.28
E21: =IF( ISTEXT(D21), IF(D21 = "Kumulus® WG", 7, IFERROR(IF(VLOOKUP(D21,'HD-produkten'!$A$3:$E$64, 4, FALSE) > 0, VLOOKUP(D21,'HD-produkten'!$A$3:$E$64, 4, FALSE), ""), "")), "") | G21: =IF( ISTEXT(D21), IFERROR(IF(VLOOKUP(D21,'HD-produkten'!$A$3:$E$16, 3, FALSE) > 0, VLOOKUP(D21,'HD-produkten'!$A$3:$E$64, 3, FALSE), ""), ""), "") | I21: =IF(AND(ISNUMBER(H21),ISNUMBER($H$13),ISNUMBER($H$15), ISTEXT(D21), D21 <> "Kumulus® WG"), $H$13*H21/$H$15, "") | K21: =IF(AND(ISNUMBER(M21), D21 <> "Kumulus® WG"), M21*$H$11/$H$13*$H$15/H21, "") | L21: =IF(ISNUMBER(M21),M21*IF(ISNUMBER(J21),J21,$H$9),"") | M21: =IF(AND(ISTEXT(D21),OR(ISNUMBER(F21),ISNUMBER(E21)), ISNUMBER($H$9), ISNUMBER($H$13), OR(D21 = "Kumulus® WG", AND(ISNUMBER(H21), ISNUMBER(I21)))), IF(ISNUMBER(F21), F21, E21)*IF(D21 = "Kumulus® WG", 1, I21/$H$13), "")
E22: =IF( ISTEXT(D22), IF(D22 = "Kumulus® WG", 7, IFERROR(IF(VLOOKUP(D22,'HD-produkten'!$A$3:$E$64, 4, FALSE) > 0, VLOOKUP(D22,'HD-produkten'!$A$3:$E$64, 4, FALSE), ""), "")), "") | G22: =IF( ISTEXT(D22), IFERROR(IF(VLOOKUP(D22,'HD-produkten'!$A$3:$E$16, 3, FALSE) > 0, VLOOKUP(D22,'HD-produkten'!$A$3:$E$64, 3, FALSE), ""), ""), "") | I22: =IF(AND(ISNUMBER(H22),ISNUMBER($H$13),ISNUMBER($H$15), ISTEXT(D22), D22 <> "Kumulus® WG"), $H$13*H22/$H$15, "") | K22: =IF(AND(ISNUMBER(M22), D22 <> "Kumulus® WG"), M22*$H$11/$H$13*$H$15/H22, "") | L22: =IF(ISNUMBER(M22),M22*IF(ISNUMBER(J22),J22,$H$9),"") | M22: =IF(AND(ISTEXT(D22),OR(ISNUMBER(F22),ISNUMBER(E22)), ISNUMBER($H$9), ISNUMBER($H$13), OR(D22 = "Kumulus® WG", AND(ISNUMBER(H22), ISNUMBER(I22)))), IF(ISNUMBER(F22), F22, E22)*IF(D22 = "Kumulus® WG", 1, I22/$H$13), "")
E23: =IF( ISTEXT(D23), IF(D23 = "Kumulus® WG", 7, IFERROR(IF(VLOOKUP(D23,'HD-produkten'!$A$3:$E$64, 4, FALSE) > 0, VLOOKUP(D23,'HD-produkten'!$A$3:$E$64, 4, FALSE), ""), "")), "") | G23: =IF( ISTEXT(D23), IFERROR(IF(VLOOKUP(D23,'HD-produkten'!$A$3:$E$16, 3, FALSE) > 0, VLOOKUP(D23,'HD-produkten'!$A$3:$E$64, 3, FALSE), ""), ""), "") | I23: =IF(AND(ISNUMBER(H23),ISNUMBER($H$13),ISNUMBER($H$15), ISTEXT(D23), D23 <> "Kumulus® WG"), $H$13*H23/$H$15, "") | K23: =IF(AND(ISNUMBER(M23), D23 <> "Kumulus® WG"), M23*$H$11/$H$13*$H$15/H23, "") | L23: =IF(ISNUMBER(M23),M23*IF(ISNUMBER(J23),J23,$H$9),"") | M23: =IF(AND(ISTEXT(D23),OR(ISNUMBER(F23),ISNUMBER(E23)), ISNUMBER($H$9), ISNUMBER($H$13), OR(D23 = "Kumulus® WG", AND(ISNUMBER(H23), ISNUMBER(I23)))), IF(ISNUMBER(F23), F23, E23)*IF(D23 = "Kumulus® WG", 1, I23/$H$13), "")
E24: =IF( ISTEXT(D24), IF(D24 = "Kumulus® WG", 7, IFERROR(IF(VLOOKUP(D24,'HD-produkten'!$A$3:$E$64, 4, FALSE) > 0, VLOOKUP(D24,'HD-produkten'!$A$3:$E$64, 4, FALSE), ""), "")), "") | G24: =IF( ISTEXT(D24), IFERROR(IF(VLOOKUP(D24,'HD-produkten'!$A$3:$E$16, 3, FALSE) > 0, VLOOKUP(D24,'HD-produkten'!$A$3:$E$64, 3, FALSE), ""), ""), "") | I24: =IF(AND(ISNUMBER(H24),ISNUMBER($H$13),ISNUMBER($H$15), ISTEXT(D24), D24 <> "Kumulus® WG"), $H$13*H24/$H$15, "") | K24: =IF(AND(ISNUMBER(M24), D24 <> "Kumulus® WG"), M24*$H$11/$H$13*$H$15/H24, "") | L24: =IF(ISNUMBER(M24),M24*IF(ISNUMBER(J24),J24,$H$9),"") | M24: =IF(AND(ISTEXT(D24),OR(ISNUMBER(F24),ISNUMBER(E24)), ISNUMBER($H$9), ISNUMBER($H$13), OR(D24 = "Kumulus® WG", AND(ISNUMBER(H24), ISNUMBER(I24)))), IF(ISNUMBER(F24), F24, E24)*IF(D24 = "Kumulus® WG", 1, I24/$H$13), "")
E25: =IF( ISTEXT(D25), IF(D25 = "Kumulus® WG", 7, IFERROR(IF(VLOOKUP(D25,'HD-produkten'!$A$3:$E$64, 4, FALSE) > 0, VLOOKUP(D25,'HD-produkten'!$A$3:$E$64, 4, FALSE), ""), "")), "") | G25: =IF( ISTEXT(D25), IFERROR(IF(VLOOKUP(D25,'HD-produkten'!$A$3:$E$16, 3, FALSE) > 0, VLOOKUP(D25,'HD-produkten'!$A$3:$E$64, 3, FALSE), ""), ""), "") | I25: =IF(AND(ISNUMBER(H25),ISNUMBER($H$13),ISNUMBER($H$15), ISTEXT(D25), D25 <> "Kumulus® WG"), $H$13*H25/$H$15, "") | K25: =IF(AND(ISNUMBER(M25), D25 <> "Kumulus® WG"), M25*$H$11/$H$13*$H$15/H25, "") | L25: =IF(ISNUMBER(M25),M25*IF(ISNUMBER(J25),J25,$H$9),"") | M25: =IF(AND(ISTEXT(D25),OR(ISNUMBER(F25),ISNUMBER(E25)), ISNUMBER($H$9), ISNUMBER($H$13), OR(D25 = "Kumulus® WG", AND(ISNUMBER(H25), ISNUMBER(I25)))), IF(ISNUMBER(F25), F25, E25)*IF(D25 = "Kumulus® WG", 1, I25/$H$13), "")
B26: 3 - 6 Blatt Stadium ES 11 - 19 | D26: Kumulus® WG | E26: =IF( ISTEXT(D26), IFERROR(IF(VLOOKUP(D26,'HD-produkten'!$A$3:$E$64, 4, FALSE) > 0, VLOOKUP(D26,'HD-produkten'!$A$3:$E$64, 4, FALSE), ""), ""), "") -> 3 | G26: =IF( ISTEXT(D26), IFERROR(IF(VLOOKUP(D26,'HD-produkten'!$A$3:$E$16, 3, FALSE) > 0, VLOOKUP(D26,'HD-produkten'!$A$3:$E$64, 3, FALSE), ""), ""), "") -> kg | H26: 4 | I26: =IF(AND(ISNUMBER(H26),ISNUMBER($H$13),ISNUMBER($H$15), ISTEXT(D26)), $H$13*H26/$H$15, "") -> 200 | K26: =IF(ISNUMBER(M26), $H$15/H26 * IF(D26 <> "Kumulus® WG", M26 * $H$11/$H$13, E26), "") -> 7.5 | L26: =IF(ISNUMBER(M26),M26*IF(ISNUMBER(J26),J26,$H$9),"") -> 15 | M26: =IF(AND( ISTEXT(D26), OR( ISNUMBER(F26), ISNUMBER(E26)), ISNUMBER(H26), ISNUMBER(I26), ISNUMBER($H$9), ISNUMBER($H$13)), IF(D26="Kumulus® WG", 3, IF(ISNUMBER(F26), F26, E26)*I26/$H$13), "") -> 3
D27: Polyram® WG | E27: =IF( ISTEXT(D27), IFERROR(IF(VLOOKUP(D27,'HD-produkten'!$A$3:$E$64, 4, FALSE) > 0, VLOOKUP(D27,'HD-produkten'!$A$3:$E$64, 4, FALSE), ""), ""), "") -> 3.2 | G27: =IF( ISTEXT(D27), IFERROR(IF(VLOOKUP(D27,'HD-produkten'!$A$3:$E$16, 3, FALSE) > 0, VLOOKUP(D27,'HD-produkten'!$A$3:$E$64, 3, FALSE), ""), ""), "") -> kg | H27: 4 | I27: =IF(AND(ISNUMBER(H27),ISNUMBER($H$13),ISNUMBER($H$15), ISTEXT(D27)), $H$13*H27/$H$15, "") -> 200 | K27: =IF(ISNUMBER(M27), $H$15/H27 * IF(D27 <> "Kumulus® WG", M27 * $H$11/$H$13, E27), "") -> 3.84 | L27: =IF(ISNUMBER(M27),M27*IF(ISNUMBER(J27),J27,$H$9),"") -> 6.4 | M27: =IF(AND( ISTEXT(D27), OR( ISNUMBER(F27), ISNUMBER(E27)), ISNUMBER(H27), ISNUMBER(I27), ISNUMBER($H$9), ISNUMBER($H$13)), IF(D27="Kumulus® WG", 3, IF(ISNUMBER(F27), F27, E27)*I27/$H$13), "") -> 1.28
D28: Prosper | E28: =IF( ISTEXT(D28), IFERROR(IF(VLOOKUP(D28,'HD-produkten'!$A$3:$E$64, 4, FALSE) > 0, VLOOKUP(D28,'HD-produkten'!$A$3:$E$64, 4, FALSE), ""), ""), "") | F28: 0.8 | G28: =IF( ISTEXT(D28), IFERROR(IF(VLOOKUP(D28,'HD-produkten'!$A$3:$E$16, 3, FALSE) > 0, VLOOKUP(D28,'HD-produkten'!$A$3:$E$64, 3, FALSE), ""), ""), "") | H28: 4 | I28: =IF(AND(ISNUMBER(H28),ISNUMBER($H$13),ISNUMBER($H$15), ISTEXT(D28)), $H$13*H28/$H$15, "") -> 200 | K28: =IF(ISNUMBER(M28), $H$15/H28 * IF(D28 <> "Kumulus® WG", M28 * $H$11/$H$13, E28), "") -> 0.96 | L28: =IF(ISNUMBER(M28),M28*IF(ISNUMBER(J28),J28,$H$9),"") -> 1.6 | M28: =IF(AND( ISTEXT(D28), OR( ISNUMBER(F28), ISNUMBER(E28)), ISNUMBER(H28), ISNUMBER(I28), ISNUMBER($H$9), ISNUMBER($H$13)), IF(D28="Kumulus® WG", 3, IF(ISNUMBER(F28), F28, E28)*I28/$H$13), "") -> 0.32
E29: =IF( ISTEXT(D29), IFERROR(IF(VLOOKUP(D29,'HD-produkten'!$A$3:$E$64, 4, FALSE) > 0, VLOOKUP(D29,'HD-produkten'!$A$3:$E$64, 4, FALSE), ""), ""), "") | G29: =IF( ISTEXT(D29), IFERROR(IF(VLOOKUP(D29,'HD-produkten'!$A$3:$E$16, 3, FALSE) > 0, VLOOKUP(D29,'HD-produkten'!$A$3:$E$64, 3, FALSE), ""), ""), "") | I29: =IF(AND(ISNUMBER(H29),ISNUMBER($H$13),ISNUMBER($H$15), ISTEXT(D29)), $H$13*H29/$H$15, "") | K29: =IF(ISNUMBER(M29), $H$15/H29 * IF(D29 <> "Kumulus® WG", M29 * $H$11/$H$13, E29), "") | L29: =IF(ISNUMBER(M29),M29*IF(ISNUMBER(J29),J29,$H$9),"") | M29: =IF(AND( ISTEXT(D29), OR( ISNUMBER(F29), ISNUMBER(E29)), ISNUMBER(H29), ISNUMBER(I29), ISNUMBER($H$9), ISNUMBER($H$13)), IF(D29="Kumulus® WG", 3, IF(ISNUMBER(F29), F29, E29)*I29/$H$13), "")
E30: =IF( ISTEXT(D30), IFERROR(IF(VLOOKUP(D30,'HD-produkten'!$A$3:$E$64, 4, FALSE) > 0, VLOOKUP(D30,'HD-produkten'!$A$3:$E$64, 4, FALSE), ""), ""), "") | G30: =IF( ISTEXT(D30), IFERROR(IF(VLOOKUP(D30,'HD-produkten'!$A$3:$E$16, 3, FALSE) > 0, VLOOKUP(D30,'HD-produkten'!$A$3:$E$64, 3, FALSE), ""), ""), "") | I30: =IF(AND(ISNUMBER(H30),ISNUMBER($H$13),ISNUMBER($H$15), ISTEXT(D30)), $H$13*H30/$H$15, "") | K30: =IF(ISNUMBER(M30), $H$15/H30 * IF(D30 <> "Kumulus® WG", M30 * $H$11/$H$13, E30), "") | L30: =IF(ISNUMBER(M30),M30*IF(ISNUMBER(J30),J30,$H$9),"") | M30: =IF(AND( ISTEXT(D30), OR( ISNUMBER(F30), ISNUMBER(E30)), ISNUMBER(H30), ISNUMBER(I30), ISNUMBER($H$9), ISNUMBER($H$13)), IF(D30="Kumulus® WG", 3, IF(ISNUMBER(F30), F30, E30)*I30/$H$13), "")
E31: =IF( ISTEXT(D31), IFERROR(IF(VLOOKUP(D31,'HD-produkten'!$A$3:$E$64, 4, FALSE) > 0, VLOOKUP(D31,'HD-produkten'!$A$3:$E$64, 4, FALSE), ""), ""), "") | G31: =IF( ISTEXT(D31), IFERROR(IF(VLOOKUP(D31,'HD-produkten'!$A$3:$E$16, 3, FALSE) > 0, VLOOKUP(D31,'HD-produkten'!$A$3:$E$64, 3, FALSE), ""), ""), "") | I31: =IF(AND(ISNUMBER(H31),ISNUMBER($H$13),ISNUMBER($H$15), ISTEXT(D31)), $H$13*H31/$H$15, "") | K31: =IF(ISNUMBER(M31), $H$15/H31 * IF(D31 <> "Kumulus® WG", M31 * $H$11/$H$13, E31), "") | L31: =IF(ISNUMBER(M31),M31*IF(ISNUMBER(J31),J31,$H$9),"") | M31: =IF(AND( ISTEXT(D31), OR( ISNUMBER(F31), ISNUMBER(E31)), ISNUMBER(H31), ISNUMBER(I31), ISNUMBER($H$9), ISNUMBER($H$13)), IF(D31="Kumulus® WG", 3, IF(ISNUMBER(F31), F31, E31)*I31/$H$13), "")
E32: =IF( ISTEXT(D32), IFERROR(IF(VLOOKUP(D32,'HD-produkten'!$A$3:$E$64, 4, FALSE) > 0, VLOOKUP(D32,'HD-produkten'!$A$3:$E$64, 4, FALSE), ""), ""), "") | G32: =IF( ISTEXT(D32), IFERROR(IF(VLOOKUP(D32,'HD-produkten'!$A$3:$E$16, 3, FALSE) > 0, VLOOKUP(D32,'HD-produkten'!$A$3:$E$64, 3, FALSE), ""), ""), "") | I32: =IF(AND(ISNUMBER(H32),ISNUMBER($H$13),ISNUMBER($H$15), ISTEXT(D32)), $H$13*H32/$H$15, "") | K32: =IF(ISNUMBER(M32), $H$15/H32 * IF(D32 <> "Kumulus® WG", M32 * $H$11/$H$13, E32), "") | L32: =IF(ISNUMBER(M32),M32*IF(ISNUMBER(J32),J32,$H$9),"") | M32: =IF(AND( ISTEXT(D32), OR( ISNUMBER(F32), ISNUMBER(E32)), ISNUMBER(H32), ISNUMBER(I32), ISNUMBER($H$9), ISNUMBER($H$13)), IF(D32="Kumulus® WG", 3, IF(ISNUMBER(F32), F32, E32)*I32/$H$13), "")
E33: =IF( ISTEXT(D33), IFERROR(IF(VLOOKUP(D33,'HD-produkten'!$A$3:$E$64, 4, FALSE) > 0, VLOOKUP(D33,'HD-produkten'!$A$3:$E$64, 4, FALSE), ""), ""), "") | G33: =IF( ISTEXT(D33), IFERROR(IF(VLOOKUP(D33,'HD-produkten'!$A$3:$E$16, 3, FALSE) > 0, VLOOKUP(D33,'HD-produkten'!$A$3:$E$64, 3, FALSE), ""), ""), "") | I33: =IF(AND(ISNUMBER(H33),ISNUMBER($H$13),ISNUMBER($H$15), ISTEXT(D33)), $H$13*H33/$H$15, "") | K33: =IF(ISNUMBER(M33), $H$15/H33 * IF(D33 <> "Kumulus® WG", M33 * $H$11/$H$13, E33), "") | L33: =IF(ISNUMBER(M33),M33*IF(ISNUMBER(J33),J33,$H$9),"") | M33: =IF(AND( ISTEXT(D33), OR( ISNUMBER(F33), ISNUMBER(E33)), ISNUMBER(H33), ISNUMBER(I33), ISNUMBER($H$9), ISNUMBER($H$13)), IF(D33="Kumulus® WG", 3, IF(ISNUMBER(F33), F33, E33)*I33/$H$13), "")
B34: Letzte Vorblüte ES 57 – 61 | D34: Delan® Pro | E34: =IF( ISTEXT(D34), IFERROR(IF(VLOOKUP(D34,'HD-produkten'!$A$3:$E$64, 4, FALSE) > 0, VLOOKUP(D34,'HD-produkten'!$A$3:$E$64, 4, FALSE), ""), ""), "") -> 4 | G34: =IF( ISTEXT(D34), IFERROR(IF(VLOOKUP(D34,'HD-produkten'!$A$3:$E$16, 3, FALSE) > 0, VLOOKUP(D34,'HD-produkten'!$A$3:$E$64, 3, FALSE), ""), ""), "") -> L | H34: 6 | I34: =IF(AND(ISNUMBER(H34),ISNUMBER($H$13),ISNUMBER($H$15), ISTEXT(D34)), $H$13*H34/$H$15, "") -> 300 | K34: =IF(ISNUMBER(M34), $H$15/H34 * IF(D34 <> "Kumulus® WG", M34 * $H$11/$H$13, E34), "") -> 4.8 | L34: =IF(ISNUMBER(M34),M34*IF(ISNUMBER(J34),J34,$H$9),"") -> 12 | M34: =IF(AND( ISTEXT(D34), OR( ISNUMBER(F34), ISNUMBER(E34)), ISNUMBER(H34), ISNUMBER(I34), ISNUMBER($H$9), ISNUMBER($H$13)), IF(D34="Kumulus® WG", 3, IF(ISNUMBER(F34), F34, E34)*I34/$H$13), "") -> 2.4
D35: Vivando® | E35: =IF( ISTEXT(D35), IFERROR(IF(VLOOKUP(D35,'HD-produkten'!$A$3:$E$64, 4, FALSE) > 0, VLOOKUP(D35,'HD-produkten'!$A$3:$E$64, 4, FALSE), ""), ""), "") -> 0.32 | G35: =IF( ISTEXT(D35), IFERROR(IF(VLOOKUP(D35,'HD-produkten'!$A$3:$E$16, 3, FALSE) > 0, VLOOKUP(D35,'HD-produkten'!$A$3:$E$64, 3, FALSE), ""), ""), "") -> L | H35: 6 | I35: =IF(AND(ISNUMBER(H35),ISNUMBER($H$13),ISNUMBER($H$15), ISTEXT(D35)), $H$13*H35/$H$15, "") -> 300 | K35: =IF(ISNUMBER(M35), $H$15/H35 * IF(D35 <> "Kumulus® WG", M35 * $H$11/$H$13, E35), "") -> 0.384 | L35: =IF(ISNUMBER(M35),M35*IF(ISNUMBER(J35),J35,$H$9),"") -> 0.96 | M35: =IF(AND( ISTEXT(D35), OR( ISNUMBER(F35), ISNUMBER(E35)), ISNUMBER(H35), ISNUMBER(I35), ISNUMBER($H$9), ISNUMBER($H$13)), IF(D35="Kumulus® WG", 3, IF(ISNUMBER(F35), F35, E35)*I35/$H$13), "") -> 0.192
D36: Kumulus® WG | E36: =IF( ISTEXT(D36), IFERROR(IF(VLOOKUP(D36,'HD-produkten'!$A$3:$E$64, 4, FALSE) > 0, VLOOKUP(D36,'HD-produkten'!$A$3:$E$64, 4, FALSE), ""), ""), "") -> 3 | G36: =IF( ISTEXT(D36), IFERROR(IF(VLOOKUP(D36,'HD-produkten'!$A$3:$E$16, 3, FALSE) > 0, VLOOKUP(D36,'HD-produkten'!$A$3:$E$64, 3, FALSE), ""), ""), "") -> kg | H36: 6 | I36: =IF(AND(ISNUMBER(H36),ISNUMBER($H$13),ISNUMBER($H$15), ISTEXT(D36)), $H$13*H36/$H$15, "") -> 300 | K36: =IF(ISNUMBER(M36), $H$15/H36 * IF(D36 <> "Kumulus® WG", M36 * $H$11/$H$13, E36), "") -> 5 | L36: =IF(ISNUMBER(M36),M36*IF(ISNUMBER(J36),J36,$H$9),"") -> 15 | M36: =IF(AND( ISTEXT(D36), OR( ISNUMBER(F36), ISNUMBER(E36)), ISNUMBER(H36), ISNUMBER(I36), ISNUMBER($H$9), ISNUMBER($H$13)), IF(D36="Kumulus® WG", 3, IF(ISNUMBER(F36), F36, E36)*I36/$H$13), "") -> 3
E37: =IF( ISTEXT(D37), IFERROR(IF(VLOOKUP(D37,'HD-produkten'!$A$3:$E$64, 4, FALSE) > 0, VLOOKUP(D37,'HD-produkten'!$A$3:$E$64, 4, FALSE), ""), ""), "") | G37: =IF( ISTEXT(D37), IFERROR(IF(VLOOKUP(D37,'HD-produkten'!$A$3:$E$16, 3, FALSE) > 0, VLOOKUP(D37,'HD-produkten'!$A$3:$E$64, 3, FALSE), ""), ""), "") | I37: =IF(AND(ISNUMBER(H37),ISNUMBER($H$13),ISNUMBER($H$15), ISTEXT(D37)), $H$13*H37/$H$15, "") | K37: =IF(ISNUMBER(M37), $H$15/H37 * IF(D37 <> "Kumulus® WG", M37 * $H$11/$H$13, E37), "") | L37: =IF(ISNUMBER(M37),M37*IF(ISNUMBER(J37),J37,$H$9),"") | M37: =IF(AND( ISTEXT(D37), OR( ISNUMBER(F37), ISNUMBER(E37)), ISNUMBER(H37), ISNUMBER(I37), ISNUMBER($H$9), ISNUMBER($H$13)), IF(D37="Kumulus® WG", 3, IF(ISNUMBER(F37), F37, E37)*I37/$H$13), "")
E38: =IF( ISTEXT(D38), IFERROR(IF(VLOOKUP(D38,'HD-produkten'!$A$3:$E$64, 4, FALSE) > 0, VLOOKUP(D38,'HD-produkten'!$A$3:$E$64, 4, FALSE), ""), ""), "") | G38: =IF( ISTEXT(D38), IFERROR(IF(VLOOKUP(D38,'HD-produkten'!$A$3:$E$16, 3, FALSE) > 0, VLOOKUP(D38,'HD-produkten'!$A$3:$E$64, 3, FALSE), ""), ""), "") | I38: =IF(AND(ISNUMBER(H38),ISNUMBER($H$13),ISNUMBER($H$15), ISTEXT(D38)), $H$13*H38/$H$15, "") | K38: =IF(ISNUMBER(M38), $H$15/H38 * IF(D38 <> "Kumulus® WG", M38 * $H$11/$H$13, E38), "") | L38: =IF(ISNUMBER(M38),M38*IF(ISNUMBER(J38),J38,$H$9),"") | M38: =IF(AND( ISTEXT(D38), OR( ISNUMBER(F38), ISNUMBER(E38)), ISNUMBER(H38), ISNUMBER(I38), ISNUMBER($H$9), ISNUMBER($H$13)), IF(D38="Kumulus® WG", 3, IF(ISNUMBER(F38), F38, E38)*I38/$H$13), "")
E39: =IF( ISTEXT(D39), IFERROR(IF(VLOOKUP(D39,'HD-produkten'!$A$3:$E$64, 4, FALSE) > 0, VLOOKUP(D39,'HD-produkten'!$A$3:$E$64, 4, FALSE), ""), ""), "") | G39: =IF( ISTEXT(D39), IFERROR(IF(VLOOKUP(D39,'HD-produkten'!$A$3:$E$16, 3, FALSE) > 0, VLOOKUP(D39,'HD-produkten'!$A$3:$E$64, 3, FALSE), ""), ""), "") | I39: =IF(AND(ISNUMBER(H39),ISNUMBER($H$13),ISNUMBER($H$15), ISTEXT(D39)), $H$13*H39/$H$15, "") | K39: =IF(ISNUMBER(M39), $H$15/H39 * IF(D39 <> "Kumulus® WG", M39 * $H$11/$H$13, E39), "") | L39: =IF(ISNUMBER(M39),M39*IF(ISNUMBER(J39),J39,$H$9),"") | M39: =IF(AND( ISTEXT(D39), OR( ISNUMBER(F39), ISNUMBER(E39)), ISNUMBER(H39), ISNUMBER(I39), ISNUMBER($H$9), ISNUMBER($H$13)), IF(D39="Kumulus® WG", 3, IF(ISNUMBER(F39), F39, E39)*I39/$H$13), "")
E40: =IF( ISTEXT(D40), IFERROR(IF(VLOOKUP(D40,'HD-produkten'!$A$3:$E$64, 4, FALSE) > 0, VLOOKUP(D40,'HD-produkten'!$A$3:$E$64, 4, FALSE), ""), ""), "") | G40: =IF( ISTEXT(D40), IFERROR(IF(VLOOKUP(D40,'HD-produkten'!$A$3:$E$16, 3, FALSE) > 0, VLOOKUP(D40,'HD-produkten'!$A$3:$E$64, 3, FALSE), ""), ""), "") | I40: =IF(AND(ISNUMBER(H40),ISNUMBER($H$13),ISNUMBER($H$15), ISTEXT(D40)), $H$13*H40/$H$15, "") | K40: =IF(ISNUMBER(M40), $H$15/H40 * IF(D40 <> "Kumulus® WG", M40 * $H$11/$H$13, E40), "") | L40: =IF(ISNUMBER(M40),M40*IF(ISNUMBER(J40),J40,$H$9),"") | M40: =IF(AND( ISTEXT(D40), OR( ISNUMBER(F40), ISNUMBER(E40)), ISNUMBER(H40), ISNUMBER(I40), ISNUMBER($H$9), ISNUMBER($H$13)), IF(D40="Kumulus® WG", 3, IF(ISNUMBER(F40), F40, E40)*I40/$H$13), "")
E41: =IF( ISTEXT(D41), IFERROR(IF(VLOOKUP(D41,'HD-produkten'!$A$3:$E$64, 4, FALSE) > 0, VLOOKUP(D41,'HD-produkten'!$A$3:$E$64, 4, FALSE), ""), ""), "") | G41: =IF( ISTEXT(D41), IFERROR(IF(VLOOKUP(D41,'HD-produkten'!$A$3:$E$16, 3, FALSE) > 0, VLOOKUP(D41,'HD-produkten'!$A$3:$E$64, 3, FALSE), ""), ""), "") | I41: =IF(AND(ISNUMBER(H41),ISNUMBER($H$13),ISNUMBER($H$15), ISTEXT(D41)), $H$13*H41/$H$15, "") | K41: =IF(ISNUMBER(M41), $H$15/H41 * IF(D41 <> "Kumulus® WG", M41 * $H$11/$H$13, E41), "") | L41: =IF(ISNUMBER(M41),M41*IF(ISNUMBER(J41),J41,$H$9),"") | M41: =IF(AND( ISTEXT(D41), OR( ISNUMBER(F41), ISNUMBER(E41)), ISNUMBER(H41), ISNUMBER(I41), ISNUMBER($H$9), ISNUMBER($H$13)), IF(D41="Kumulus® WG", 3, IF(ISNUMBER(F41), F41, E41)*I41/$H$13), "")
B42: Abgehende Blüte ES 68 - 69 | D42: Aktuan® Gold | E42: =IF( ISTEXT(D42), IFERROR(IF(VLOOKUP(D42,'HD-produkten'!$A$3:$E$64, 4, FALSE) > 0, VLOOKUP(D42,'HD-produkten'!$A$3:$E$64, 4, FALSE), ""), ""), "") -> 1.56 | G42: =IF( ISTEXT(D42), IFERROR(IF(VLOOKUP(D42,'HD-produkten'!$A$3:$E$16, 3, FALSE) > 0, VLOOKUP(D42,'HD-produkten'!$A$3:$E$64, 3, FALSE), ""), ""), "") -> kg | H42: 8 | I42: =IF(AND(ISNUMBER(H42),ISNUMBER($H$13),ISNUMBER($H$15), ISTEXT(D42)), $H$13*H42/$H$15, "") -> 400 | K42: =IF(ISNUMBER(M42), $H$15/H42 * IF(D42 <> "Kumulus® WG", M42 * $H$11/$H$13, E42), "") -> 1.872 | L42: =IF(ISNUMBER(M42),M42*IF(ISNUMBER(J42),J42,$H$9),"") -> 6.24 | M42: =IF(AND( ISTEXT(D42), OR( ISNUMBER(F42), ISNUMBER(E42)), ISNUMBER(H42), ISNUMBER(I42), ISNUMBER($H$9), ISNUMBER($H$13)), IF(D42="Kumulus® WG", 3, IF(ISNUMBER(F42), F42, E42)*I42/$H$13), "") -> 1.248
D43: Sercadis® | E43: =IF( ISTEXT(D43), IFERROR(IF(VLOOKUP(D43,'HD-produkten'!$A$3:$E$64, 4, FALSE) > 0, VLOOKUP(D43,'HD-produkten'!$A$3:$E$64, 4, FALSE), ""), ""), "") -> 0.24 | G43: =IF( ISTEXT(D43), IFERROR(IF(VLOOKUP(D43,'HD-produkten'!$A$3:$E$16, 3, FALSE) > 0, VLOOKUP(D43,'HD-produkten'!$A$3:$E$64, 3, FALSE), ""), ""), "") -> L | H43: 8 | I43: =IF(AND(ISNUMBER(H43),ISNUMBER($H$13),ISNUMBER($H$15), ISTEXT(D43)), $H$13*H43/$H$15, "") -> 400 | K43: =IF(ISNUMBER(M43), $H$15/H43 * IF(D43 <> "Kumulus® WG", M43 * $H$11/$H$13, E43), "") -> 0.288 | L43: =IF(ISNUMBER(M43),M43*IF(ISNUMBER(J43),J43,$H$9),"") -> 0.96 | M43: =IF(AND( ISTEXT(D43), OR( ISNUMBER(F43), ISNUMBER(E43)), ISNUMBER(H43), ISNUMBER(I43), ISNUMBER($H$9), ISNUMBER($H$13)), IF(D43="Kumulus® WG", 3, IF(ISNUMBER(F43), F43, E43)*I43/$H$13), "") -> 0.192
D44: Kumulus® WG | E44: =IF( ISTEXT(D44), IFERROR(IF(VLOOKUP(D44,'HD-produkten'!$A$3:$E$64, 4, FALSE) > 0, VLOOKUP(D44,'HD-produkten'!$A$3:$E$64, 4, FALSE), ""), ""), "") -> 3 | G44: =IF( ISTEXT(D44), IFERROR(IF(VLOOKUP(D44,'HD-produkten'!$A$3:$E$16, 3, FALSE) > 0, VLOOKUP(D44,'HD-produkten'!$A$3:$E$64, 3, FALSE), ""), ""), "") -> kg | H44: 8 | I44: =IF(AND(ISNUMBER(H44),ISNUMBER($H$13),ISNUMBER($H$15), ISTEXT(D44)), $H$13*H44/$H$15, "") -> 400 | K44: =IF(ISNUMBER(M44), $H$15/H44 * IF(D44 <> "Kumulus® WG", M44 * $H$11/$H$13, E44), "") -> 3.75 | L44: =IF(ISNUMBER(M44),M44*IF(ISNUMBER(J44),J44,$H$9),"") -> 15 | M44: =IF(AND( ISTEXT(D44), OR( ISNUMBER(F44), ISNUMBER(E44)), ISNUMBER(H44), ISNUMBER(I44), ISNUMBER($H$9), ISNUMBER($H$13)), IF(D44="Kumulus® WG", 3, IF(ISNUMBER(F44), F44, E44)*I44/$H$13), "") -> 3
D45: Scala® | E45: =IF( ISTEXT(D45), IFERROR(IF(VLOOKUP(D45,'HD-produkten'!$A$3:$E$64, 4, FALSE) > 0, VLOOKUP(D45,'HD-produkten'!$A$3:$E$64, 4, FALSE), ""), ""), "") -> 2 | G45: =IF( ISTEXT(D45), IFERROR(IF(VLOOKUP(D45,'HD-produkten'!$A$3:$E$16, 3, FALSE) > 0, VLOOKUP(D45,'HD-produkten'!$A$3:$E$64, 3, FALSE), ""), ""), "") -> L | H45: 8 | I45: =IF(AND(ISNUMBER(H45),ISNUMBER($H$13),ISNUMBER($H$15), ISTEXT(D45)), $H$13*H45/$H$15, "") -> 400 | K45: =IF(ISNUMBER(M45), $H$15/H45 * IF(D45 <> "Kumulus® WG", M45 * $H$11/$H$13, E45), "") -> 2.4 | L45: =IF(ISNUMBER(M45),M45*IF(ISNUMBER(J45),J45,$H$9),"") -> 8 | M45: =IF(AND( ISTEXT(D45), OR( ISNUMBER(F45), ISNUMBER(E45)), ISNUMBER(H45), ISNUMBER(I45), ISNUMBER($H$9), ISNUMBER($H$13)), IF(D45="Kumulus® WG", 3, IF(ISNUMBER(F45), F45, E45)*I45/$H$13), "") -> 1.6
E46: =IF( ISTEXT(D46), IFERROR(IF(VLOOKUP(D46,'HD-produkten'!$A$3:$E$64, 4, FALSE) > 0, VLOOKUP(D46,'HD-produkten'!$A$3:$E$64, 4, FALSE), ""), ""), "") | G46: =IF( ISTEXT(D46), IFERROR(IF(VLOOKUP(D46,'HD-produkten'!$A$3:$E$16, 3, FALSE) > 0, VLOOKUP(D46,'HD-produkten'!$A$3:$E$64, 3, FALSE), ""), ""), "") | I46: =IF(AND(ISNUMBER(H46),ISNUMBER($H$13),ISNUMBER($H$15), ISTEXT(D46)), $H$13*H46/$H$15, "") | K46: =IF(ISNUMBER(M46), $H$15/H46 * IF(D46 <> "Kumulus® WG", M46 * $H$11/$H$13, E46), "") | L46: =IF(ISNUMBER(M46),M46*IF(ISNUMBER(J46),J46,$H$9),"") | M46: =IF(AND( ISTEXT(D46), OR( ISNUMBER(F46), ISNUMBER(E46)), ISNUMBER(H46), ISNUMBER(I46), ISNUMBER($H$9), ISNUMBER($H$13)), IF(D46="Kumulus® WG", 3, IF(ISNUMBER(F46), F46, E46)*I46/$H$13), "")
E47: =IF( ISTEXT(D47), IFERROR(IF(VLOOKUP(D47,'HD-produkten'!$A$3:$E$64, 4, FALSE) > 0, VLOOKUP(D47,'HD-produkten'!$A$3:$E$64, 4, FALSE), ""), ""), "") | G47: =IF( ISTEXT(D47), IFERROR(IF(VLOOKUP(D47,'HD-produkten'!$A$3:$E$16, 3, FALSE) > 0, VLOOKUP(D47,'HD-produkten'!$A$3:$E$64, 3, FALSE), ""), ""), "") | I47: =IF(AND(ISNUMBER(H47),ISNUMBER($H$13),ISNUMBER($H$15), ISTEXT(D47)), $H$13*H47/$H$15, "") | K47: =IF(ISNUMBER(M47), $H$15/H47 * IF(D47 <> "Kumulus® WG", M47 * $H$11/$H$13, E47), "") | L47: =IF(ISNUMBER(M47),M47*IF(ISNUMBER(J47),J47,$H$9),"") | M47: =IF(AND( ISTEXT(D47), OR( ISNUMBER(F47), ISNUMBER(E47)), ISNUMBER(H47), ISNUMBER(I47), ISNUMBER($H$9), ISNUMBER($H$13)), IF(D47="Kumulus® WG", 3, IF(ISNUMBER(F47), F47, E47)*I47/$H$13), "")
E48: =IF( ISTEXT(D48), IFERROR(IF(VLOOKUP(D48,'HD-produkten'!$A$3:$E$64, 4, FALSE) > 0, VLOOKUP(D48,'HD-produkten'!$A$3:$E$64, 4, FALSE), ""), ""), "") | G48: =IF( ISTEXT(D48), IFERROR(IF(VLOOKUP(D48,'HD-produkten'!$A$3:$E$16, 3, FALSE) > 0, VLOOKUP(D48,'HD-produkten'!$A$3:$E$64, 3, FALSE), ""), ""), "") | I48: =IF(AND(ISNUMBER(H48),ISNUMBER($H$13),ISNUMBER($H$15), ISTEXT(D48)), $H$13*H48/$H$15, "") | K48: =IF(ISNUMBER(M48), $H$15/H48 * IF(D48 <> "Kumulus® WG", M48 * $H$11/$H$13, E48), "") | L48: =IF(ISNUMBER(M48),M48*IF(ISNUMBER(J48),J48,$H$9),"") | M48: =IF(AND( ISTEXT(D48), OR( ISNUMBER(F48), ISNUMBER(E48)), ISNUMBER(H48), ISNUMBER(I48), ISNUMBER($H$9), ISNUMBER($H$13)), IF(D48="Kumulus® WG", 3, IF(ISNUMBER(F48), F48, E48)*I48/$H$13), "")
E49: =IF( ISTEXT(D49), IFERROR(IF(VLOOKUP(D49,'HD-produkten'!$A$3:$E$64, 4, FALSE) > 0, VLOOKUP(D49,'HD-produkten'!$A$3:$E$64, 4, FALSE), ""), ""), "") | G49: =IF( ISTEXT(D49), IFERROR(IF(VLOOKUP(D49,'HD-produkten'!$A$3:$E$16, 3, FALSE) > 0, VLOOKUP(D49,'HD-produkten'!$A$3:$E$64, 3, FALSE), ""), ""), "") | I49: =IF(AND(ISNUMBER(H49),ISNUMBER($H$13),ISNUMBER($H$15), ISTEXT(D49)), $H$13*H49/$H$15, "") | K49: =IF(ISNUMBER(M49), $H$15/H49 * IF(D49 <> "Kumulus® WG", M49 * $H$11/$H$13, E49), "") | L49: =IF(ISNUMBER(M49),M49*IF(ISNUMBER(J49),J49,$H$9),"") | M49: =IF(AND( ISTEXT(D49), OR( ISNUMBER(F49), ISNUMBER(E49)), ISNUMBER(H49), ISNUMBER(I49), ISNUMBER($H$9), ISNUMBER($H$13)), IF(D49="Kumulus® WG", 3, IF(ISNUMBER(F49), F49, E49)*I49/$H$13), "")
B50: Nachblüte ES 71 - 73 | D50: Enervin® | E50: =IF( ISTEXT(D50), IFERROR(IF(VLOOKUP(D50,'HD-produkten'!$A$3:$E$64, 4, FALSE) > 0, VLOOKUP(D50,'HD-produkten'!$A$3:$E$64, 4, FALSE), ""), ""), "") -> 3 | G50: =IF( ISTEXT(D50), IFERROR(IF(VLOOKUP(D50,'HD-produkten'!$A$3:$E$16, 3, FALSE) > 0, VLOOKUP(D50,'HD-produkten'!$A$3:$E$64, 3, FALSE), ""), ""), "") -> kg | H50: 10 | I50: =IF(AND(ISNUMBER(H50),ISNUMBER($H$13),ISNUMBER($H$15), ISTEXT(D50)), $H$13*H50/$H$15, "") -> 500 | K50: =IF(ISNUMBER(M50), $H$15/H50 * IF(D50 <> "Kumulus® WG", M50 * $H$11/$H$13, E50), "") -> 3.6 | L50: =IF(ISNUMBER(M50),M50*IF(ISNUMBER(J50),J50,$H$9),"") -> 15 | M50: =IF(AND( ISTEXT(D50), OR( ISNUMBER(F50), ISNUMBER(E50)), ISNUMBER(H50), ISNUMBER(I50), ISNUMBER($H$9), ISNUMBER($H$13)), IF(D50="Kumulus® WG", 3, IF(ISNUMBER(F50), F50, E50)*I50/$H$13), "") -> 3
D51: Vivando® | E51: =IF( ISTEXT(D51), IFERROR(IF(VLOOKUP(D51,'HD-produkten'!$A$3:$E$64, 4, FALSE) > 0, VLOOKUP(D51,'HD-produkten'!$A$3:$E$64, 4, FALSE), ""), ""), "") -> 0.32 | G51: =IF( ISTEXT(D51), IFERROR(IF(VLOOKUP(D51,'HD-produkten'!$A$3:$E$16, 3, FALSE) > 0, VLOOKUP(D51,'HD-produkten'!$A$3:$E$64, 3, FALSE), ""), ""), "") -> L | H51: 10 | I51: =IF(AND(ISNUMBER(H51),ISNUMBER($H$13),ISNUMBER($H$15), ISTEXT(D51)), $H$13*H51/$H$15, "") -> 500 | K51: =IF(ISNUMBER(M51), $H$15/H51 * IF(D51 <> "Kumulus® WG", M51 * $H$11/$H$13, E51), "") -> 0.384 | L51: =IF(ISNUMBER(M51),M51*IF(ISNUMBER(J51),J51,$H$9),"") -> 1.6 | M51: =IF(AND( ISTEXT(D51), OR( ISNUMBER(F51), ISNUMBER(E51)), ISNUMBER(H51), ISNUMBER(I51), ISNUMBER($H$9), ISNUMBER($H$13)), IF(D51="Kumulus® WG", 3, IF(ISNUMBER(F51), F51, E51)*I51/$H$13), "") -> 0.32
D52: Kumulus® WG | E52: =IF( ISTEXT(D52), IFERROR(IF(VLOOKUP(D52,'HD-produkten'!$A$3:$E$64, 4, FALSE) > 0, VLOOKUP(D52,'HD-produkten'!$A$3:$E$64, 4, FALSE), ""), ""), "") -> 3 | G52: =IF( ISTEXT(D52), IFERROR(IF(VLOOKUP(D52,'HD-produkten'!$A$3:$E$16, 3, FALSE) > 0, VLOOKUP(D52,'HD-produkten'!$A$3:$E$64, 3, FALSE), ""), ""), "") -> kg | H52: 10 | I52: =IF(AND(ISNUMBER(H52),ISNUMBER($H$13),ISNUMBER($H$15), ISTEXT(D52)), $H$13*H52/$H$15, "") -> 500 | K52: =IF(ISNUMBER(M52), $H$15/H52 * IF(D52 <> "Kumulus® WG", M52 * $H$11/$H$13, E52), "") -> 3 | L52: =IF(ISNUMBER(M52),M52*IF(ISNUMBER(J52),J52,$H$9),"") -> 15 | M52: =IF(AND( ISTEXT(D52), OR( ISNUMBER(F52), ISNUMBER(E52)), ISNUMBER(H52), ISNUMBER(I52), ISNUMBER($H$9), ISNUMBER($H$13)), IF(D52="Kumulus® WG", 3, IF(ISNUMBER(F52), F52, E52)*I52/$H$13), "") -> 3
E53: =IF( ISTEXT(D53), IFERROR(IF(VLOOKUP(D53,'HD-produkten'!$A$3:$E$64, 4, FALSE) > 0, VLOOKUP(D53,'HD-produkten'!$A$3:$E$64, 4, FALSE), ""), ""), "") | G53: =IF( ISTEXT(D53), IFERROR(IF(VLOOKUP(D53,'HD-produkten'!$A$3:$E$16, 3, FALSE) > 0, VLOOKUP(D53,'HD-produkten'!$A$3:$E$64, 3, FALSE), ""), ""), "") | I53: =IF(AND(ISNUMBER(H53),ISNUMBER($H$13),ISNUMBER($H$15), ISTEXT(D53)), $H$13*H53/$H$15, "") | K53: =IF(ISNUMBER(M53), $H$15/H53 * IF(D53 <> "Kumulus® WG", M53 * $H$11/$H$13, E53), "") | L53: =IF(ISNUMBER(M53),M53*IF(ISNUMBER(J53),J53,$H$9),"") | M53: =IF(AND( ISTEXT(D53), OR( ISNUMBER(F53), ISNUMBER(E53)), ISNUMBER(H53), ISNUMBER(I53), ISNUMBER($H$9), ISNUMBER($H$13)), IF(D53="Kumulus® WG", 3, IF(ISNUMBER(F53), F53, E53)*I53/$H$13), "")
E54: =IF( ISTEXT(D54), IFERROR(IF(VLOOKUP(D54,'HD-produkten'!$A$3:$E$64, 4, FALSE) > 0, VLOOKUP(D54,'HD-produkten'!$A$3:$E$64, 4, FALSE), ""), ""), "") | G54: =IF( ISTEXT(D54), IFERROR(IF(VLOOKUP(D54,'HD-produkten'!$A$3:$E$16, 3, FALSE) > 0, VLOOKUP(D54,'HD-produkten'!$A$3:$E$64, 3, FALSE), ""), ""), "") | I54: =IF(AND(ISNUMBER(H54),ISNUMBER($H$13),ISNUMBER($H$15), ISTEXT(D54)), $H$13*H54/$H$15, "") | K54: =IF(ISNUMBER(M54), $H$15/H54 * IF(D54 <> "Kumulus® WG", M54 * $H$11/$H$13, E54), "") | L54: =IF(ISNUMBER(M54),M54*IF(ISNUMBER(J54),J54,$H$9),"") | M54: =IF(AND( ISTEXT(D54), OR( ISNUMBER(F54), ISNUMBER(E54)), ISNUMBER(H54), ISNUMBER(I54), ISNUMBER($H$9), ISNUMBER($H$13)), IF(D54="Kumulus® WG", 3, IF(ISNUMBER(F54), F54, E54)*I54/$H$13), "")
E55: =IF( ISTEXT(D55), IFERROR(IF(VLOOKUP(D55,'HD-produkten'!$A$3:$E$64, 4, FALSE) > 0, VLOOKUP(D55,'HD-produkten'!$A$3:$E$64, 4, FALSE), ""), ""), "") | G55: =IF( ISTEXT(D55), IFERROR(IF(VLOOKUP(D55,'HD-produkten'!$A$3:$E$16, 3, FALSE) > 0, VLOOKUP(D55,'HD-produkten'!$A$3:$E$64, 3, FALSE), ""), ""), "") | I55: =IF(AND(ISNUMBER(H55),ISNUMBER($H$13),ISNUMBER($H$15), ISTEXT(D55)), $H$13*H55/$H$15, "") | K55: =IF(ISNUMBER(M55), $H$15/H55 * IF(D55 <> "Kumulus® WG", M55 * $H$11/$H$13, E55), "") | L55: =IF(ISNUMBER(M55),M55*IF(ISNUMBER(J55),J55,$H$9),"") | M55: =IF(AND( ISTEXT(D55), OR( ISNUMBER(F55), ISNUMBER(E55)), ISNUMBER(H55), ISNUMBER(I55), ISNUMBER($H$9), ISNUMBER($H$13)), IF(D55="Kumulus® WG", 3, IF(ISNUMBER(F55), F55, E55)*I55/$H$13), "")
E56: =IF( ISTEXT(D56), IFERROR(IF(VLOOKUP(D56,'HD-produkten'!$A$3:$E$64, 4, FALSE) > 0, VLOOKUP(D56,'HD-produkten'!$A$3:$E$64, 4, FALSE), ""), ""), "") | G56: =IF( ISTEXT(D56), IFERROR(IF(VLOOKUP(D56,'HD-produkten'!$A$3:$E$16, 3, FALSE) > 0, VLOOKUP(D56,'HD-produkten'!$A$3:$E$64, 3, FALSE), ""), ""), "") | I56: =IF(AND(ISNUMBER(H56),ISNUMBER($H$13),ISNUMBER($H$15), ISTEXT(D56)), $H$13*H56/$H$15, "") | K56: =IF(ISNUMBER(M56), $H$15/H56 * IF(D56 <> "Kumulus® WG", M56 * $H$11/$H$13, E56), "") | L56: =IF(ISNUMBER(M56),M56*IF(ISNUMBER(J56),J56,$H$9),"") | M56: =IF(AND( ISTEXT(D56), OR( ISNUMBER(F56), ISNUMBER(E56)), ISNUMBER(H56), ISNUMBER(I56), ISNUMBER($H$9), ISNUMBER($H$13)), IF(D56="Kumulus® WG", 3, IF(ISNUMBER(F56), F56, E56)*I56/$H$13), "")
E57: =IF( ISTEXT(D57), IFERROR(IF(VLOOKUP(D57,'HD-produkten'!$A$3:$E$64, 4, FALSE) > 0, VLOOKUP(D57,'HD-produkten'!$A$3:$E$64, 4, FALSE), ""), ""), "") | G57: =IF( ISTEXT(D57), IFERROR(IF(VLOOKUP(D57,'HD-produkten'!$A$3:$E$16, 3, FALSE) > 0, VLOOKUP(D57,'HD-produkten'!$A$3:$E$64, 3, FALSE), ""), ""), "") | I57: =IF(AND(ISNUMBER(H57),ISNUMBER($H$13),ISNUMBER($H$15), ISTEXT(D57)), $H$13*H57/$H$15, "") | K57: =IF(ISNUMBER(M57), $H$15/H57 * IF(D57 <> "Kumulus® WG", M57 * $H$11/$H$13, E57), "") | L57: =IF(ISNUMBER(M57),M57*IF(ISNUMBER(J57),J57,$H$9),"") | M57: =IF(AND( ISTEXT(D57), OR( ISNUMBER(F57), ISNUMBER(E57)), ISNUMBER(H57), ISNUMBER(I57), ISNUMBER($H$9), ISNUMBER($H$13)), IF(D57="Kumulus® WG", 3, IF(ISNUMBER(F57), F57, E57)*I57/$H$13), "")
B58: Vor Traubenschluss ES 73 - 75 | D58: Delan® Pro | E58: =IF( ISTEXT(D58), IFERROR(IF(VLOOKUP(D58,'HD-produkten'!$A$3:$E$64, 4, FALSE) > 0, VLOOKUP(D58,'HD-produkten'!$A$3:$E$64, 4, FALSE), ""), ""), "") -> 4 | G58: =IF( ISTEXT(D58), IFERROR(IF(VLOOKUP(D58,'HD-produkten'!$A$3:$E$16, 3, FALSE) > 0, VLOOKUP(D58,'HD-produkten'!$A$3:$E$64, 3, FALSE), ""), ""), "") -> L | H58: 10 | I58: =IF(AND(ISNUMBER(H58),ISNUMBER($H$13),ISNUMBER($H$15), ISTEXT(D58)), $H$13*H58/$H$15, "") -> 500 | K58: =IF(ISNUMBER(M58), $H$15/H58 * IF(D58 <> "Kumulus® WG", M58 * $H$11/$H$13, E58), "") -> 4.8 | L58: =IF(ISNUMBER(M58),M58*IF(ISNUMBER(J58),J58,$H$9),"") -> 20 | M58: =IF(AND( ISTEXT(D58), OR( ISNUMBER(F58), ISNUMBER(E58)), ISNUMBER(H58), ISNUMBER(I58), ISNUMBER($H$9), ISNUMBER($H$13)), IF(D58="Kumulus® WG", 3, IF(ISNUMBER(F58), F58, E58)*I58/$H$13), "") -> 4
D59: Sercadis® | E59: =IF( ISTEXT(D59), IFERROR(IF(VLOOKUP(D59,'HD-produkten'!$A$3:$E$64, 4, FALSE) > 0, VLOOKUP(D59,'HD-produkten'!$A$3:$E$64, 4, FALSE), ""), ""), "") -> 0.24 | G59: =IF( ISTEXT(D59), IFERROR(IF(VLOOKUP(D59,'HD-produkten'!$A$3:$E$16, 3, FALSE) > 0, VLOOKUP(D59,'HD-produkten'!$A$3:$E$64, 3, FALSE), ""), ""), "") -> L | H59: 10 | I59: =IF(AND(ISNUMBER(H59),ISNUMBER($H$13),ISNUMBER($H$15), ISTEXT(D59)), $H$13*H59/$H$15, "") -> 500 | K59: =IF(ISNUMBER(M59), $H$15/H59 * IF(D59 <> "Kumulus® WG", M59 * $H$11/$H$13, E59), "") -> 0.288 | L59: =IF(ISNUMBER(M59),M59*IF(ISNUMBER(J59),J59,$H$9),"") -> 1.2 | M59: =IF(AND( ISTEXT(D59), OR( ISNUMBER(F59), ISNUMBER(E59)), ISNUMBER(H59), ISNUMBER(I59), ISNUMBER($H$9), ISNUMBER($H$13)), IF(D59="Kumulus® WG", 3, IF(ISNUMBER(F59), F59, E59)*I59/$H$13), "") -> 0.24
D60: Kumulus® WG | E60: =IF( ISTEXT(D60), IFERROR(IF(VLOOKUP(D60,'HD-produkten'!$A$3:$E$64, 4, FALSE) > 0, VLOOKUP(D60,'HD-produkten'!$A$3:$E$64, 4, FALSE), ""), ""), "") -> 3 | G60: =IF( ISTEXT(D60), IFERROR(IF(VLOOKUP(D60,'HD-produkten'!$A$3:$E$16, 3, FALSE) > 0, VLOOKUP(D60,'HD-produkten'!$A$3:$E$64, 3, FALSE), ""), ""), "") -> kg | H60: 10 | I60: =IF(AND(ISNUMBER(H60),ISNUMBER($H$13),ISNUMBER($H$15), ISTEXT(D60)), $H$13*H60/$H$15, "") -> 500 | K60: =IF(ISNUMBER(M60), $H$15/H60 * IF(D60 <> "Kumulus® WG", M60 * $H$11/$H$13, E60), "") -> 3 | L60: =IF(ISNUMBER(M60),M60*IF(ISNUMBER(J60),J60,$H$9),"") -> 15 | M60: =IF(AND( ISTEXT(D60), OR( ISNUMBER(F60), ISNUMBER(E60)), ISNUMBER(H60), ISNUMBER(I60), ISNUMBER($H$9), ISNUMBER($H$13)), IF(D60="Kumulus® WG", 3, IF(ISNUMBER(F60), F60, E60)*I60/$H$13), "") -> 3
D61: Cantus® | E61: =IF( ISTEXT(D61), IFERROR(IF(VLOOKUP(D61,'HD-produkten'!$A$3:$E$64, 4, FALSE) > 0, VLOOKUP(D61,'HD-produkten'!$A$3:$E$64, 4, FALSE), ""), ""), "") -> 1.2 | G61: =IF( ISTEXT(D61), IFERROR(IF(VLOOKUP(D61,'HD-produkten'!$A$3:$E$16, 3, FALSE) > 0, VLOOKUP(D61,'HD-produkten'!$A$3:$E$64, 3, FALSE), ""), ""), "") -> kg | H61: 10 | I61: =IF(AND(ISNUMBER(H61),ISNUMBER($H$13),ISNUMBER($H$15), ISTEXT(D61)), $H$13*H61/$H$15, "") -> 500 | K61: =IF(ISNUMBER(M61), $H$15/H61 * IF(D61 <> "Kumulus® WG", M61 * $H$11/$H$13, E61), "") -> 1.44 | L61: =IF(ISNUMBER(M61),M61*IF(ISNUMBER(J61),J61,$H$9),"") -> 6 | M61: =IF(AND( ISTEXT(D61), OR( ISNUMBER(F61), ISNUMBER(E61)), ISNUMBER(H61), ISNUMBER(I61), ISNUMBER($H$9), ISNUMBER($H$13)), IF(D61="Kumulus® WG", 3, IF(ISNUMBER(F61), F61, E61)*I61/$H$13), "") -> 1.2
E62: =IF( ISTEXT(D62), IFERROR(IF(VLOOKUP(D62,'HD-produkten'!$A$3:$E$64, 4, FALSE) > 0, VLOOKUP(D62,'HD-produkten'!$A$3:$E$64, 4, FALSE), ""), ""), "") | G62: =IF( ISTEXT(D62), IFERROR(IF(VLOOKUP(D62,'HD-produkten'!$A$3:$E$16, 3, FALSE) > 0, VLOOKUP(D62,'HD-produkten'!$A$3:$E$64, 3, FALSE), ""), ""), "") | I62: =IF(AND(ISNUMBER(H62),ISNUMBER($H$13),ISNUMBER($H$15), ISTEXT(D62)), $H$13*H62/$H$15, "") | K62: =IF(ISNUMBER(M62), $H$15/H62 * IF(D62 <> "Kumulus® WG", M62 * $H$11/$H$13, E62), "") | L62: =IF(ISNUMBER(M62),M62*IF(ISNUMBER(J62),J62,$H$9),"") | M62: =IF(AND( ISTEXT(D62), OR( ISNUMBER(F62), ISNUMBER(E62)), ISNUMBER(H62), ISNUMBER(I62), ISNUMBER($H$9), ISNUMBER($H$13)), IF(D62="Kumulus® WG", 3, IF(ISNUMBER(F62), F62, E62)*I62/$H$13), "")
E63: =IF( ISTEXT(D63), IFERROR(IF(VLOOKUP(D63,'HD-produkten'!$A$3:$E$64, 4, FALSE) > 0, VLOOKUP(D63,'HD-produkten'!$A$3:$E$64, 4, FALSE), ""), ""), "") | G63: =IF( ISTEXT(D63), IFERROR(IF(VLOOKUP(D63,'HD-produkten'!$A$3:$E$16, 3, FALSE) > 0, VLOOKUP(D63,'HD-produkten'!$A$3:$E$64, 3, FALSE), ""), ""), "") | I63: =IF(AND(ISNUMBER(H63),ISNUMBER($H$13),ISNUMBER($H$15), ISTEXT(D63)), $H$13*H63/$H$15, "") | K63: =IF(ISNUMBER(M63), $H$15/H63 * IF(D63 <> "Kumulus® WG", M63 * $H$11/$H$13, E63), "") | L63: =IF(ISNUMBER(M63),M63*IF(ISNUMBER(J63),J63,$H$9),"") | M63: =IF(AND( ISTEXT(D63), OR( ISNUMBER(F63), ISNUMBER(E63)), ISNUMBER(H63), ISNUMBER(I63), ISNUMBER($H$9), ISNUMBER($H$13)), IF(D63="Kumulus® WG", 3, IF(ISNUMBER(F63), F63, E63)*I63/$H$13), "")
E64: =IF( ISTEXT(D64), IFERROR(IF(VLOOKUP(D64,'HD-produkten'!$A$3:$E$64, 4, FALSE) > 0, VLOOKUP(D64,'HD-produkten'!$A$3:$E$64, 4, FALSE), ""), ""), "") | G64: =IF( ISTEXT(D64), IFERROR(IF(VLOOKUP(D64,'HD-produkten'!$A$3:$E$16, 3, FALSE) > 0, VLOOKUP(D64,'HD-produkten'!$A$3:$E$64, 3, FALSE), ""), ""), "") | I64: =IF(AND(ISNUMBER(H64),ISNUMBER($H$13),ISNUMBER($H$15), ISTEXT(D64)), $H$13*H64/$H$15, "") | K64: =IF(ISNUMBER(M64), $H$15/H64 * IF(D64 <> "Kumulus® WG", M64 * $H$11/$H$13, E64), "") | L64: =IF(ISNUMBER(M64),M64*IF(ISNUMBER(J64),J64,$H$9),"") | M64: =IF(AND( ISTEXT(D64), OR( ISNUMBER(F64), ISNUMBER(E64)), ISNUMBER(H64), ISNUMBER(I64), ISNUMBER($H$9), ISNUMBER($H$13)), IF(D64="Kumulus® WG", 3, IF(ISNUMBER(F64), F64, E64)*I64/$H$13), "")
E65: =IF( ISTEXT(D65), IFERROR(IF(VLOOKUP(D65,'HD-produkten'!$A$3:$E$64, 4, FALSE) > 0, VLOOKUP(D65,'HD-produkten'!$A$3:$E$64, 4, FALSE), ""), ""), "") | G65: =IF( ISTEXT(D65), IFERROR(IF(VLOOKUP(D65,'HD-produkten'!$A$3:$E$16, 3, FALSE) > 0, VLOOKUP(D65,'HD-produkten'!$A$3:$E$64, 3, FALSE), ""), ""), "") | I65: =IF(AND(ISNUMBER(H65),ISNUMBER($H$13),ISNUMBER($H$15), ISTEXT(D65)), $H$13*H65/$H$15, "") | K65: =IF(ISNUMBER(M65), $H$15/H65 * IF(D65 <> "Kumulus® WG", M65 * $H$11/$H$13, E65), "") | L65: =IF(ISNUMBER(M65),M65*IF(ISNUMBER(J65),J65,$H$9),"") | M65: =IF(AND( ISTEXT(D65), OR( ISNUMBER(F65), ISNUMBER(E65)), ISNUMBER(H65), ISNUMBER(I65), ISNUMBER($H$9), ISNUMBER($H$13)), IF(D65="Kumulus® WG", 3, IF(ISNUMBER(F65), F65, E65)*I65/$H$13), "")
E66: =IF( ISTEXT(D66), IFERROR(IF(VLOOKUP(D66,'HD-produkten'!$A$3:$E$64, 4, FALSE) > 0, VLOOKUP(D66,'HD-produkten'!$A$3:$E$64, 4, FALSE), ""), ""), "") | G66: =IF( ISTEXT(D66), IFERROR(IF(VLOOKUP(D66,'HD-produkten'!$A$3:$E$16, 3, FALSE) > 0, VLOOKUP(D66,'HD-produkten'!$A$3:$E$64, 3, FALSE), ""), ""), "") | I66: =IF(AND(ISNUMBER(H66),ISNUMBER($H$13),ISNUMBER($H$15), ISTEXT(D66)), $H$13*H66/$H$15, "") | K66: =IF(ISNUMBER(M66), $H$15/H66 * IF(D66 <> "Kumulus® WG", M66 * $H$11/$H$13, E66), "") | L66: =IF(ISNUMBER(M66),M66*IF(ISNUMBER(J66),J66,$H$9),"") | M66: =IF(AND( ISTEXT(D66), OR( ISNUMBER(F66), ISNUMBER(E66)), ISNUMBER(H66), ISNUMBER(I66), ISNUMBER($H$9), ISNUMBER($H$13)), IF(D66="Kumulus® WG", 3, IF(ISNUMBER(F66), F66, E66)*I66/$H$13), "")
B67: Nach Traubenschluss ES 75 - 80 | D67: Collis® | E67: =IF( ISTEXT(D67), IFERROR(IF(VLOOKUP(D67,'HD-produkten'!$A$3:$E$64, 4, FALSE) > 0, VLOOKUP(D67,'HD-produkten'!$A$3:$E$64, 4, FALSE), ""), ""), "") -> 0.64 | G67: =IF( ISTEXT(D67), IFERROR(IF(VLOOKUP(D67,'HD-produkten'!$A$3:$E$16, 3, FALSE) > 0, VLOOKUP(D67,'HD-produkten'!$A$3:$E$64, 3, FALSE), ""), ""), "") -> L | H67: 10 | I67: =IF(AND(ISNUMBER(H67),ISNUMBER($H$13),ISNUMBER($H$15), ISTEXT(D67)), $H$13*H67/$H$15, "") -> 500 | K67: =IF(ISNUMBER(M67), $H$15/H67 * IF(D67 <> "Kumulus® WG", M67 * $H$11/$H$13, E67), "") -> 0.768 | L67: =IF(ISNUMBER(M67),M67*IF(ISNUMBER(J67),J67,$H$9),"") -> 3.2 | M67: =IF(AND( ISTEXT(D67), OR( ISNUMBER(F67), ISNUMBER(E67)), ISNUMBER(H67), ISNUMBER(I67), ISNUMBER($H$9), ISNUMBER($H$13)), IF(D67="Kumulus® WG", 3, IF(ISNUMBER(F67), F67, E67)*I67/$H$13), "") -> 0.64 | N67: **
D68: Zampro® | E68: =IF( ISTEXT(D68), IFERROR(IF(VLOOKUP(D68,'HD-produkten'!$A$3:$E$64, 4, FALSE) > 0, VLOOKUP(D68,'HD-produkten'!$A$3:$E$64, 4, FALSE), ""), ""), "") -> 1.5 | G68: =IF( ISTEXT(D68), IFERROR(IF(VLOOKUP(D68,'HD-produkten'!$A$3:$E$16, 3, FALSE) > 0, VLOOKUP(D68,'HD-produkten'!$A$3:$E$64, 3, FALSE), ""), ""), "") | H68: 10 | I68: =IF(AND(ISNUMBER(H68),ISNUMBER($H$13),ISNUMBER($H$15), ISTEXT(D68)), $H$13*H68/$H$15, "") -> 500 | K68: =IF(ISNUMBER(M68), $H$15/H68 * IF(D68 <> "Kumulus® WG", M68 * $H$11/$H$13, E68), "") -> 1.8 | L68: =IF(ISNUMBER(M68),M68*IF(ISNUMBER(J68),J68,$H$9),"") -> 7.5 | M68: =IF(AND( ISTEXT(D68), OR( ISNUMBER(F68), ISNUMBER(E68)), ISNUMBER(H68), ISNUMBER(I68), ISNUMBER($H$9), ISNUMBER($H$13)), IF(D68="Kumulus® WG", 3, IF(ISNUMBER(F68), F68, E68)*I68/$H$13), "") -> 1.5
E69: =IF( ISTEXT(D69), IFERROR(IF(VLOOKUP(D69,'HD-produkten'!$A$3:$E$64, 4, FALSE) > 0, VLOOKUP(D69,'HD-produkten'!$A$3:$E$64, 4, FALSE), ""), ""), "") | G69: =IF( ISTEXT(D69), IFERROR(IF(VLOOKUP(D69,'HD-produkten'!$A$3:$E$16, 3, FALSE) > 0, VLOOKUP(D69,'HD-produkten'!$A$3:$E$64, 3, FALSE), ""), ""), "") | I69: =IF(AND(ISNUMBER(H69),ISNUMBER($H$13),ISNUMBER($H$15), ISTEXT(D69)), $H$13*H69/$H$15, "") | K69: =IF(ISNUMBER(M69), $H$15/H69 * IF(D69 <> "Kumulus® WG", M69 * $H$11/$H$13, E69), "") | L69: =IF(ISNUMBER(M69),M69*IF(ISNUMBER(J69),J69,$H$9),"") | M69: =IF(AND( ISTEXT(D69), OR( ISNUMBER(F69), ISNUMBER(E69)), ISNUMBER(H69), ISNUMBER(I69), ISNUMBER($H$9), ISNUMBER($H$13)), IF(D69="Kumulus® WG", 3, IF(ISNUMBER(F69), F69, E69)*I69/$H$13), "")
E70: =IF( ISTEXT(D70), IFERROR(IF(VLOOKUP(D70,'HD-produkten'!$A$3:$E$64, 4, FALSE) > 0, VLOOKUP(D70,'HD-produkten'!$A$3:$E$64, 4, FALSE), ""), ""), "") | G70: =IF( ISTEXT(D70), IFERROR(IF(VLOOKUP(D70,'HD-produkten'!$A$3:$E$16, 3, FALSE) > 0, VLOOKUP(D70,'HD-produkten'!$A$3:$E$64, 3, FALSE), ""), ""), "") | I70: =IF(AND(ISNUMBER(H70),ISNUMBER($H$13),ISNUMBER($H$15), ISTEXT(D70)), $H$13*H70/$H$15, "") | K70: =IF(ISNUMBER(M70), $H$15/H70 * IF(D70 <> "Kumulus® WG", M70 * $H$11/$H$13, E70), "") | L70: =IF(ISNUMBER(M70),M70*IF(ISNUMBER(J70),J70,$H$9),"") | M70: =IF(AND( ISTEXT(D70), OR( ISNUMBER(F70), ISNUMBER(E70)), ISNUMBER(H70), ISNUMBER(I70), ISNUMBER($H$9), ISNUMBER($H$13)), IF(D70="Kumulus® WG", 3, IF(ISNUMBER(F70), F70, E70)*I70/$H$13), "")
E71: =IF( ISTEXT(D71), IFERROR(IF(VLOOKUP(D71,'HD-produkten'!$A$3:$E$64, 4, FALSE) > 0, VLOOKUP(D71,'HD-produkten'!$A$3:$E$64, 4, FALSE), ""), ""), "") | G71: =IF( ISTEXT(D71), IFERROR(IF(VLOOKUP(D71,'HD-produkten'!$A$3:$E$16, 3, FALSE) > 0, VLOOKUP(D71,'HD-produkten'!$A$3:$E$64, 3, FALSE), ""), ""), "") | I71: =IF(AND(ISNUMBER(H71),ISNUMBER($H$13),ISNUMBER($H$15), ISTEXT(D71)), $H$13*H71/$H$15, "") | K71: =IF(ISNUMBER(M71), $H$15/H71 * IF(D71 <> "Kumulus® WG", M71 * $H$11/$H$13, E71), "") | L71: =IF(ISNUMBER(M71),M71*IF(ISNUMBER(J71),J71,$H$9),"") | M71: =IF(AND( ISTEXT(D71), OR( ISNUMBER(F71), ISNUMBER(E71)), ISNUMBER(H71), ISNUMBER(I71), ISNUMBER($H$9), ISNUMBER($H$13)), IF(D71="Kumulus® WG", 3, IF(ISNUMBER(F71), F71, E71)*I71/$H$13), "")
E72: =IF( ISTEXT(D72), IFERROR(IF(VLOOKUP(D72,'HD-produkten'!$A$3:$E$64, 4, FALSE) > 0, VLOOKUP(D72,'HD-produkten'!$A$3:$E$64, 4, FALSE), ""), ""), "") | G72: =IF( ISTEXT(D72), IFERROR(IF(VLOOKUP(D72,'HD-produkten'!$A$3:$E$16, 3, FALSE) > 0, VLOOKUP(D72,'HD-produkten'!$A$3:$E$64, 3, FALSE), ""), ""), "") | I72: =IF(AND(ISNUMBER(H72),ISNUMBER($H$13),ISNUMBER($H$15), ISTEXT(D72)), $H$13*H72/$H$15, "") | K72: =IF(ISNUMBER(M72), $H$15/H72 * IF(D72 <> "Kumulus® WG", M72 * $H$11/$H$13, E72), "") | L72: =IF(ISNUMBER(M72),M72*IF(ISNUMBER(J72),J72,$H$9),"") | M72: =IF(AND( ISTEXT(D72), OR( ISNUMBER(F72), ISNUMBER(E72)), ISNUMBER(H72), ISNUMBER(I72), ISNUMBER($H$9), ISNUMBER($H$13)), IF(D72="Kumulus® WG", 3, IF(ISNUMBER(F72), F72, E72)*I72/$H$13), "")
E73: =IF( ISTEXT(D73), IFERROR(IF(VLOOKUP(D73,'HD-produkten'!$A$3:$E$64, 4, FALSE) > 0, VLOOKUP(D73,'HD-produkten'!$A$3:$E$64, 4, FALSE), ""), ""), "") | G73: =IF( ISTEXT(D73), IFERROR(IF(VLOOKUP(D73,'HD-produkten'!$A$3:$E$16, 3, FALSE) > 0, VLOOKUP(D73,'HD-produkten'!$A$3:$E$64, 3, FALSE), ""), ""), "") | I73: =IF(AND(ISNUMBER(H73),ISNUMBER($H$13),ISNUMBER($H$15), ISTEXT(D73)), $H$13*H73/$H$15, "") | K73: =IF(ISNUMBER(M73), $H$15/H73 * IF(D73 <> "Kumulus® WG", M73 * $H$11/$H$13, E73), "") | L73: =IF(ISNUMBER(M73),M73*IF(ISNUMBER(J73),J73,$H$9),"") | M73: =IF(AND( ISTEXT(D73), OR( ISNUMBER(F73), ISNUMBER(E73)), ISNUMBER(H73), ISNUMBER(I73), ISNUMBER($H$9), ISNUMBER($H$13)), IF(D73="Kumulus® WG", 3, IF(ISNUMBER(F73), F73, E73)*I73/$H$13), "")
E74: =IF( ISTEXT(D74), IFERROR(IF(VLOOKUP(D74,'HD-produkten'!$A$3:$E$64, 4, FALSE) > 0, VLOOKUP(D74,'HD-produkten'!$A$3:$E$64, 4, FALSE), ""), ""), "") | G74: =IF( ISTEXT(D74), IFERROR(IF(VLOOKUP(D74,'HD-produkten'!$A$3:$E$16, 3, FALSE) > 0, VLOOKUP(D74,'HD-produkten'!$A$3:$E$64, 3, FALSE), ""), ""), "") | I74: =IF(AND(ISNUMBER(H74),ISNUMBER($H$13),ISNUMBER($H$15), ISTEXT(D74)), $H$13*H74/$H$15, "") | K74: =IF(ISNUMBER(M74), $H$15/H74 * IF(D74 <> "Kumulus® WG", M74 * $H$11/$H$13, E74), "") | L74: =IF(ISNUMBER(M74),M74*IF(ISNUMBER(J74),J74,$H$9),"") | M74: =IF(AND( ISTEXT(D74), OR( ISNUMBER(F74), ISNUMBER(E74)), ISNUMBER(H74), ISNUMBER(I74), ISNUMBER($H$9), ISNUMBER($H$13)), IF(D74="Kumulus® WG", 3, IF(ISNUMBER(F74), F74, E74)*I74/$H$13), "")
E75: =IF( ISTEXT(D75), IFERROR(IF(VLOOKUP(D75,'HD-produkten'!$A$3:$E$64, 4, FALSE) > 0, VLOOKUP(D75,'HD-produkten'!$A$3:$E$64, 4, FALSE), ""), ""), "") | G75: =IF( ISTEXT(D75), IFERROR(IF(VLOOKUP(D75,'HD-produkten'!$A$3:$E$16, 3, FALSE) > 0, VLOOKUP(D75,'HD-produkten'!$A$3:$E$64, 3, FALSE), ""), ""), "") | I75: =IF(AND(ISNUMBER(H75),ISNUMBER($H$13),ISNUMBER($H$15), ISTEXT(D75)), $H$13*H75/$H$15, "") | K75: =IF(ISNUMBER(M75), $H$15/H75 * IF(D75 <> "Kumulus® WG", M75 * $H$11/$H$13, E75), "") | L75: =IF(ISNUMBER(M75),M75*IF(ISNUMBER(J75),J75,$H$9),"") | M75: =IF(AND( ISTEXT(D75), OR( ISNUMBER(F75), ISNUMBER(E75)), ISNUMBER(H75), ISNUMBER(I75), ISNUMBER($H$9), ISNUMBER($H$13)), IF(D75="Kumulus® WG", 3, IF(ISNUMBER(F75), F75, E75)*I75/$H$13), "")
B76: Abschluss ES 81 | D76: Copac® Flow | E76: =IF( ISTEXT(D76), IFERROR(IF(VLOOKUP(D76,'HD-produkten'!$A$3:$E$64, 4, FALSE) > 0, VLOOKUP(D76,'HD-produkten'!$A$3:$E$64, 4, FALSE), ""), ""), "") -> 1.5 | G76: =IF( ISTEXT(D76), IFERROR(IF(VLOOKUP(D76,'HD-produkten'!$A$3:$E$16, 3, FALSE) > 0, VLOOKUP(D76,'HD-produkten'!$A$3:$E$64, 3, FALSE), ""), ""), "") -> L | H76: 10 | I76: =IF(AND(ISNUMBER(H76),ISNUMBER($H$13),ISNUMBER($H$15), ISTEXT(D76)), $H$13*H76/$H$15, "") -> 500 | K76: =IF(ISNUMBER(M76), $H$15/H76 * IF(D76 <> "Kumulus® WG", M76 * $H$11/$H$13, E76), "") -> 1.8 | L76: =IF(ISNUMBER(M76),M76*IF(ISNUMBER(J76),J76,$H$9),"") -> 7.5 | M76: =IF(AND( ISTEXT(D76), OR( ISNUMBER(F76), ISNUMBER(E76)), ISNUMBER(H76), ISNUMBER(I76), ISNUMBER($H$9), ISNUMBER($H$13)), IF(D76="Kumulus® WG", 3, IF(ISNUMBER(F76), F76, E76)*I76/$H$13), "") -> 1.5
D77: Vivando® | E77: =IF( ISTEXT(D77), IFERROR(IF(VLOOKUP(D77,'HD-produkten'!$A$3:$E$64, 4, FALSE) > 0, VLOOKUP(D77,'HD-produkten'!$A$3:$E$64, 4, FALSE), ""), ""), "") -> 0.32 | G77: =IF( ISTEXT(D77), IFERROR(IF(VLOOKUP(D77,'HD-produkten'!$A$3:$E$16, 3, FALSE) > 0, VLOOKUP(D77,'HD-produkten'!$A$3:$E$64, 3, FALSE), ""), ""), "") -> L | H77: 10 | I77: =IF(AND(ISNUMBER(H77),ISNUMBER($H$13),ISNUMBER($H$15), ISTEXT(D77)), $H$13*H77/$H$15, "") -> 500 | K77: =IF(ISNUMBER(M77), $H$15/H77 * IF(D77 <> "Kumulus® WG", M77 * $H$11/$H$13, E77), "") -> 0.384 | L77: =IF(ISNUMBER(M77),M77*IF(ISNUMBER(J77),J77,$H$9),"") -> 1.6 | M77: =IF(AND( ISTEXT(D77), OR( ISNUMBER(F77), ISNUMBER(E77)), ISNUMBER(H77), ISNUMBER(I77), ISNUMBER($H$9), ISNUMBER($H$13)), IF(D77="Kumulus® WG", 3, IF(ISNUMBER(F77), F77, E77)*I77/$H$13), "") -> 0.32
E78: =IF( ISTEXT(D78), IFERROR(IF(VLOOKUP(D78,'HD-produkten'!$A$3:$E$64, 4, FALSE) > 0, VLOOKUP(D78,'HD-produkten'!$A$3:$E$64, 4, FALSE), ""), ""), "") | G78: =IF( ISTEXT(D78), IFERROR(IF(VLOOKUP(D78,'HD-produkten'!$A$3:$E$16, 3, FALSE) > 0, VLOOKUP(D78,'HD-produkten'!$A$3:$E$64, 3, FALSE), ""), ""), "") | I78: =IF(AND(ISNUMBER(H78),ISNUMBER($H$13),ISNUMBER($H$15), ISTEXT(D78)), $H$13*H78/$H$15, "") | K78: =IF(ISNUMBER(M78), $H$15/H78 * IF(D78 <> "Kumulus® WG", M78 * $H$11/$H$13, E78), "") | L78: =IF(ISNUMBER(M78),M78*IF(ISNUMBER(J78),J78,$H$9),"") | M78: =IF(AND( ISTEXT(D78), OR( ISNUMBER(F78), ISNUMBER(E78)), ISNUMBER(H78), ISNUMBER(I78), ISNUMBER($H$9), ISNUMBER($H$13)), IF(D78="Kumulus® WG", 3, IF(ISNUMBER(F78), F78, E78)*I78/$H$13), "")
E79: =IF( ISTEXT(D79), IFERROR(IF(VLOOKUP(D79,'HD-produkten'!$A$3:$E$64, 4, FALSE) > 0, VLOOKUP(D79,'HD-produkten'!$A$3:$E$64, 4, FALSE), ""), ""), "") | G79: =IF( ISTEXT(D79), IFERROR(IF(VLOOKUP(D79,'HD-produkten'!$A$3:$E$16, 3, FALSE) > 0, VLOOKUP(D79,'HD-produkten'!$A$3:$E$64, 3, FALSE), ""), ""), "") | I79: =IF(AND(ISNUMBER(H79),ISNUMBER($H$13),ISNUMBER($H$15), ISTEXT(D79)), $H$13*H79/$H$15, "") | K79: =IF(ISNUMBER(M79), $H$15/H79 * IF(D79 <> "Kumulus® WG", M79 * $H$11/$H$13, E79), "") | L79: =IF(ISNUMBER(M79),M79*IF(ISNUMBER(J79),J79,$H$9),"") | M79: =IF(AND( ISTEXT(D79), OR( ISNUMBER(F79), ISNUMBER(E79)), ISNUMBER(H79), ISNUMBER(I79), ISNUMBER($H$9), ISNUMBER($H$13)), IF(D79="Kumulus® WG", 3, IF(ISNUMBER(F79), F79, E79)*I79/$H$13), "")
E80: =IF( ISTEXT(D80), IFERROR(IF(VLOOKUP(D80,'HD-produkten'!$A$3:$E$64, 4, FALSE) > 0, VLOOKUP(D80,'HD-produkten'!$A$3:$E$64, 4, FALSE), ""), ""), "") | G80: =IF( ISTEXT(D80), IFERROR(IF(VLOOKUP(D80,'HD-produkten'!$A$3:$E$16, 3, FALSE) > 0, VLOOKUP(D80,'HD-produkten'!$A$3:$E$64, 3, FALSE), ""), ""), "") | I80: =IF(AND(ISNUMBER(H80),ISNUMBER($H$13),ISNUMBER($H$15), ISTEXT(D80)), $H$13*H80/$H$15, "") | K80: =IF(ISNUMBER(M80), $H$15/H80 * IF(D80 <> "Kumulus® WG", M80 * $H$11/$H$13, E80), "") | L80: =IF(ISNUMBER(M80),M80*IF(ISNUMBER(J80),J80,$H$9),"") | M80: =IF(AND( ISTEXT(D80), OR( ISNUMBER(F80), ISNUMBER(E80)), ISNUMBER(H80), ISNUMBER(I80), ISNUMBER($H$9), ISNUMBER($H$13)), IF(D80="Kumulus® WG", 3, IF(ISNUMBER(F80), F80, E80)*I80/$H$13), "")
E81: =IF( ISTEXT(D81), IFERROR(IF(VLOOKUP(D81,'HD-produkten'!$A$3:$E$64, 4, FALSE) > 0, VLOOKUP(D81,'HD-produkten'!$A$3:$E$64, 4, FALSE), ""), ""), "") | G81: =IF( ISTEXT(D81), IFERROR(IF(VLOOKUP(D81,'HD-produkten'!$A$3:$E$16, 3, FALSE) > 0, VLOOKUP(D81,'HD-produkten'!$A$3:$E$64, 3, FALSE), ""), ""), "") | I81: =IF(AND(ISNUMBER(H81),ISNUMBER($H$13),ISNUMBER($H$15), ISTEXT(D81)), $H$13*H81/$H$15, "") | K81: =IF(ISNUMBER(M81), $H$15/H81 * IF(D81 <> "Kumulus® WG", M81 * $H$11/$H$13, E81), "") | L81: =IF(ISNUMBER(M81),M81*IF(ISNUMBER(J81),J81,$H$9),"") | M81: =IF(AND( ISTEXT(D81), OR( ISNUMBER(F81), ISNUMBER(E81)), ISNUMBER(H81), ISNUMBER(I81), ISNUMBER($H$9), ISNUMBER($H$13)), IF(D81="Kumulus® WG", 3, IF(ISNUMBER(F81), F81, E81)*I81/$H$13), "")
E82: =IF( ISTEXT(D82), IFERROR(IF(VLOOKUP(D82,'HD-produkten'!$A$3:$E$64, 4, FALSE) > 0, VLOOKUP(D82,'HD-produkten'!$A$3:$E$64, 4, FALSE), ""), ""), "") | G82: =IF( ISTEXT(D82), IFERROR(IF(VLOOKUP(D82,'HD-produkten'!$A$3:$E$16, 3, FALSE) > 0, VLOOKUP(D82,'HD-produkten'!$A$3:$E$64, 3, FALSE), ""), ""), "") | I82: =IF(AND(ISNUMBER(H82),ISNUMBER($H$13),ISNUMBER($H$15), ISTEXT(D82)), $H$13*H82/$H$15, "") | K82: =IF(ISNUMBER(M82), $H$15/H82 * IF(D82 <> "Kumulus® WG", M82 * $H$11/$H$13, E82), "") | L82: =IF(ISNUMBER(M82),M82*IF(ISNUMBER(J82),J82,$H$9),"") | M82: =IF(AND( ISTEXT(D82), OR( ISNUMBER(F82), ISNUMBER(E82)), ISNUMBER(H82), ISNUMBER(I82), ISNUMBER($H$9), ISNUMBER($H$13)), IF(D82="Kumulus® WG", 3, IF(ISNUMBER(F82), F82, E82)*I82/$H$13), "")
E83: =IF( ISTEXT(D83), IFERROR(IF(VLOOKUP(D83,'HD-produkten'!$A$3:$E$64, 4, FALSE) > 0, VLOOKUP(D83,'HD-produkten'!$A$3:$E$64, 4, FALSE), ""), ""), "") | G83: =IF( ISTEXT(D83), IFERROR(IF(VLOOKUP(D83,'HD-produkten'!$A$3:$E$16, 3, FALSE) > 0, VLOOKUP(D83,'HD-produkten'!$A$3:$E$64, 3, FALSE), ""), ""), "") | I83: =IF(AND(ISNUMBER(H83),ISNUMBER($H$13),ISNUMBER($H$15), ISTEXT(D83)), $H$13*H83/$H$15, "") | K83: =IF(ISNUMBER(M83), $H$15/H83 * IF(D83 <> "Kumulus® WG", M83 * $H$11/$H$13, E83), "") | L83: =IF(ISNUMBER(M83),M83*IF(ISNUMBER(J83),J83,$H$9),"") | M83: =IF(AND( ISTEXT(D83), OR( ISNUMBER(F83), ISNUMBER(E83)), ISNUMBER(H83), ISNUMBER(I83), ISNUMBER($H$9), ISNUMBER($H$13)), IF(D83="Kumulus® WG", 3, IF(ISNUMBER(F83), F83, E83)*I83/$H$13), "")
B85: Notiz: | C85: Für Vollstandigkeit und Richtigkeit wird keine Gewähr übernommen; der Gebrauch liegt alleine im Verantwortungsbereich des Anwenders.
C86: Dieser Rechner ist nicht für Recycling-Spritzsysteme geeignet.
C87: * Bei 1. Spritzung bei Kumulus WG keine Düsenanzahl eintragen
C88: **Bei starkem Oidiumdruck wird zur Verringerung des Resistenzbildungsrisikos ein Zusatz von Karathane Gold empfohlen

Sheet Gesamtbedarf BASF
B1: Gesamtbedarf
D2: . | E2: . | F2: . | G2: . | H2: . | I2: .
B4: . | D4: . | E4: . | F4: . | G4: . | H4: . | I4: .
B5: Ergebnis
B7: Betriebsgröße : | C7: =IF(ISNUMBER('Dosierrechner BASF'!H9), CONCATENATE('Dosierrechner BASF'!H9, " ha"), "") -> 5 ha
B8: Gesamtkosten : | C8: =IF(SUM(H13:H43)/2 > 0, SUM(H13:H43)/2, "")
B9: Gesamtkosten pro ha : | C9: =IF(AND(C8>0, C8<>"", ISNUMBER('Dosierrechner BASF'!H9)), C8/'Dosierrechner BASF'!H9, "")
B12: Produkt | C12: Pfl. Reg. Nr. | D12: Industrie | E12: Kosten pro Einheit [kg, L, Stk] | F12: Gesamtmenge | H12: Gesamtkosten
B13: {=IFERROR(INDEX( 'HD-produkten'!$A$3:$A$48, SMALL( IF(0 < 'HD-produkten'!$F$3:$F$48, ROW('HD-produkten'!$F$3:$F$48)-2, ""), ROW(A1))), "")} -> Aktuan® Gold | C13: =IF( B13<>"", VLOOKUP(B13,'HD-produkten'!$A$3:$F$113, 5, FALSE), "") -> 3207 | D13: =IF( B13<>"", VLOOKUP(B13,'HD-produkten'!$A$3:$F$113, 2, FALSE), "") -> Basf | E13: 0 | F13: =IF( B13<>"", VLOOKUP(B13,'HD-produkten'!$A$3:$F$113, 6, FALSE), "") -> 6.24 | G13: =IF( B13<>"", VLOOKUP(B13,'HD-produkten'!$A$3:$F$113, 3, FALSE), "") -> kg | H13: =IF(B13<>"",E13*F13,"Keine Daten verfügbar") -> 0
B14: {=IFERROR(INDEX( 'HD-produkten'!$A$3:$A$48, SMALL( IF(0 < 'HD-produkten'!$F$3:$F$48, ROW('HD-produkten'!$F$3:$F$48)-2, ""), ROW(A2))), "")} -> Cantus® | C14: =IF( B14<>"", VLOOKUP(B14,'HD-produkten'!$A$3:$F$113, 5, FALSE), "") -> 3149 | D14: =IF( B14<>"", VLOOKUP(B14,'HD-produkten'!$A$3:$F$113, 2, FALSE), "") -> Basf | E14: 0 | F14: =IF( B14<>"", VLOOKUP(B14,'HD-produkten'!$A$3:$F$113, 6, FALSE), "") -> 6 | G14: =IF( B14<>"", VLOOKUP(B14,'HD-produkten'!$A$3:$F$113, 3, FALSE), "") -> kg | H14: =IF(B14<>"",E14*F14, IF(B13<>"", SUM(H$13:H13), "")) -> 0
B15: {=IFERROR(INDEX( 'HD-produkten'!$A$3:$A$48, SMALL( IF(0 < 'HD-produkten'!$F$3:$F$48, ROW('HD-produkten'!$F$3:$F$48)-2, ""), ROW(A3))), "")} -> Collis® | C15: =IF( B15<>"", VLOOKUP(B15,'HD-produkten'!$A$3:$F$113, 5, FALSE), "") -> 3299 | D15: =IF( B15<>"", VLOOKUP(B15,'HD-produkten'!$A$3:$F$113, 2, FALSE), "") -> Basf | E15: 0 | F15: =IF( B15<>"", VLOOKUP(B15,'HD-produkten'!$A$3:$F$113, 6, FALSE), "") -> 3.2 | G15: =IF( B15<>"", VLOOKUP(B15,'HD-produkten'!$A$3:$F$113, 3, FALSE), "") -> L | H15: =IF(B15<>"",E15*F15, IF(B14<>"", SUM(H$13:H14), "")) -> 0
B16: {=IFERROR(INDEX( 'HD-produkten'!$A$3:$A$48, SMALL( IF(0 < 'HD-produkten'!$F$3:$F$48, ROW('HD-produkten'!$F$3:$F$48)-2, ""), ROW(A4))), "")} -> Copac® Flow | C16: =IF( B16<>"", VLOOKUP(B16,'HD-produkten'!$A$3:$F$113, 5, FALSE), "") -> 3675 | D16: =IF( B16<>"", VLOOKUP(B16,'HD-produkten'!$A$3:$F$113, 2, FALSE), "") -> Basf | E16: 0 | F16: =IF( B16<>"", VLOOKUP(B16,'HD-produkten'!$A$3:$F$113, 6, FALSE), "") -> 7.5 | G16: =IF( B16<>"", VLOOKUP(B16,'HD-produkten'!$A$3:$F$113, 3, FALSE), "") -> L | H16: =IF(B16<>"",E16*F16, IF(B15<>"", SUM(H$13:H15), "")) -> 0
B17: {=IFERROR(INDEX( 'HD-produkten'!$A$3:$A$48, SMALL( IF(0 < 'HD-produkten'!$F$3:$F$48, ROW('HD-produkten'!$F$3:$F$48)-2, ""), ROW(A5))), "")} -> Delan® Pro | C17: =IF( B17<>"", VLOOKUP(B17,'HD-produkten'!$A$3:$F$113, 5, FALSE), "") -> 3632 | D17: =IF( B17<>"", VLOOKUP(B17,'HD-produkten'!$A$3:$F$113, 2, FALSE), "") -> Basf | E17: 0 | F17: =IF( B17<>"", VLOOKUP(B17,'HD-produkten'!$A$3:$F$113, 6, FALSE), "") -> 32 | G17: =IF( B17<>"", VLOOKUP(B17,'HD-produkten'!$A$3:$F$113, 3, FALSE), "") -> L | H17: =IF(B17<>"",E17*F17, IF(B16<>"", SUM(H$13:H16), "")) -> 0
B18: {=IFERROR(INDEX( 'HD-produkten'!$A$3:$A$48, SMALL( IF(0 < 'HD-produkten'!$F$3:$F$48, ROW('HD-produkten'!$F$3:$F$48)-2, ""), ROW(A6))), "")} -> Enervin® | C18: =IF( B18<>"", VLOOKUP(B18,'HD-produkten'!$A$3:$F$113, 5, FALSE), "") -> 3494 | D18: =IF( B18<>"", VLOOKUP(B18,'HD-produkten'!$A$3:$F$113, 2, FALSE), "") -> Basf | E18: 0 | F18: =IF( B18<>"", VLOOKUP(B18,'HD-produkten'!$A$3:$F$113, 6, FALSE), "") -> 15 | G18: =IF( B18<>"", VLOOKUP(B18,'HD-produkten'!$A$3:$F$113, 3, FALSE), "") -> kg | H18: =IF(B18<>"",E18*F18, IF(B17<>"", SUM(H$13:H17), "")) -> 0
B19: {=IFERROR(INDEX( 'HD-produkten'!$A$3:$A$48, SMALL( IF(0 < 'HD-produkten'!$F$3:$F$48, ROW('HD-produkten'!$F$3:$F$48)-2, ""), ROW(A7))), "")} -> Kumulus® WG | C19: =IF( B19<>"", VLOOKUP(B19,'HD-produkten'!$A$3:$F$113, 5, FALSE), "") -> 396 | D19: =IF( B19<>"", VLOOKUP(B19,'HD-produkten'!$A$3:$F$113, 2, FALSE), "") -> Basf | E19: 0 | F19: =IF( B19<>"", VLOOKUP(B19,'HD-produkten'!$A$3:$F$113, 6, FALSE), "") -> 110 | G19: =IF( B19<>"", VLOOKUP(B19,'HD-produkten'!$A$3:$F$113, 3, FALSE), "") -> kg | H19: =IF(B19<>"",E19*F19, IF(B18<>"", SUM(H$13:H18), "")) -> 0
B20: {=IFERROR(INDEX( 'HD-produkten'!$A$3:$A$48, SMALL( IF(0 < 'HD-produkten'!$F$3:$F$48, ROW('HD-produkten'!$F$3:$F$48)-2, ""), ROW(A8))), "")} -> Polyram® WG | C20: =IF( B20<>"", VLOOKUP(B20,'HD-produkten'!$A$3:$F$113, 5, FALSE), "") -> 3384 | D20: =IF( B20<>"", VLOOKUP(B20,'HD-produkten'!$A$3:$F$113, 2, FALSE), "") -> Basf | E20: 0 | F20: =IF( B20<>"", VLOOKUP(B20,'HD-produkten'!$A$3:$F$113, 6, FALSE), "") -> 12.8 | G20: =IF( B20<>"", VLOOKUP(B20,'HD-produkten'!$A$3:$F$113, 3, FALSE), "") -> kg | H20: =IF(B20<>"",E20*F20, IF(B19<>"", SUM(H$13:H19), "")) -> 0
B21: {=IFERROR(INDEX( 'HD-produkten'!$A$3:$A$48, SMALL( IF(0 < 'HD-produkten'!$F$3:$F$48, ROW('HD-produkten'!$F$3:$F$48)-2, ""), ROW(A9))), "")} -> Scala® | C21: =IF( B21<>"", VLOOKUP(B21,'HD-produkten'!$A$3:$F$113, 5, FALSE), "") -> 3064 | D21: =IF( B21<>"", VLOOKUP(B21,'HD-produkten'!$A$3:$F$113, 2, FALSE), "") -> Basf | E21: 0 | F21: =IF( B21<>"", VLOOKUP(B21,'HD-produkten'!$A$3:$F$113, 6, FALSE), "") -> 8 | G21: =IF( B21<>"", VLOOKUP(B21,'HD-produkten'!$A$3:$F$113, 3, FALSE), "") -> L | H21: =IF(B21<>"",E21*F21, IF(B20<>"", SUM(H$13:H20), "")) -> 0
B22: {=IFERROR(INDEX( 'HD-produkten'!$A$3:$A$48, SMALL( IF(0 < 'HD-produkten'!$F$3:$F$48, ROW('HD-produkten'!$F$3:$F$48)-2, ""), ROW(A10))), "")} -> Sercadis® | C22: =IF( B22<>"", VLOOKUP(B22,'HD-produkten'!$A$3:$F$113, 5, FALSE), "") -> 3796 | D22: =IF( B22<>"", VLOOKUP(B22,'HD-produkten'!$A$3:$F$113, 2, FALSE), "") -> Basf | E22: 0 | F22: =IF( B22<>"", VLOOKUP(B22,'HD-produkten'!$A$3:$F$113, 6, FALSE), "") -> 2.16 | G22: =IF( B22<>"", VLOOKUP(B22,'HD-produkten'!$A$3:$F$113, 3, FALSE), "") -> L | H22: =IF(B22<>"",E22*F22, IF(B21<>"", SUM(H$13:H21), "")) -> 0
B23: {=IFERROR(INDEX( 'HD-produkten'!$A$3:$A$48, SMALL( IF(0 < 'HD-produkten'!$F$3:$F$48, ROW('HD-produkten'!$F$3:$F$48)-2, ""), ROW(A11))), "")} -> Vivando® | C23: =IF( B23<>"", VLOOKUP(B23,'HD-produkten'!$A$3:$F$113, 5, FALSE), "") -> 3356 | D23: =IF( B23<>"", VLOOKUP(B23,'HD-produkten'!$A$3:$F$113, 2, FALSE), "") -> Basf | E23: 0 | F23: =IF( B23<>"", VLOOKUP(B23,'HD-produkten'!$A$3:$F$113, 6, FALSE), "") -> 4.16 | G23: =IF( B23<>"", VLOOKUP(B23,'HD-produkten'!$A$3:$F$113, 3, FALSE), "") -> L | H23: =IF(B23<>"",E23*F23, IF(B22<>"", SUM(H$13:H22), "")) -> 0
B24: {=IFERROR(INDEX( 'HD-produkten'!$A$3:$A$48, SMALL( IF(0 < 'HD-produkten'!$F$3:$F$48, ROW('HD-produkten'!$F$3:$F$48)-2, ""), ROW(A12))), "")} -> Zampro® | C24: =IF( B24<>"", VLOOKUP(B24,'HD-produkten'!$A$3:$F$113, 5, FALSE), "") -> 3672 | D24: =IF( B24<>"", VLOOKUP(B24,'HD-produkten'!$A$3:$F$113, 2, FALSE), "") -> Basf | E24: 0 | F24: =IF( B24<>"", VLOOKUP(B24,'HD-produkten'!$A$3:$F$113, 6, FALSE), "") -> 7.5 | G24: =IF( B24<>"", VLOOKUP(B24,'HD-produkten'!$A$3:$F$113, 3, FALSE), "") -> L | H24: =IF(B24<>"",E24*F24, IF(B23<>"", SUM(H$13:H23), "")) -> 0
B25: {=IFERROR(INDEX( 'HD-produkten'!$A$3:$A$48, SMALL( IF(0 < 'HD-produkten'!$F$3:$F$48, ROW('HD-produkten'!$F$3:$F$48)-2, ""), ROW(A13))), "")} -> Prosper | E25: 0 | F25: =IF( B25<>"", VLOOKUP(B25,'HD-produkten'!$A$3:$F$113, 6, FALSE), "") -> 1.6 | G25: =IF( B25<>"", VLOOKUP(B25,'HD-produkten'!$A$3:$F$113, 3, FALSE), "") | H25: =IF(B25<>"",E25*F25, IF(B24<>"", SUM(H$13:H24), "")) -> 0
B26: {=IFERROR(INDEX( 'HD-produkten'!$A$3:$A$48, SMALL( IF(0 < 'HD-produkten'!$F$3:$F$48, ROW('HD-produkten'!$F$3:$F$48)-2, ""), ROW(A14))), "")} | C26: =IF( B26<>"", VLOOKUP(B26,'HD-produkten'!$A$3:$F$113, 5, FALSE), "") | D26: =IF( B26<>"", VLOOKUP(B26,'HD-produkten'!$A$3:$F$113, 2, FALSE), "") | E26: 0 | F26: =IF( B26<>"", VLOOKUP(B26,'HD-produkten'!$A$3:$F$113, 6, FALSE), "") | G26: =IF( B26<>"", VLOOKUP(B26,'HD-produkten'!$A$3:$F$113, 3, FALSE), "") | H26: =IF(B26<>"",E26*F26, IF(B25<>"", SUM(H$13:H25), "")) -> 0
B27: {=IFERROR(INDEX( 'HD-produkten'!$A$3:$A$48, SMALL( IF(0 < 'HD-produkten'!$F$3:$F$48, ROW('HD-produkten'!$F$3:$F$48)-2, ""), ROW(A15))), "")} | C27: =IF( B27<>"", VLOOKUP(B27,'HD-produkten'!$A$3:$F$113, 5, FALSE), "") | D27: =IF( B27<>"", VLOOKUP(B27,'HD-produkten'!$A$3:$F$113, 2, FALSE), "") | E27: 0 | F27: =IF( B27<>"", VLOOKUP(B27,'HD-produkten'!$A$3:$F$113, 6, FALSE), "") | G27: =IF( B27<>"", VLOOKUP(B27,'HD-produkten'!$A$3:$F$113, 3, FALSE), "") | H27: =IF(B27<>"",E27*F27, IF(B26<>"", SUM(H$13:H26), ""))
B28: {=IFERROR(INDEX( 'HD-produkten'!$A$3:$A$48, SMALL( IF(0 < 'HD-produkten'!$F$3:$F$48, ROW('HD-produkten'!$F$3:$F$48)-2, ""), ROW(A16))), "")} | C28: =IF( B28<>"", VLOOKUP(B28,'HD-produkten'!$A$3:$F$113, 5, FALSE), "") | D28: =IF( B28<>"", VLOOKUP(B28,'HD-produkten'!$A$3:$F$113, 2, FALSE), "") | E28: 0 | F28: =IF( B28<>"", VLOOKUP(B28,'HD-produkten'!$A$3:$F$113, 6, FALSE), "") | G28: =IF( B28<>"", VLOOKUP(B28,'HD-produkten'!$A$3:$F$113, 3, FALSE), "") | H28: =IF(B28<>"",E28*F28, IF(B27<>"", SUM(H$13:H27), ""))
B29: {=IFERROR(INDEX( 'HD-produkten'!$A$3:$A$48, SMALL( IF(0 < 'HD-produkten'!$F$3:$F$48, ROW('HD-produkten'!$F$3:$F$48)-2, ""), ROW(A17))), "")} | C29: =IF( B29<>"", VLOOKUP(B29,'HD-produkten'!$A$3:$F$113, 5, FALSE), "") | D29: =IF( B29<>"", VLOOKUP(B29,'HD-produkten'!$A$3:$F$113, 2, FALSE), "") | E29: 0 | F29: =IF( B29<>"", VLOOKUP(B29,'HD-produkten'!$A$3:$F$113, 6, FALSE), "") | G29: =IF( B29<>"", VLOOKUP(B29,'HD-produkten'!$A$3:$F$113, 3, FALSE), "") | H29: =IF(B29<>"",E29*F29, IF(B28<>"", SUM(H$13:H28), ""))
B30: {=IFERROR(INDEX( 'HD-produkten'!$A$3:$A$48, SMALL( IF(0 < 'HD-produkten'!$F$3:$F$48, ROW('HD-produkten'!$F$3:$F$48)-2, ""), ROW(A18))), "")} | C30: =IF( B30<>"", VLOOKUP(B30,'HD-produkten'!$A$3:$F$113, 5, FALSE), "") | D30: =IF( B30<>"", VLOOKUP(B30,'HD-produkten'!$A$3:$F$113, 2, FALSE), "") | E30: 0 | F30: =IF( B30<>"", VLOOKUP(B30,'HD-produkten'!$A$3:$F$113, 6, FALSE), "") | G30: =IF( B30<>"", VLOOKUP(B30,'HD-produkten'!$A$3:$F$113, 3, FALSE), "") | H30: =IF(B30<>"",E30*F30, IF(B29<>"", SUM(H$13:H29), ""))
B31: {=IFERROR(INDEX( 'HD-produkten'!$A$3:$A$48, SMALL( IF(0 < 'HD-produkten'!$F$3:$F$48, ROW('HD-produkten'!$F$3:$F$48)-2, ""), ROW(A19))), "")} | C31: =IF( B31<>"", VLOOKUP(B31,'HD-produkten'!$A$3:$F$113, 5, FALSE), "") | D31: =IF( B31<>"", VLOOKUP(B31,'HD-produkten'!$A$3:$F$113, 2, FALSE), "") | E31: 0 | F31: =IF( B31<>"", VLOOKUP(B31,'HD-produkten'!$A$3:$F$113, 6, FALSE), "") | G31: =IF( B31<>"", VLOOKUP(B31,'HD-produkten'!$A$3:$F$113, 3, FALSE), "") | H31: =IF(B31<>"",E31*F31, IF(B30<>"", SUM(H$13:H30), ""))
B32: {=IFERROR(INDEX( 'HD-produkten'!$A$3:$A$48, SMALL( IF(0 < 'HD-produkten'!$F$3:$F$48, ROW('HD-produkten'!$F$3:$F$48)-2, ""), ROW(A20))), "")} | C32: =IF( B32<>"", VLOOKUP(B32,'HD-produkten'!$A$3:$F$113, 5, FALSE), "") | D32: =IF( B32<>"", VLOOKUP(B32,'HD-produkten'!$A$3:$F$113, 2, FALSE), "") | E32: 0 | F32: =IF( B32<>"", VLOOKUP(B32,'HD-produkten'!$A$3:$F$113, 6, FALSE), "") | G32: =IF( B32<>"", VLOOKUP(B32,'HD-produkten'!$A$3:$F$113, 3, FALSE), "") | H32: =IF(B32<>"",E32*F32, IF(B31<>"", SUM(H$13:H31), ""))
B33: {=IFERROR(INDEX( 'HD-produkten'!$A$3:$A$48, SMALL( IF(0 < 'HD-produkten'!$F$3:$F$48, ROW('HD-produkten'!$F$3:$F$48)-2, ""), ROW(A21))), "")} | C33: =IF( B33<>"", VLOOKUP(B33,'HD-produkten'!$A$3:$F$113, 5, FALSE), "") | D33: =IF( B33<>"", VLOOKUP(B33,'HD-produkten'!$A$3:$F$113, 2, FALSE), "") | E33: 0 | F33: =IF( B33<>"", VLOOKUP(B33,'HD-produkten'!$A$3:$F$113, 6, FALSE), "") | G33: =IF( B33<>"", VLOOKUP(B33,'HD-produkten'!$A$3:$F$113, 3, FALSE), "") | H33: =IF(B33<>"",E33*F33, IF(B32<>"", SUM(H$13:H32), ""))
B34: {=IFERROR(INDEX( 'HD-produkten'!$A$3:$A$48, SMALL( IF(0 < 'HD-produkten'!$F$3:$F$48, ROW('HD-produkten'!$F$3:$F$48)-2, ""), ROW(A22))), "")} | C34: =IF( B34<>"", VLOOKUP(B34,'HD-produkten'!$A$3:$F$113, 5, FALSE), "") | D34: =IF( B34<>"", VLOOKUP(B34,'HD-produkten'!$A$3:$F$113, 2, FALSE), "") | E34: 0 | F34: =IF( B34<>"", VLOOKUP(B34,'HD-produkten'!$A$3:$F$113, 6, FALSE), "") | G34: =IF( B34<>"", VLOOKUP(B34,'HD-produkten'!$A$3:$F$113, 3, FALSE), "") | H34: =IF(B34<>"",E34*F34, IF(B33<>"", SUM(H$13:H33), ""))
B35: {=IFERROR(INDEX( 'HD-produkten'!$A$3:$A$48, SMALL( IF(0 < 'HD-produkten'!$F$3:$F$48, ROW('HD-produkten'!$F$3:$F$48)-2, ""), ROW(A23))), "")} | C35: =IF( B35<>"", VLOOKUP(B35,'HD-produkten'!$A$3:$F$113, 5, FALSE), "") | D35: =IF( B35<>"", VLOOKUP(B35,'HD-produkten'!$A$3:$F$113, 2, FALSE), "") | E35: 0 | F35: =IF( B35<>"", VLOOKUP(B35,'HD-produkten'!$A$3:$F$113, 6, FALSE), "") | G35: =IF( B35<>"", VLOOKUP(B35,'HD-produkten'!$A$3:$F$113, 3, FALSE), "") | H35: =IF(B35<>"",E35*F35, IF(B34<>"", SUM(H$13:H34), ""))
B36: {=IFERROR(INDEX( 'HD-produkten'!$A$3:$A$48, SMALL( IF(0 < 'HD-produkten'!$F$3:$F$48, ROW('HD-produkten'!$F$3:$F$48)-2, ""), ROW(A24))), "")} | C36: =IF( B36<>"", VLOOKUP(B36,'HD-produkten'!$A$3:$F$113, 5, FALSE), "") | D36: =IF( B36<>"", VLOOKUP(B36,'HD-produkten'!$A$3:$F$113, 2, FALSE), "") | E36: 0 | F36: =IF( B36<>"", VLOOKUP(B36,'HD-produkten'!$A$3:$F$113, 6, FALSE), "") | G36: =IF( B36<>"", VLOOKUP(B36,'HD-produkten'!$A$3:$F$113, 3, FALSE), "") | H36: =IF(B36<>"",E36*F36, IF(B35<>"", SUM(H$13:H35), ""))
B37: {=IFERROR(INDEX( 'HD-produkten'!$A$3:$A$48, SMALL( IF(0 < 'HD-produkten'!$F$3:$F$48, ROW('HD-produkten'!$F$3:$F$48)-2, ""), ROW(A25))), "")} | C37: =IF( B37<>"", VLOOKUP(B37,'HD-produkten'!$A$3:$F$113, 5, FALSE), "") | D37: =IF( B37<>"", VLOOKUP(B37,'HD-produkten'!$A$3:$F$113, 2, FALSE), "") | E37: 0 | F37: =IF( B37<>"", VLOOKUP(B37,'HD-produkten'!$A$3:$F$113, 6, FALSE), "") | G37: =IF( B37<>"", VLOOKUP(B37,'HD-produkten'!$A$3:$F$113, 3, FALSE), "") | H37: =IF(B37<>"",E37*F37, IF(B36<>"", SUM(H$13:H36), ""))
... B43: {=IFERROR(INDEX( 'HD-produkten'!$A$3:$A$48, SMALL( IF(0 < 'HD-produkten'!$F$3:$F$48, ROW('HD-produkten'!$F$3:$F$48)-2, ""), ROW(A31))), "")} | C43: =IF( B43<>"", VLOOKUP(B43,'HD-produkten'!$A$3:$F$113, 5, FALSE), "") | D43: =IF( B43<>"", VLOOKUP(B43,'HD-produkten'!$A$3:$F$113, 2, FALSE), "") | E43: 0 | F43: =IF( B43<>"", VLOOKUP(B43,'HD-produkten'!$A$3:$F$113, 6, FALSE), "") | G43: =IF( B43<>"", VLOOKUP(B43,'HD-produkten'!$A$3:$F$113, 3, FALSE), "") | H43: =IF(B43<>"",E43*F43, IF(B42<>"", SUM(H$13:H42), ""))

Sheet Dosierrechner Blanko
D1: Berechnung der Pflanzenschutzmittelmenge für eine bestimmte Anlage
E2: . | F2: . | G2: . | H2: . | I2: . | J2: . | K2: . | L2: . | M2: . | N2: . | O2: .
B5: Kopfdaten: | H5: Bitte, fügen Sie folgende Daten ein
B7: Name :
B9: Betriebsgröße [ha] :
B11: Inhalt Spritzfass [L] :
B13: Wasseraufwandmenge/ha* bei voller Belaubung [L] :
B15: Anzahl der offenen Düsen bei voller Belaubung [Stk] :
B18: Zeitpunkt | C18: Datum [TT.MM] | D18: Produkt [Auswahl] | E18: Empfohlene Aufwandmenge bei voller Belaubung [kg, L, Stk / ha] | F18: Aktuellle Aufwandmenge bei voller Belaubung [kg, L, Stk / ha] | G18: Einheit [kg, L, Stk] | H18: Verwendete Düsenanzahl [Stk] | I18: Spritzbrühe [L / ha] | J18: Behandelte Fläche [ha] | K18: Produktmenge pro Spritzfassfüllung [kg, L, Stk] | L18: Gesamtproduktbedarf laut Entwicklunsstadien für den Betrieb [kg, L, Stk] | M18: Berechnete Aufwandmenge pro ha [kg, L, Stk] | N18: Bemerkungen
B19: Austrieb ES 09 | E19: =IF( ISTEXT(D19), IF(D19 = "Kumulus® WG", 7, IFERROR(IF(VLOOKUP(D19,'HD-produkten'!$A$3:$E$64, 4, FALSE) > 0, VLOOKUP(D19,'HD-produkten'!$A$3:$E$64, 4, FALSE), ""), "")), "") | G19: =IF( ISTEXT(D19), IFERROR(IF(VLOOKUP(D19,'HD-produkten'!$A$3:$E$16, 3, FALSE) > 0, VLOOKUP(D19,'HD-produkten'!$A$3:$E$64, 3, FALSE), ""), ""), "") | I19: =IF(AND(ISNUMBER(H19),ISNUMBER($H$13),ISNUMBER($H$15), ISTEXT(D19), D19 <> "Kumulus® WG"), $H$13*H19/$H$15, "") | K19: =IF(AND(ISNUMBER(M19), D19 <> "Kumulus® WG"), M19*$H$11/$H$13*$H$15/H19, "") | L19: =IF(ISNUMBER(M19),M19*IF(ISNUMBER(J19),J19,$H$9),"") | M19: =IF(AND(ISTEXT(D19),OR(ISNUMBER(F19),ISNUMBER(E19)), ISNUMBER($H$9), ISNUMBER($H$13), OR(D19 = "Kumulus® WG", AND(ISNUMBER(H19), ISNUMBER(I19)))), IF(ISNUMBER(F19), F19, E19)*IF(D19 = "Kumulus® WG", 1, I19/$H$13), "") | N19: *
E20: =IF( ISTEXT(D20), IF(D20 = "Kumulus® WG", 7, IFERROR(IF(VLOOKUP(D20,'HD-produkten'!$A$3:$E$64, 4, FALSE) > 0, VLOOKUP(D20,'HD-produkten'!$A$3:$E$64, 4, FALSE), ""), "")), "") | G20: =IF( ISTEXT(D20), IFERROR(IF(VLOOKUP(D20,'HD-produkten'!$A$3:$E$16, 3, FALSE) > 0, VLOOKUP(D20,'HD-produkten'!$A$3:$E$64, 3, FALSE), ""), ""), "") | I20: =IF(AND(ISNUMBER(H20),ISNUMBER($H$13),ISNUMBER($H$15), ISTEXT(D20), D20 <> "Kumulus® WG"), $H$13*H20/$H$15, "") | K20: =IF(AND(ISNUMBER(M20), D20 <> "Kumulus® WG"), M20*$H$11/$H$13*$H$15/H20, "") | L20: =IF(ISNUMBER(M20),M20*IF(ISNUMBER(J20),J20,$H$9),"") | M20: =IF(AND(ISTEXT(D20),OR(ISNUMBER(F20),ISNUMBER(E20)), ISNUMBER($H$9), ISNUMBER($H$13), OR(D20 = "Kumulus® WG", AND(ISNUMBER(H20), ISNUMBER(I20)))), IF(ISNUMBER(F20), F20, E20)*IF(D20 = "Kumulus® WG", 1, I20/$H$13), "")
E21: =IF( ISTEXT(D21), IF(D21 = "Kumulus® WG", 7, IFERROR(IF(VLOOKUP(D21,'HD-produkten'!$A$3:$E$64, 4, FALSE) > 0, VLOOKUP(D21,'HD-produkten'!$A$3:$E$64, 4, FALSE), ""), "")), "") | G21: =IF( ISTEXT(D21), IFERROR(IF(VLOOKUP(D21,'HD-produkten'!$A$3:$E$16, 3, FALSE) > 0, VLOOKUP(D21,'HD-produkten'!$A$3:$E$64, 3, FALSE), ""), ""), "") | I21: =IF(AND(ISNUMBER(H21),ISNUMBER($H$13),ISNUMBER($H$15), ISTEXT(D21), D21 <> "Kumulus® WG"), $H$13*H21/$H$15, "") | K21: =IF(AND(ISNUMBER(M21), D21 <> "Kumulus® WG"), M21*$H$11/$H$13*$H$15/H21, "") | L21: =IF(ISNUMBER(M21),M21*IF(ISNUMBER(J21),J21,$H$9),"") | M21: =IF(AND(ISTEXT(D21),OR(ISNUMBER(F21),ISNUMBER(E21)), ISNUMBER($H$9), ISNUMBER($H$13), OR(D21 = "Kumulus® WG", AND(ISNUMBER(H21), ISNUMBER(I21)))), IF(ISNUMBER(F21), F21, E21)*IF(D21 = "Kumulus® WG", 1, I21/$H$13), "")
E22: =IF( ISTEXT(D22), IF(D22 = "Kumulus® WG", 7, IFERROR(IF(VLOOKUP(D22,'HD-produkten'!$A$3:$E$64, 4, FALSE) > 0, VLOOKUP(D22,'HD-produkten'!$A$3:$E$64, 4, FALSE), ""), "")), "") | G22: =IF( ISTEXT(D22), IFERROR(IF(VLOOKUP(D22,'HD-produkten'!$A$3:$E$16, 3, FALSE) > 0, VLOOKUP(D22,'HD-produkten'!$A$3:$E$64, 3, FALSE), ""), ""), "") | I22: =IF(AND(ISNUMBER(H22),ISNUMBER($H$13),ISNUMBER($H$15), ISTEXT(D22), D22 <> "Kumulus® WG"), $H$13*H22/$H$15, "") | K22: =IF(AND(ISNUMBER(M22), D22 <> "Kumulus® WG"), M22*$H$11/$H$13*$H$15/H22, "") | L22: =IF(ISNUMBER(M22),M22*IF(ISNUMBER(J22),J22,$H$9),"") | M22: =IF(AND(ISTEXT(D22),OR(ISNUMBER(F22),ISNUMBER(E22)), ISNUMBER($H$9), ISNUMBER($H$13), OR(D22 = "Kumulus® WG", AND(ISNUMBER(H22), ISNUMBER(I22)))), IF(ISNUMBER(F22), F22, E22)*IF(D22 = "Kumulus® WG", 1, I22/$H$13), "")
E23: =IF( ISTEXT(D23), IF(D23 = "Kumulus® WG", 7, IFERROR(IF(VLOOKUP(D23,'HD-produkten'!$A$3:$E$64, 4, FALSE) > 0, VLOOKUP(D23,'HD-produkten'!$A$3:$E$64, 4, FALSE), ""), "")), "") | G23: =IF( ISTEXT(D23), IFERROR(IF(VLOOKUP(D23,'HD-produkten'!$A$3:$E$16, 3, FALSE) > 0, VLOOKUP(D23,'HD-produkten'!$A$3:$E$64, 3, FALSE), ""), ""), "") | I23: =IF(AND(ISNUMBER(H23),ISNUMBER($H$13),ISNUMBER($H$15), ISTEXT(D23), D23 <> "Kumulus® WG"), $H$13*H23/$H$15, "") | K23: =IF(AND(ISNUMBER(M23), D23 <> "Kumulus® WG"), M23*$H$11/$H$13*$H$15/H23, "") | L23: =IF(ISNUMBER(M23),M23*IF(ISNUMBER(J23),J23,$H$9),"") | M23: =IF(AND(ISTEXT(D23),OR(ISNUMBER(F23),ISNUMBER(E23)), ISNUMBER($H$9), ISNUMBER($H$13), OR(D23 = "Kumulus® WG", AND(ISNUMBER(H23), ISNUMBER(I23)))), IF(ISNUMBER(F23), F23, E23)*IF(D23 = "Kumulus® WG", 1, I23/$H$13), "")
E24: =IF( ISTEXT(D24), IF(D24 = "Kumulus® WG", 7, IFERROR(IF(VLOOKUP(D24,'HD-produkten'!$A$3:$E$64, 4, FALSE) > 0, VLOOKUP(D24,'HD-produkten'!$A$3:$E$64, 4, FALSE), ""), "")), "") | G24: =IF( ISTEXT(D24), IFERROR(IF(VLOOKUP(D24,'HD-produkten'!$A$3:$E$16, 3, FALSE) > 0, VLOOKUP(D24,'HD-produkten'!$A$3:$E$64, 3, FALSE), ""), ""), "") | I24: =IF(AND(ISNUMBER(H24),ISNUMBER($H$13),ISNUMBER($H$15), ISTEXT(D24), D24 <> "Kumulus® WG"), $H$13*H24/$H$15, "") | K24: =IF(AND(ISNUMBER(M24), D24 <> "Kumulus® WG"), M24*$H$11/$H$13*$H$15/H24, "") | L24: =IF(ISNUMBER(M24),M24*IF(ISNUMBER(J24),J24,$H$9),"") | M24: =IF(AND(ISTEXT(D24),OR(ISNUMBER(F24),ISNUMBER(E24)), ISNUMBER($H$9), ISNUMBER($H$13), OR(D24 = "Kumulus® WG", AND(ISNUMBER(H24), ISNUMBER(I24)))), IF(ISNUMBER(F24), F24, E24)*IF(D24 = "Kumulus® WG", 1, I24/$H$13), "")
E25: =IF( ISTEXT(D25), IF(D25 = "Kumulus® WG", 7, IFERROR(IF(VLOOKUP(D25,'HD-produkten'!$A$3:$E$64, 4, FALSE) > 0, VLOOKUP(D25,'HD-produkten'!$A$3:$E$64, 4, FALSE), ""), "")), "") | G25: =IF( ISTEXT(D25), IFERROR(IF(VLOOKUP(D25,'HD-produkten'!$A$3:$E$16, 3, FALSE) > 0, VLOOKUP(D25,'HD-produkten'!$A$3:$E$64, 3, FALSE), ""), ""), "") | I25: =IF(AND(ISNUMBER(H25),ISNUMBER($H$13),ISNUMBER($H$15), ISTEXT(D25), D25 <> "Kumulus® WG"), $H$13*H25/$H$15, "") | K25: =IF(AND(ISNUMBER(M25), D25 <> "Kumulus® WG"), M25*$H$11/$H$13*$H$15/H25, "") | L25: =IF(ISNUMBER(M25),M25*IF(ISNUMBER(J25),J25,$H$9),"") | M25: =IF(AND(ISTEXT(D25),OR(ISNUMBER(F25),ISNUMBER(E25)), ISNUMBER($H$9), ISNUMBER($H$13), OR(D25 = "Kumulus® WG", AND(ISNUMBER(H25), ISNUMBER(I25)))), IF(ISNUMBER(F25), F25, E25)*IF(D25 = "Kumulus® WG", 1, I25/$H$13), "")
B26: 3 - 6 Blatt Stadium ES 11 - 19 | E26: =IF( ISTEXT(D26), IFERROR(IF(VLOOKUP(D26,'HD-produkten'!$A$3:$E$64, 4, FALSE) > 0, VLOOKUP(D26,'HD-produkten'!$A$3:$E$64, 4, FALSE), ""), ""), "") | G26: =IF( ISTEXT(D26), IFERROR(IF(VLOOKUP(D26,'HD-produkten'!$A$3:$E$16, 3, FALSE) > 0, VLOOKUP(D26,'HD-produkten'!$A$3:$E$64, 3, FALSE), ""), ""), "") | I26: =IF(AND(ISNUMBER(H26),ISNUMBER($H$13),ISNUMBER($H$15), ISTEXT(D26)), $H$13*H26/$H$15, "") | K26: =IF(ISNUMBER(M26), $H$15/H26 * IF(D26 <> "Kumulus® WG", M26 * $H$11/$H$13, E26), "") | L26: =IF(ISNUMBER(M26),M26*IF(ISNUMBER(J26),J26,$H$9),"") | M26: =IF(AND( ISTEXT(D26), OR( ISNUMBER(F26), ISNUMBER(E26)), ISNUMBER(H26), ISNUMBER(I26), ISNUMBER($H$9), ISNUMBER($H$13)), IF(D26="Kumulus® WG", 3, IF(ISNUMBER(F26), F26, E26)*I26/$H$13), "")
E27: =IF( ISTEXT(D27), IFERROR(IF(VLOOKUP(D27,'HD-produkten'!$A$3:$E$64, 4, FALSE) > 0, VLOOKUP(D27,'HD-produkten'!$A$3:$E$64, 4, FALSE), ""), ""), "") | G27: =IF( ISTEXT(D27), IFERROR(IF(VLOOKUP(D27,'HD-produkten'!$A$3:$E$16, 3, FALSE) > 0, VLOOKUP(D27,'HD-produkten'!$A$3:$E$64, 3, FALSE), ""), ""), "") | I27: =IF(AND(ISNUMBER(H27),ISNUMBER($H$13),ISNUMBER($H$15), ISTEXT(D27)), $H$13*H27/$H$15, "") | K27: =IF(ISNUMBER(M27), $H$15/H27 * IF(D27 <> "Kumulus® WG", M27 * $H$11/$H$13, E27), "") | L27: =IF(ISNUMBER(M27),M27*IF(ISNUMBER(J27),J27,$H$9),"") | M27: =IF(AND( ISTEXT(D27), OR( ISNUMBER(F27), ISNUMBER(E27)), ISNUMBER(H27), ISNUMBER(I27), ISNUMBER($H$9), ISNUMBER($H$13)), IF(D27="Kumulus® WG", 3, IF(ISNUMBER(F27), F27, E27)*I27/$H$13), "")
E28: =IF( ISTEXT(D28), IFERROR(IF(VLOOKUP(D28,'HD-produkten'!$A$3:$E$64, 4, FALSE) > 0, VLOOKUP(D28,'HD-produkten'!$A$3:$E$64, 4, FALSE), ""), ""), "") | G28: =IF( ISTEXT(D28), IFERROR(IF(VLOOKUP(D28,'HD-produkten'!$A$3:$E$16, 3, FALSE) > 0, VLOOKUP(D28,'HD-produkten'!$A$3:$E$64, 3, FALSE), ""), ""), "") | I28: =IF(AND(ISNUMBER(H28),ISNUMBER($H$13),ISNUMBER($H$15), ISTEXT(D28)), $H$13*H28/$H$15, "") | K28: =IF(ISNUMBER(M28), $H$15/H28 * IF(D28 <> "Kumulus® WG", M28 * $H$11/$H$13, E28), "") | L28: =IF(ISNUMBER(M28),M28*IF(ISNUMBER(J28),J28,$H$9),"") | M28: =IF(AND( ISTEXT(D28), OR( ISNUMBER(F28), ISNUMBER(E28)), ISNUMBER(H28), ISNUMBER(I28), ISNUMBER($H$9), ISNUMBER($H$13)), IF(D28="Kumulus® WG", 3, IF(ISNUMBER(F28), F28, E28)*I28/$H$13), "")
E29: =IF( ISTEXT(D29), IFERROR(IF(VLOOKUP(D29,'HD-produkten'!$A$3:$E$64, 4, FALSE) > 0, VLOOKUP(D29,'HD-produkten'!$A$3:$E$64, 4, FALSE), ""), ""), "") | G29: =IF( ISTEXT(D29), IFERROR(IF(VLOOKUP(D29,'HD-produkten'!$A$3:$E$16, 3, FALSE) > 0, VLOOKUP(D29,'HD-produkten'!$A$3:$E$64, 3, FALSE), ""), ""), "") | I29: =IF(AND(ISNUMBER(H29),ISNUMBER($H$13),ISNUMBER($H$15), ISTEXT(D29)), $H$13*H29/$H$15, "") | K29: =IF(ISNUMBER(M29), $H$15/H29 * IF(D29 <> "Kumulus® WG", M29 * $H$11/$H$13, E29), "") | L29: =IF(ISNUMBER(M29),M29*IF(ISNUMBER(J29),J29,$H$9),"") | M29: =IF(AND( ISTEXT(D29), OR( ISNUMBER(F29), ISNUMBER(E29)), ISNUMBER(H29), ISNUMBER(I29), ISNUMBER($H$9), ISNUMBER($H$13)), IF(D29="Kumulus® WG", 3, IF(ISNUMBER(F29), F29, E29)*I29/$H$13), "")
E30: =IF( ISTEXT(D30), IFERROR(IF(VLOOKUP(D30,'HD-produkten'!$A$3:$E$64, 4, FALSE) > 0, VLOOKUP(D30,'HD-produkten'!$A$3:$E$64, 4, FALSE), ""), ""), "") | G30: =IF( ISTEXT(D30), IFERROR(IF(VLOOKUP(D30,'HD-produkten'!$A$3:$E$16, 3, FALSE) > 0, VLOOKUP(D30,'HD-produkten'!$A$3:$E$64, 3, FALSE), ""), ""), "") | I30: =IF(AND(ISNUMBER(H30),ISNUMBER($H$13),ISNUMBER($H$15), ISTEXT(D30)), $H$13*H30/$H$15, "") | K30: =IF(ISNUMBER(M30), $H$15/H30 * IF(D30 <> "Kumulus® WG", M30 * $H$11/$H$13, E30), "") | L30: =IF(ISNUMBER(M30),M30*IF(ISNUMBER(J30),J30,$H$9),"") | M30: =IF(AND( ISTEXT(D30), OR( ISNUMBER(F30), ISNUMBER(E30)), ISNUMBER(H30), ISNUMBER(I30), ISNUMBER($H$9), ISNUMBER($H$13)), IF(D30="Kumulus® WG", 3, IF(ISNUMBER(F30), F30, E30)*I30/$H$13), "")
E31: =IF( ISTEXT(D31), IFERROR(IF(VLOOKUP(D31,'HD-produkten'!$A$3:$E$64, 4, FALSE) > 0, VLOOKUP(D31,'HD-produkten'!$A$3:$E$64, 4, FALSE), ""), ""), "") | G31: =IF( ISTEXT(D31), IFERROR(IF(VLOOKUP(D31,'HD-produkten'!$A$3:$E$16, 3, FALSE) > 0, VLOOKUP(D31,'HD-produkten'!$A$3:$E$64, 3, FALSE), ""), ""), "") | I31: =IF(AND(ISNUMBER(H31),ISNUMBER($H$13),ISNUMBER($H$15), ISTEXT(D31)), $H$13*H31/$H$15, "") | K31: =IF(ISNUMBER(M31), $H$15/H31 * IF(D31 <> "Kumulus® WG", M31 * $H$11/$H$13, E31), "") | L31: =IF(ISNUMBER(M31),M31*IF(ISNUMBER(J31),J31,$H$9),"") | M31: =IF(AND( ISTEXT(D31), OR( ISNUMBER(F31), ISNUMBER(E31)), ISNUMBER(H31), ISNUMBER(I31), ISNUMBER($H$9), ISNUMBER($H$13)), IF(D31="Kumulus® WG", 3, IF(ISNUMBER(F31), F31, E31)*I31/$H$13), "")
E32: =IF( ISTEXT(D32), IFERROR(IF(VLOOKUP(D32,'HD-produkten'!$A$3:$E$64, 4, FALSE) > 0, VLOOKUP(D32,'HD-produkten'!$A$3:$E$64, 4, FALSE), ""), ""), "") | G32: =IF( ISTEXT(D32), IFERROR(IF(VLOOKUP(D32,'HD-produkten'!$A$3:$E$16, 3, FALSE) > 0, VLOOKUP(D32,'HD-produkten'!$A$3:$E$64, 3, FALSE), ""), ""), "") | I32: =IF(AND(ISNUMBER(H32),ISNUMBER($H$13),ISNUMBER($H$15), ISTEXT(D32)), $H$13*H32/$H$15, "") | K32: =IF(ISNUMBER(M32), $H$15/H32 * IF(D32 <> "Kumulus® WG", M32 * $H$11/$H$13, E32), "") | L32: =IF(ISNUMBER(M32),M32*IF(ISNUMBER(J32),J32,$H$9),"") | M32: =IF(AND( ISTEXT(D32), OR( ISNUMBER(F32), ISNUMBER(E32)), ISNUMBER(H32), ISNUMBER(I32), ISNUMBER($H$9), ISNUMBER($H$13)), IF(D32="Kumulus® WG", 3, IF(ISNUMBER(F32), F32, E32)*I32/$H$13), "")
E33: =IF( ISTEXT(D33), IFERROR(IF(VLOOKUP(D33,'HD-produkten'!$A$3:$E$64, 4, FALSE) > 0, VLOOKUP(D33,'HD-produkten'!$A$3:$E$64, 4, FALSE), ""), ""), "") | G33: =IF( ISTEXT(D33), IFERROR(IF(VLOOKUP(D33,'HD-produkten'!$A$3:$E$16, 3, FALSE) > 0, VLOOKUP(D33,'HD-produkten'!$A$3:$E$64, 3, FALSE), ""), ""), "") | I33: =IF(AND(ISNUMBER(H33),ISNUMBER($H$13),ISNUMBER($H$15), ISTEXT(D33)), $H$13*H33/$H$15, "") | K33: =IF(ISNUMBER(M33), $H$15/H33 * IF(D33 <> "Kumulus® WG", M33 * $H$11/$H$13, E33), "") | L33: =IF(ISNUMBER(M33),M33*IF(ISNUMBER(J33),J33,$H$9),"") | M33: =IF(AND( ISTEXT(D33), OR( ISNUMBER(F33), ISNUMBER(E33)), ISNUMBER(H33), ISNUMBER(I33), ISNUMBER($H$9), ISNUMBER($H$13)), IF(D33="Kumulus® WG", 3, IF(ISNUMBER(F33), F33, E33)*I33/$H$13), "")
B34: Letzte Vorblüte ES 57 – 61 | E34: =IF( ISTEXT(D34), IFERROR(IF(VLOOKUP(D34,'HD-produkten'!$A$3:$E$64, 4, FALSE) > 0, VLOOKUP(D34,'HD-produkten'!$A$3:$E$64, 4, FALSE), ""), ""), "") | G34: =IF( ISTEXT(D34), IFERROR(IF(VLOOKUP(D34,'HD-produkten'!$A$3:$E$16, 3, FALSE) > 0, VLOOKUP(D34,'HD-produkten'!$A$3:$E$64, 3, FALSE), ""), ""), "") | I34: =IF(AND(ISNUMBER(H34),ISNUMBER($H$13),ISNUMBER($H$15), ISTEXT(D34)), $H$13*H34/$H$15, "") | K34: =IF(ISNUMBER(M34), $H$15/H34 * IF(D34 <> "Kumulus® WG", M34 * $H$11/$H$13, E34), "") | L34: =IF(ISNUMBER(M34),M34*IF(ISNUMBER(J34),J34,$H$9),"") | M34: =IF(AND( ISTEXT(D34), OR( ISNUMBER(F34), ISNUMBER(E34)), ISNUMBER(H34), ISNUMBER(I34), ISNUMBER($H$9), ISNUMBER($H$13)), IF(D34="Kumulus® WG", 3, IF(ISNUMBER(F34), F34, E34)*I34/$H$13), "")
E35: =IF( ISTEXT(D35), IFERROR(IF(VLOOKUP(D35,'HD-produkten'!$A$3:$E$64, 4, FALSE) > 0, VLOOKUP(D35,'HD-produkten'!$A$3:$E$64, 4, FALSE), ""), ""), "") | G35: =IF( ISTEXT(D35), IFERROR(IF(VLOOKUP(D35,'HD-produkten'!$A$3:$E$16, 3, FALSE) > 0, VLOOKUP(D35,'HD-produkten'!$A$3:$E$64, 3, FALSE), ""), ""), "") | I35: =IF(AND(ISNUMBER(H35),ISNUMBER($H$13),ISNUMBER($H$15), ISTEXT(D35)), $H$13*H35/$H$15, "") | K35: =IF(ISNUMBER(M35), $H$15/H35 * IF(D35 <> "Kumulus® WG", M35 * $H$11/$H$13, E35), "") | L35: =IF(ISNUMBER(M35),M35*IF(ISNUMBER(J35),J35,$H$9),"") | M35: =IF(AND( ISTEXT(D35), OR( ISNUMBER(F35), ISNUMBER(E35)), ISNUMBER(H35), ISNUMBER(I35), ISNUMBER($H$9), ISNUMBER($H$13)), IF(D35="Kumulus® WG", 3, IF(ISNUMBER(F35), F35, E35)*I35/$H$13), "")
E36: =IF( ISTEXT(D36), IFERROR(IF(VLOOKUP(D36,'HD-produkten'!$A$3:$E$64, 4, FALSE) > 0, VLOOKUP(D36,'HD-produkten'!$A$3:$E$64, 4, FALSE), ""), ""), "") | G36: =IF( ISTEXT(D36), IFERROR(IF(VLOOKUP(D36,'HD-produkten'!$A$3:$E$16, 3, FALSE) > 0, VLOOKUP(D36,'HD-produkten'!$A$3:$E$64, 3, FALSE), ""), ""), "") | I36: =IF(AND(ISNUMBER(H36),ISNUMBER($H$13),ISNUMBER($H$15), ISTEXT(D36)), $H$13*H36/$H$15, "") | K36: =IF(ISNUMBER(M36), $H$15/H36 * IF(D36 <> "Kumulus® WG", M36 * $H$11/$H$13, E36), "") | L36: =IF(ISNUMBER(M36),M36*IF(ISNUMBER(J36),J36,$H$9),"") | M36: =IF(AND( ISTEXT(D36), OR( ISNUMBER(F36), ISNUMBER(E36)), ISNUMBER(H36), ISNUMBER(I36), ISNUMBER($H$9), ISNUMBER($H$13)), IF(D36="Kumulus® WG", 3, IF(ISNUMBER(F36), F36, E36)*I36/$H$13), "")
E37: =IF( ISTEXT(D37), IFERROR(IF(VLOOKUP(D37,'HD-produkten'!$A$3:$E$64, 4, FALSE) > 0, VLOOKUP(D37,'HD-produkten'!$A$3:$E$64, 4, FALSE), ""), ""), "") | G37: =IF( ISTEXT(D37), IFERROR(IF(VLOOKUP(D37,'HD-produkten'!$A$3:$E$16, 3, FALSE) > 0, VLOOKUP(D37,'HD-produkten'!$A$3:$E$64, 3, FALSE), ""), ""), "") | I37: =IF(AND(ISNUMBER(H37),ISNUMBER($H$13),ISNUMBER($H$15), ISTEXT(D37)), $H$13*H37/$H$15, "") | K37: =IF(ISNUMBER(M37), $H$15/H37 * IF(D37 <> "Kumulus® WG", M37 * $H$11/$H$13, E37), "") | L37: =IF(ISNUMBER(M37),M37*IF(ISNUMBER(J37),J37,$H$9),"") | M37: =IF(AND( ISTEXT(D37), OR( ISNUMBER(F37), ISNUMBER(E37)), ISNUMBER(H37), ISNUMBER(I37), ISNUMBER($H$9), ISNUMBER($H$13)), IF(D37="Kumulus® WG", 3, IF(ISNUMBER(F37), F37, E37)*I37/$H$13), "")
E38: =IF( ISTEXT(D38), IFERROR(IF(VLOOKUP(D38,'HD-produkten'!$A$3:$E$64, 4, FALSE) > 0, VLOOKUP(D38,'HD-produkten'!$A$3:$E$64, 4, FALSE), ""), ""), "") | G38: =IF( ISTEXT(D38), IFERROR(IF(VLOOKUP(D38,'HD-produkten'!$A$3:$E$16, 3, FALSE) > 0, VLOOKUP(D38,'HD-produkten'!$A$3:$E$64, 3, FALSE), ""), ""), "") | I38: =IF(AND(ISNUMBER(H38),ISNUMBER($H$13),ISNUMBER($H$15), ISTEXT(D38)), $H$13*H38/$H$15, "") | K38: =IF(ISNUMBER(M38), $H$15/H38 * IF(D38 <> "Kumulus® WG", M38 * $H$11/$H$13, E38), "") | L38: =IF(ISNUMBER(M38),M38*IF(ISNUMBER(J38),J38,$H$9),"") | M38: =IF(AND( ISTEXT(D38), OR( ISNUMBER(F38), ISNUMBER(E38)), ISNUMBER(H38), ISNUMBER(I38), ISNUMBER($H$9), ISNUMBER($H$13)), IF(D38="Kumulus® WG", 3, IF(ISNUMBER(F38), F38, E38)*I38/$H$13), "")
E39: =IF( ISTEXT(D39), IFERROR(IF(VLOOKUP(D39,'HD-produkten'!$A$3:$E$64, 4, FALSE) > 0, VLOOKUP(D39,'HD-produkten'!$A$3:$E$64, 4, FALSE), ""), ""), "") | G39: =IF( ISTEXT(D39), IFERROR(IF(VLOOKUP(D39,'HD-produkten'!$A$3:$E$16, 3, FALSE) > 0, VLOOKUP(D39,'HD-produkten'!$A$3:$E$64, 3, FALSE), ""), ""), "") | I39: =IF(AND(ISNUMBER(H39),ISNUMBER($H$13),ISNUMBER($H$15), ISTEXT(D39)), $H$13*H39/$H$15, "") | K39: =IF(ISNUMBER(M39), $H$15/H39 * IF(D39 <> "Kumulus® WG", M39 * $H$11/$H$13, E39), "") | L39: =IF(ISNUMBER(M39),M39*IF(ISNUMBER(J39),J39,$H$9),"") | M39: =IF(AND( ISTEXT(D39), OR( ISNUMBER(F39), ISNUMBER(E39)), ISNUMBER(H39), ISNUMBER(I39), ISNUMBER($H$9), ISNUMBER($H$13)), IF(D39="Kumulus® WG", 3, IF(ISNUMBER(F39), F39, E39)*I39/$H$13), "")
E40: =IF( ISTEXT(D40), IFERROR(IF(VLOOKUP(D40,'HD-produkten'!$A$3:$E$64, 4, FALSE) > 0, VLOOKUP(D40,'HD-produkten'!$A$3:$E$64, 4, FALSE), ""), ""), "") | G40: =IF( ISTEXT(D40), IFERROR(IF(VLOOKUP(D40,'HD-produkten'!$A$3:$E$16, 3, FALSE) > 0, VLOOKUP(D40,'HD-produkten'!$A$3:$E$64, 3, FALSE), ""), ""), "") | I40: =IF(AND(ISNUMBER(H40),ISNUMBER($H$13),ISNUMBER($H$15), ISTEXT(D40)), $H$13*H40/$H$15, "") | K40: =IF(ISNUMBER(M40), $H$15/H40 * IF(D40 <> "Kumulus® WG", M40 * $H$11/$H$13, E40), "") | L40: =IF(ISNUMBER(M40),M40*IF(ISNUMBER(J40),J40,$H$9),"") | M40: =IF(AND( ISTEXT(D40), OR( ISNUMBER(F40), ISNUMBER(E40)), ISNUMBER(H40), ISNUMBER(I40), ISNUMBER($H$9), ISNUMBER($H$13)), IF(D40="Kumulus® WG", 3, IF(ISNUMBER(F40), F40, E40)*I40/$H$13), "")
E41: =IF( ISTEXT(D41), IFERROR(IF(VLOOKUP(D41,'HD-produkten'!$A$3:$E$64, 4, FALSE) > 0, VLOOKUP(D41,'HD-produkten'!$A$3:$E$64, 4, FALSE), ""), ""), "") | G41: =IF( ISTEXT(D41), IFERROR(IF(VLOOKUP(D41,'HD-produkten'!$A$3:$E$16, 3, FALSE) > 0, VLOOKUP(D41,'HD-produkten'!$A$3:$E$64, 3, FALSE), ""), ""), "") | I41: =IF(AND(ISNUMBER(H41),ISNUMBER($H$13),ISNUMBER($H$15), ISTEXT(D41)), $H$13*H41/$H$15, "") | K41: =IF(ISNUMBER(M41), $H$15/H41 * IF(D41 <> "Kumulus® WG", M41 * $H$11/$H$13, E41), "") | L41: =IF(ISNUMBER(M41),M41*IF(ISNUMBER(J41),J41,$H$9),"") | M41: =IF(AND( ISTEXT(D41), OR( ISNUMBER(F41), ISNUMBER(E41)), ISNUMBER(H41), ISNUMBER(I41), ISNUMBER($H$9), ISNUMBER($H$13)), IF(D41="Kumulus® WG", 3, IF(ISNUMBER(F41), F41, E41)*I41/$H$13), "")
B42: Abgehende Blüte ES 68 - 69 | E42: =IF( ISTEXT(D42), IFERROR(IF(VLOOKUP(D42,'HD-produkten'!$A$3:$E$64, 4, FALSE) > 0, VLOOKUP(D42,'HD-produkten'!$A$3:$E$64, 4, FALSE), ""), ""), "") | G42: =IF( ISTEXT(D42), IFERROR(IF(VLOOKUP(D42,'HD-produkten'!$A$3:$E$16, 3, FALSE) > 0, VLOOKUP(D42,'HD-produkten'!$A$3:$E$64, 3, FALSE), ""), ""), "") | I42: =IF(AND(ISNUMBER(H42),ISNUMBER($H$13),ISNUMBER($H$15), ISTEXT(D42)), $H$13*H42/$H$15, "") | K42: =IF(ISNUMBER(M42), $H$15/H42 * IF(D42 <> "Kumulus® WG", M42 * $H$11/$H$13, E42), "") | L42: =IF(ISNUMBER(M42),M42*IF(ISNUMBER(J42),J42,$H$9),"") | M42: =IF(AND( ISTEXT(D42), OR( ISNUMBER(F42), ISNUMBER(E42)), ISNUMBER(H42), ISNUMBER(I42), ISNUMBER($H$9), ISNUMBER($H$13)), IF(D42="Kumulus® WG", 3, IF(ISNUMBER(F42), F42, E42)*I42/$H$13), "")
E43: =IF( ISTEXT(D43), IFERROR(IF(VLOOKUP(D43,'HD-produkten'!$A$3:$E$64, 4, FALSE) > 0, VLOOKUP(D43,'HD-produkten'!$A$3:$E$64, 4, FALSE), ""), ""), "") | G43: =IF( ISTEXT(D43), IFERROR(IF(VLOOKUP(D43,'HD-produkten'!$A$3:$E$16, 3, FALSE) > 0, VLOOKUP(D43,'HD-produkten'!$A$3:$E$64, 3, FALSE), ""), ""), "") | I43: =IF(AND(ISNUMBER(H43),ISNUMBER($H$13),ISNUMBER($H$15), ISTEXT(D43)), $H$13*H43/$H$15, "") | K43: =IF(ISNUMBER(M43), $H$15/H43 * IF(D43 <> "Kumulus® WG", M43 * $H$11/$H$13, E43), "") | L43: =IF(ISNUMBER(M43),M43*IF(ISNUMBER(J43),J43,$H$9),"") | M43: =IF(AND( ISTEXT(D43), OR( ISNUMBER(F43), ISNUMBER(E43)), ISNUMBER(H43), ISNUMBER(I43), ISNUMBER($H$9), ISNUMBER($H$13)), IF(D43="Kumulus® WG", 3, IF(ISNUMBER(F43), F43, E43)*I43/$H$13), "")
E44: =IF( ISTEXT(D44), IFERROR(IF(VLOOKUP(D44,'HD-produkten'!$A$3:$E$64, 4, FALSE) > 0, VLOOKUP(D44,'HD-produkten'!$A$3:$E$64, 4, FALSE), ""), ""), "") | G44: =IF( ISTEXT(D44), IFERROR(IF(VLOOKUP(D44,'HD-produkten'!$A$3:$E$16, 3, FALSE) > 0, VLOOKUP(D44,'HD-produkten'!$A$3:$E$64, 3, FALSE), ""), ""), "") | I44: =IF(AND(ISNUMBER(H44),ISNUMBER($H$13),ISNUMBER($H$15), ISTEXT(D44)), $H$13*H44/$H$15, "") | K44: =IF(ISNUMBER(M44), $H$15/H44 * IF(D44 <> "Kumulus® WG", M44 * $H$11/$H$13, E44), "") | L44: =IF(ISNUMBER(M44),M44*IF(ISNUMBER(J44),J44,$H$9),"") | M44: =IF(AND( ISTEXT(D44), OR( ISNUMBER(F44), ISNUMBER(E44)), ISNUMBER(H44), ISNUMBER(I44), ISNUMBER($H$9), ISNUMBER($H$13)), IF(D44="Kumulus® WG", 3, IF(ISNUMBER(F44), F44, E44)*I44/$H$13), "")
E45: =IF( ISTEXT(D45), IFERROR(IF(VLOOKUP(D45,'HD-produkten'!$A$3:$E$64, 4, FALSE) > 0, VLOOKUP(D45,'HD-produkten'!$A$3:$E$64, 4, FALSE), ""), ""), "") | G45: =IF( ISTEXT(D45), IFERROR(IF(VLOOKUP(D45,'HD-produkten'!$A$3:$E$16, 3, FALSE) > 0, VLOOKUP(D45,'HD-produkten'!$A$3:$E$64, 3, FALSE), ""), ""), "") | I45: =IF(AND(ISNUMBER(H45),ISNUMBER($H$13),ISNUMBER($H$15), ISTEXT(D45)), $H$13*H45/$H$15, "") | K45: =IF(ISNUMBER(M45), $H$15/H45 * IF(D45 <> "Kumulus® WG", M45 * $H$11/$H$13, E45), "") | L45: =IF(ISNUMBER(M45),M45*IF(ISNUMBER(J45),J45,$H$9),"") | M45: =IF(AND( ISTEXT(D45), OR( ISNUMBER(F45), ISNUMBER(E45)), ISNUMBER(H45), ISNUMBER(I45), ISNUMBER($H$9), ISNUMBER($H$13)), IF(D45="Kumulus® WG", 3, IF(ISNUMBER(F45), F45, E45)*I45/$H$13), "")
E46: =IF( ISTEXT(D46), IFERROR(IF(VLOOKUP(D46,'HD-produkten'!$A$3:$E$64, 4, FALSE) > 0, VLOOKUP(D46,'HD-produkten'!$A$3:$E$64, 4, FALSE), ""), ""), "") | G46: =IF( ISTEXT(D46), IFERROR(IF(VLOOKUP(D46,'HD-produkten'!$A$3:$E$16, 3, FALSE) > 0, VLOOKUP(D46,'HD-produkten'!$A$3:$E$64, 3, FALSE), ""), ""), "") | I46: =IF(AND(ISNUMBER(H46),ISNUMBER($H$13),ISNUMBER($H$15), ISTEXT(D46)), $H$13*H46/$H$15, "") | K46: =IF(ISNUMBER(M46), $H$15/H46 * IF(D46 <> "Kumulus® WG", M46 * $H$11/$H$13, E46), "") | L46: =IF(ISNUMBER(M46),M46*IF(ISNUMBER(J46),J46,$H$9),"") | M46: =IF(AND( ISTEXT(D46), OR( ISNUMBER(F46), ISNUMBER(E46)), ISNUMBER(H46), ISNUMBER(I46), ISNUMBER($H$9), ISNUMBER($H$13)), IF(D46="Kumulus® WG", 3, IF(ISNUMBER(F46), F46, E46)*I46/$H$13), "")
E47: =IF( ISTEXT(D47), IFERROR(IF(VLOOKUP(D47,'HD-produkten'!$A$3:$E$64, 4, FALSE) > 0, VLOOKUP(D47,'HD-produkten'!$A$3:$E$64, 4, FALSE), ""), ""), "") | G47: =IF( ISTEXT(D47), IFERROR(IF(VLOOKUP(D47,'HD-produkten'!$A$3:$E$16, 3, FALSE) > 0, VLOOKUP(D47,'HD-produkten'!$A$3:$E$64, 3, FALSE), ""), ""), "") | I47: =IF(AND(ISNUMBER(H47),ISNUMBER($H$13),ISNUMBER($H$15), ISTEXT(D47)), $H$13*H47/$H$15, "") | K47: =IF(ISNUMBER(M47), $H$15/H47 * IF(D47 <> "Kumulus® WG", M47 * $H$11/$H$13, E47), "") | L47: =IF(ISNUMBER(M47),M47*IF(ISNUMBER(J47),J47,$H$9),"") | M47: =IF(AND( ISTEXT(D47), OR( ISNUMBER(F47), ISNUMBER(E47)), ISNUMBER(H47), ISNUMBER(I47), ISNUMBER($H$9), ISNUMBER($H$13)), IF(D47="Kumulus® WG", 3, IF(ISNUMBER(F47), F47, E47)*I47/$H$13), "")
E48: =IF( ISTEXT(D48), IFERROR(IF(VLOOKUP(D48,'HD-produkten'!$A$3:$E$64, 4, FALSE) > 0, VLOOKUP(D48,'HD-produkten'!$A$3:$E$64, 4, FALSE), ""), ""), "") | G48: =IF( ISTEXT(D48), IFERROR(IF(VLOOKUP(D48,'HD-produkten'!$A$3:$E$16, 3, FALSE) > 0, VLOOKUP(D48,'HD-produkten'!$A$3:$E$64, 3, FALSE), ""), ""), "") | I48: =IF(AND(ISNUMBER(H48),ISNUMBER($H$13),ISNUMBER($H$15), ISTEXT(D48)), $H$13*H48/$H$15, "") | K48: =IF(ISNUMBER(M48), $H$15/H48 * IF(D48 <> "Kumulus® WG", M48 * $H$11/$H$13, E48), "") | L48: =IF(ISNUMBER(M48),M48*IF(ISNUMBER(J48),J48,$H$9),"") | M48: =IF(AND( ISTEXT(D48), OR( ISNUMBER(F48), ISNUMBER(E48)), ISNUMBER(H48), ISNUMBER(I48), ISNUMBER($H$9), ISNUMBER($H$13)), IF(D48="Kumulus® WG", 3, IF(ISNUMBER(F48), F48, E48)*I48/$H$13), "")
E49: =IF( ISTEXT(D49), IFERROR(IF(VLOOKUP(D49,'HD-produkten'!$A$3:$E$64, 4, FALSE) > 0, VLOOKUP(D49,'HD-produkten'!$A$3:$E$64, 4, FALSE), ""), ""), "") | G49: =IF( ISTEXT(D49), IFERROR(IF(VLOOKUP(D49,'HD-produkten'!$A$3:$E$16, 3, FALSE) > 0, VLOOKUP(D49,'HD-produkten'!$A$3:$E$64, 3, FALSE), ""), ""), "") | I49: =IF(AND(ISNUMBER(H49),ISNUMBER($H$13),ISNUMBER($H$15), ISTEXT(D49)), $H$13*H49/$H$15, "") | K49: =IF(ISNUMBER(M49), $H$15/H49 * IF(D49 <> "Kumulus® WG", M49 * $H$11/$H$13, E49), "") | L49: =IF(ISNUMBER(M49),M49*IF(ISNUMBER(J49),J49,$H$9),"") | M49: =IF(AND( ISTEXT(D49), OR( ISNUMBER(F49), ISNUMBER(E49)), ISNUMBER(H49), ISNUMBER(I49), ISNUMBER($H$9), ISNUMBER($H$13)), IF(D49="Kumulus® WG", 3, IF(ISNUMBER(F49), F49, E49)*I49/$H$13), "")
B50: Nachblüte ES 71 - 73 | E50: =IF( ISTEXT(D50), IFERROR(IF(VLOOKUP(D50,'HD-produkten'!$A$3:$E$64, 4, FALSE) > 0, VLOOKUP(D50,'HD-produkten'!$A$3:$E$64, 4, FALSE), ""), ""), "") | G50: =IF( ISTEXT(D50), IFERROR(IF(VLOOKUP(D50,'HD-produkten'!$A$3:$E$16, 3, FALSE) > 0, VLOOKUP(D50,'HD-produkten'!$A$3:$E$64, 3, FALSE), ""), ""), "") | I50: =IF(AND(ISNUMBER(H50),ISNUMBER($H$13),ISNUMBER($H$15), ISTEXT(D50)), $H$13*H50/$H$15, "") | K50: =IF(ISNUMBER(M50), $H$15/H50 * IF(D50 <> "Kumulus® WG", M50 * $H$11/$H$13, E50), "") | L50: =IF(ISNUMBER(M50),M50*IF(ISNUMBER(J50),J50,$H$9),"") | M50: =IF(AND( ISTEXT(D50), OR( ISNUMBER(F50), ISNUMBER(E50)), ISNUMBER(H50), ISNUMBER(I50), ISNUMBER($H$9), ISNUMBER($H$13)), IF(D50="Kumulus® WG", 3, IF(ISNUMBER(F50), F50, E50)*I50/$H$13), "")
E51: =IF( ISTEXT(D51), IFERROR(IF(VLOOKUP(D51,'HD-produkten'!$A$3:$E$64, 4, FALSE) > 0, VLOOKUP(D51,'HD-produkten'!$A$3:$E$64, 4, FALSE), ""), ""), "") | G51: =IF( ISTEXT(D51), IFERROR(IF(VLOOKUP(D51,'HD-produkten'!$A$3:$E$16, 3, FALSE) > 0, VLOOKUP(D51,'HD-produkten'!$A$3:$E$64, 3, FALSE), ""), ""), "") | I51: =IF(AND(ISNUMBER(H51),ISNUMBER($H$13),ISNUMBER($H$15), ISTEXT(D51)), $H$13*H51/$H$15, "") | K51: =IF(ISNUMBER(M51), $H$15/H51 * IF(D51 <> "Kumulus® WG", M51 * $H$11/$H$13, E51), "") | L51: =IF(ISNUMBER(M51),M51*IF(ISNUMBER(J51),J51,$H$9),"") | M51: =IF(AND( ISTEXT(D51), OR( ISNUMBER(F51), ISNUMBER(E51)), ISNUMBER(H51), ISNUMBER(I51), ISNUMBER($H$9), ISNUMBER($H$13)), IF(D51="Kumulus® WG", 3, IF(ISNUMBER(F51), F51, E51)*I51/$H$13), "")
E52: =IF( ISTEXT(D52), IFERROR(IF(VLOOKUP(D52,'HD-produkten'!$A$3:$E$64, 4, FALSE) > 0, VLOOKUP(D52,'HD-produkten'!$A$3:$E$64, 4, FALSE), ""), ""), "") | G52: =IF( ISTEXT(D52), IFERROR(IF(VLOOKUP(D52,'HD-produkten'!$A$3:$E$16, 3, FALSE) > 0, VLOOKUP(D52,'HD-produkten'!$A$3:$E$64, 3, FALSE), ""), ""), "") | I52: =IF(AND(ISNUMBER(H52),ISNUMBER($H$13),ISNUMBER($H$15), ISTEXT(D52)), $H$13*H52/$H$15, "") | K52: =IF(ISNUMBER(M52), $H$15/H52 * IF(D52 <> "Kumulus® WG", M52 * $H$11/$H$13, E52), "") | L52: =IF(ISNUMBER(M52),M52*IF(ISNUMBER(J52),J52,$H$9),"") | M52: =IF(AND( ISTEXT(D52), OR( ISNUMBER(F52), ISNUMBER(E52)), ISNUMBER(H52), ISNUMBER(I52), ISNUMBER($H$9), ISNUMBER($H$13)), IF(D52="Kumulus® WG", 3, IF(ISNUMBER(F52), F52, E52)*I52/$H$13), "")
E53: =IF( ISTEXT(D53), IFERROR(IF(VLOOKUP(D53,'HD-produkten'!$A$3:$E$64, 4, FALSE) > 0, VLOOKUP(D53,'HD-produkten'!$A$3:$E$64, 4, FALSE), ""), ""), "") | G53: =IF( ISTEXT(D53), IFERROR(IF(VLOOKUP(D53,'HD-produkten'!$A$3:$E$16, 3, FALSE) > 0, VLOOKUP(D53,'HD-produkten'!$A$3:$E$64, 3, FALSE), ""), ""), "") | I53: =IF(AND(ISNUMBER(H53),ISNUMBER($H$13),ISNUMBER($H$15), ISTEXT(D53)), $H$13*H53/$H$15, "") | K53: =IF(ISNUMBER(M53), $H$15/H53 * IF(D53 <> "Kumulus® WG", M53 * $H$11/$H$13, E53), "") | L53: =IF(ISNUMBER(M53),M53*IF(ISNUMBER(J53),J53,$H$9),"") | M53: =IF(AND( ISTEXT(D53), OR( ISNUMBER(F53), ISNUMBER(E53)), ISNUMBER(H53), ISNUMBER(I53), ISNUMBER($H$9), ISNUMBER($H$13)), IF(D53="Kumulus® WG", 3, IF(ISNUMBER(F53), F53, E53)*I53/$H$13), "")
E54: =IF( ISTEXT(D54), IFERROR(IF(VLOOKUP(D54,'HD-produkten'!$A$3:$E$64, 4, FALSE) > 0, VLOOKUP(D54,'HD-produkten'!$A$3:$E$64, 4, FALSE), ""), ""), "") | G54: =IF( ISTEXT(D54), IFERROR(IF(VLOOKUP(D54,'HD-produkten'!$A$3:$E$16, 3, FALSE) > 0, VLOOKUP(D54,'HD-produkten'!$A$3:$E$64, 3, FALSE), ""), ""), "") | I54: =IF(AND(ISNUMBER(H54),ISNUMBER($H$13),ISNUMBER($H$15), ISTEXT(D54)), $H$13*H54/$H$15, "") | K54: =IF(ISNUMBER(M54), $H$15/H54 * IF(D54 <> "Kumulus® WG", M54 * $H$11/$H$13, E54), "") | L54: =IF(ISNUMBER(M54),M54*IF(ISNUMBER(J54),J54,$H$9),"") | M54: =IF(AND( ISTEXT(D54), OR( ISNUMBER(F54), ISNUMBER(E54)), ISNUMBER(H54), ISNUMBER(I54), ISNUMBER($H$9), ISNUMBER($H$13)), IF(D54="Kumulus® WG", 3, IF(ISNUMBER(F54), F54, E54)*I54/$H$13), "")
E55: =IF( ISTEXT(D55), IFERROR(IF(VLOOKUP(D55,'HD-produkten'!$A$3:$E$64, 4, FALSE) > 0, VLOOKUP(D55,'HD-produkten'!$A$3:$E$64, 4, FALSE), ""), ""), "") | G55: =IF( ISTEXT(D55), IFERROR(IF(VLOOKUP(D55,'HD-produkten'!$A$3:$E$16, 3, FALSE) > 0, VLOOKUP(D55,'HD-produkten'!$A$3:$E$64, 3, FALSE), ""), ""), "") | I55: =IF(AND(ISNUMBER(H55),ISNUMBER($H$13),ISNUMBER($H$15), ISTEXT(D55)), $H$13*H55/$H$15, "") | K55: =IF(ISNUMBER(M55), $H$15/H55 * IF(D55 <> "Kumulus® WG", M55 * $H$11/$H$13, E55), "") | L55: =IF(ISNUMBER(M55),M55*IF(ISNUMBER(J55),J55,$H$9),"") | M55: =IF(AND( ISTEXT(D55), OR( ISNUMBER(F55), ISNUMBER(E55)), ISNUMBER(H55), ISNUMBER(I55), ISNUMBER($H$9), ISNUMBER($H$13)), IF(D55="Kumulus® WG", 3, IF(ISNUMBER(F55), F55, E55)*I55/$H$13), "")
E56: =IF( ISTEXT(D56), IFERROR(IF(VLOOKUP(D56,'HD-produkten'!$A$3:$E$64, 4, FALSE) > 0, VLOOKUP(D56,'HD-produkten'!$A$3:$E$64, 4, FALSE), ""), ""), "") | G56: =IF( ISTEXT(D56), IFERROR(IF(VLOOKUP(D56,'HD-produkten'!$A$3:$E$16, 3, FALSE) > 0, VLOOKUP(D56,'HD-produkten'!$A$3:$E$64, 3, FALSE), ""), ""), "") | I56: =IF(AND(ISNUMBER(H56),ISNUMBER($H$13),ISNUMBER($H$15), ISTEXT(D56)), $H$13*H56/$H$15, "") | K56: =IF(ISNUMBER(M56), $H$15/H56 * IF(D56 <> "Kumulus® WG", M56 * $H$11/$H$13, E56), "") | L56: =IF(ISNUMBER(M56),M56*IF(ISNUMBER(J56),J56,$H$9),"") | M56: =IF(AND( ISTEXT(D56), OR( ISNUMBER(F56), ISNUMBER(E56)), ISNUMBER(H56), ISNUMBER(I56), ISNUMBER($H$9), ISNUMBER($H$13)), IF(D56="Kumulus® WG", 3, IF(ISNUMBER(F56), F56, E56)*I56/$H$13), "")
E57: =IF( ISTEXT(D57), IFERROR(IF(VLOOKUP(D57,'HD-produkten'!$A$3:$E$64, 4, FALSE) > 0, VLOOKUP(D57,'HD-produkten'!$A$3:$E$64, 4, FALSE), ""), ""), "") | G57: =IF( ISTEXT(D57), IFERROR(IF(VLOOKUP(D57,'HD-produkten'!$A$3:$E$16, 3, FALSE) > 0, VLOOKUP(D57,'HD-produkten'!$A$3:$E$64, 3, FALSE), ""), ""), "") | I57: =IF(AND(ISNUMBER(H57),ISNUMBER($H$13),ISNUMBER($H$15), ISTEXT(D57)), $H$13*H57/$H$15, "") | K57: =IF(ISNUMBER(M57), $H$15/H57 * IF(D57 <> "Kumulus® WG", M57 * $H$11/$H$13, E57), "") | L57: =IF(ISNUMBER(M57),M57*IF(ISNUMBER(J57),J57,$H$9),"") | M57: =IF(AND( ISTEXT(D57), OR( ISNUMBER(F57), ISNUMBER(E57)), ISNUMBER(H57), ISNUMBER(I57), ISNUMBER($H$9), ISNUMBER($H$13)), IF(D57="Kumulus® WG", 3, IF(ISNUMBER(F57), F57, E57)*I57/$H$13), "")
B58: Vor Traubenschluss ES 73 - 75 | E58: =IF( ISTEXT(D58), IFERROR(IF(VLOOKUP(D58,'HD-produkten'!$A$3:$E$64, 4, FALSE) > 0, VLOOKUP(D58,'HD-produkten'!$A$3:$E$64, 4, FALSE), ""), ""), "") | G58: =IF( ISTEXT(D58), IFERROR(IF(VLOOKUP(D58,'HD-produkten'!$A$3:$E$16, 3, FALSE) > 0, VLOOKUP(D58,'HD-produkten'!$A$3:$E$64, 3, FALSE), ""), ""), "") | I58: =IF(AND(ISNUMBER(H58),ISNUMBER($H$13),ISNUMBER($H$15), ISTEXT(D58)), $H$13*H58/$H$15, "") | K58: =IF(ISNUMBER(M58), $H$15/H58 * IF(D58 <> "Kumulus® WG", M58 * $H$11/$H$13, E58), "") | L58: =IF(ISNUMBER(M58),M58*IF(ISNUMBER(J58),J58,$H$9),"") | M58: =IF(AND( ISTEXT(D58), OR( ISNUMBER(F58), ISNUMBER(E58)), ISNUMBER(H58), ISNUMBER(I58), ISNUMBER($H$9), ISNUMBER($H$13)), IF(D58="Kumulus® WG", 3, IF(ISNUMBER(F58), F58, E58)*I58/$H$13), "")
E59: =IF( ISTEXT(D59), IFERROR(IF(VLOOKUP(D59,'HD-produkten'!$A$3:$E$64, 4, FALSE) > 0, VLOOKUP(D59,'HD-produkten'!$A$3:$E$64, 4, FALSE), ""), ""), "") | G59: =IF( ISTEXT(D59), IFERROR(IF(VLOOKUP(D59,'HD-produkten'!$A$3:$E$16, 3, FALSE) > 0, VLOOKUP(D59,'HD-produkten'!$A$3:$E$64, 3, FALSE), ""), ""), "") | I59: =IF(AND(ISNUMBER(H59),ISNUMBER($H$13),ISNUMBER($H$15), ISTEXT(D59)), $H$13*H59/$H$15, "") | K59: =IF(ISNUMBER(M59), $H$15/H59 * IF(D59 <> "Kumulus® WG", M59 * $H$11/$H$13, E59), "") | L59: =IF(ISNUMBER(M59),M59*IF(ISNUMBER(J59),J59,$H$9),"") | M59: =IF(AND( ISTEXT(D59), OR( ISNUMBER(F59), ISNUMBER(E59)), ISNUMBER(H59), ISNUMBER(I59), ISNUMBER($H$9), ISNUMBER($H$13)), IF(D59="Kumulus® WG", 3, IF(ISNUMBER(F59), F59, E59)*I59/$H$13), "")
E60: =IF( ISTEXT(D60), IFERROR(IF(VLOOKUP(D60,'HD-produkten'!$A$3:$E$64, 4, FALSE) > 0, VLOOKUP(D60,'HD-produkten'!$A$3:$E$64, 4, FALSE), ""), ""), "") | G60: =IF( ISTEXT(D60), IFERROR(IF(VLOOKUP(D60,'HD-produkten'!$A$3:$E$16, 3, FALSE) > 0, VLOOKUP(D60,'HD-produkten'!$A$3:$E$64, 3, FALSE), ""), ""), "") | I60: =IF(AND(ISNUMBER(H60),ISNUMBER($H$13),ISNUMBER($H$15), ISTEXT(D60)), $H$13*H60/$H$15, "") | K60: =IF(ISNUMBER(M60), $H$15/H60 * IF(D60 <> "Kumulus® WG", M60 * $H$11/$H$13, E60), "") | L60: =IF(ISNUMBER(M60),M60*IF(ISNUMBER(J60),J60,$H$9),"") | M60: =IF(AND( ISTEXT(D60), OR( ISNUMBER(F60), ISNUMBER(E60)), ISNUMBER(H60), ISNUMBER(I60), ISNUMBER($H$9), ISNUMBER($H$13)), IF(D60="Kumulus® WG", 3, IF(ISNUMBER(F60), F60, E60)*I60/$H$13), "")
E61: =IF( ISTEXT(D61), IFERROR(IF(VLOOKUP(D61,'HD-produkten'!$A$3:$E$64, 4, FALSE) > 0, VLOOKUP(D61,'HD-produkten'!$A$3:$E$64, 4, FALSE), ""), ""), "") | G61: =IF( ISTEXT(D61), IFERROR(IF(VLOOKUP(D61,'HD-produkten'!$A$3:$E$16, 3, FALSE) > 0, VLOOKUP(D61,'HD-produkten'!$A$3:$E$64, 3, FALSE), ""), ""), "") | I61: =IF(AND(ISNUMBER(H61),ISNUMBER($H$13),ISNUMBER($H$15), ISTEXT(D61)), $H$13*H61/$H$15, "") | K61: =IF(ISNUMBER(M61), $H$15/H61 * IF(D61 <> "Kumulus® WG", M61 * $H$11/$H$13, E61), "") | L61: =IF(ISNUMBER(M61),M61*IF(ISNUMBER(J61),J61,$H$9),"") | M61: =IF(AND( ISTEXT(D61), OR( ISNUMBER(F61), ISNUMBER(E61)), ISNUMBER(H61), ISNUMBER(I61), ISNUMBER($H$9), ISNUMBER($H$13)), IF(D61="Kumulus® WG", 3, IF(ISNUMBER(F61), F61, E61)*I61/$H$13), "")
E62: =IF( ISTEXT(D62), IFERROR(IF(VLOOKUP(D62,'HD-produkten'!$A$3:$E$64, 4, FALSE) > 0, VLOOKUP(D62,'HD-produkten'!$A$3:$E$64, 4, FALSE), ""), ""), "") | G62: =IF( ISTEXT(D62), IFERROR(IF(VLOOKUP(D62,'HD-produkten'!$A$3:$E$16, 3, FALSE) > 0, VLOOKUP(D62,'HD-produkten'!$A$3:$E$64, 3, FALSE), ""), ""), "") | I62: =IF(AND(ISNUMBER(H62),ISNUMBER($H$13),ISNUMBER($H$15), ISTEXT(D62)), $H$13*H62/$H$15, "") | K62: =IF(ISNUMBER(M62), $H$15/H62 * IF(D62 <> "Kumulus® WG", M62 * $H$11/$H$13, E62), "") | L62: =IF(ISNUMBER(M62),M62*IF(ISNUMBER(J62),J62,$H$9),"") | M62: =IF(AND( ISTEXT(D62), OR( ISNUMBER(F62), ISNUMBER(E62)), ISNUMBER(H62), ISNUMBER(I62), ISNUMBER($H$9), ISNUMBER($H$13)), IF(D62="Kumulus® WG", 3, IF(ISNUMBER(F62), F62, E62)*I62/$H$13), "")
E63: =IF( ISTEXT(D63), IFERROR(IF(VLOOKUP(D63,'HD-produkten'!$A$3:$E$64, 4, FALSE) > 0, VLOOKUP(D63,'HD-produkten'!$A$3:$E$64, 4, FALSE), ""), ""), "") | G63: =IF( ISTEXT(D63), IFERROR(IF(VLOOKUP(D63,'HD-produkten'!$A$3:$E$16, 3, FALSE) > 0, VLOOKUP(D63,'HD-produkten'!$A$3:$E$64, 3, FALSE), ""), ""), "") | I63: =IF(AND(ISNUMBER(H63),ISNUMBER($H$13),ISNUMBER($H$15), ISTEXT(D63)), $H$13*H63/$H$15, "") | K63: =IF(ISNUMBER(M63), $H$15/H63 * IF(D63 <> "Kumulus® WG", M63 * $H$11/$H$13, E63), "") | L63: =IF(ISNUMBER(M63),M63*IF(ISNUMBER(J63),J63,$H$9),"") | M63: =IF(AND( ISTEXT(D63), OR( ISNUMBER(F63), ISNUMBER(E63)), ISNUMBER(H63), ISNUMBER(I63), ISNUMBER($H$9), ISNUMBER($H$13)), IF(D63="Kumulus® WG", 3, IF(ISNUMBER(F63), F63, E63)*I63/$H$13), "")
E64: =IF( ISTEXT(D64), IFERROR(IF(VLOOKUP(D64,'HD-produkten'!$A$3:$E$64, 4, FALSE) > 0, VLOOKUP(D64,'HD-produkten'!$A$3:$E$64, 4, FALSE), ""), ""), "") | G64: =IF( ISTEXT(D64), IFERROR(IF(VLOOKUP(D64,'HD-produkten'!$A$3:$E$16, 3, FALSE) > 0, VLOOKUP(D64,'HD-produkten'!$A$3:$E$64, 3, FALSE), ""), ""), "") | I64: =IF(AND(ISNUMBER(H64),ISNUMBER($H$13),ISNUMBER($H$15), ISTEXT(D64)), $H$13*H64/$H$15, "") | K64: =IF(ISNUMBER(M64), $H$15/H64 * IF(D64 <> "Kumulus® WG", M64 * $H$11/$H$13, E64), "") | L64: =IF(ISNUMBER(M64),M64*IF(ISNUMBER(J64),J64,$H$9),"") | M64: =IF(AND( ISTEXT(D64), OR( ISNUMBER(F64), ISNUMBER(E64)), ISNUMBER(H64), ISNUMBER(I64), ISNUMBER($H$9), ISNUMBER($H$13)), IF(D64="Kumulus® WG", 3, IF(ISNUMBER(F64), F64, E64)*I64/$H$13), "")
E65: =IF( ISTEXT(D65), IFERROR(IF(VLOOKUP(D65,'HD-produkten'!$A$3:$E$64, 4, FALSE) > 0, VLOOKUP(D65,'HD-produkten'!$A$3:$E$64, 4, FALSE), ""), ""), "") | G65: =IF( ISTEXT(D65), IFERROR(IF(VLOOKUP(D65,'HD-produkten'!$A$3:$E$16, 3, FALSE) > 0, VLOOKUP(D65,'HD-produkten'!$A$3:$E$64, 3, FALSE), ""), ""), "") | I65: =IF(AND(ISNUMBER(H65),ISNUMBER($H$13),ISNUMBER($H$15), ISTEXT(D65)), $H$13*H65/$H$15, "") | K65: =IF(ISNUMBER(M65), $H$15/H65 * IF(D65 <> "Kumulus® WG", M65 * $H$11/$H$13, E65), "") | L65: =IF(ISNUMBER(M65),M65*IF(ISNUMBER(J65),J65,$H$9),"") | M65: =IF(AND( ISTEXT(D65), OR( ISNUMBER(F65), ISNUMBER(E65)), ISNUMBER(H65), ISNUMBER(I65), ISNUMBER($H$9), ISNUMBER($H$13)), IF(D65="Kumulus® WG", 3, IF(ISNUMBER(F65), F65, E65)*I65/$H$13), "")
E66: =IF( ISTEXT(D66), IFERROR(IF(VLOOKUP(D66,'HD-produkten'!$A$3:$E$64, 4, FALSE) > 0, VLOOKUP(D66,'HD-produkten'!$A$3:$E$64, 4, FALSE), ""), ""), "") | G66: =IF( ISTEXT(D66), IFERROR(IF(VLOOKUP(D66,'HD-produkten'!$A$3:$E$16, 3, FALSE) > 0, VLOOKUP(D66,'HD-produkten'!$A$3:$E$64, 3, FALSE), ""), ""), "") | I66: =IF(AND(ISNUMBER(H66),ISNUMBER($H$13),ISNUMBER($H$15), ISTEXT(D66)), $H$13*H66/$H$15, "") | K66: =IF(ISNUMBER(M66), $H$15/H66 * IF(D66 <> "Kumulus® WG", M66 * $H$11/$H$13, E66), "") | L66: =IF(ISNUMBER(M66),M66*IF(ISNUMBER(J66),J66,$H$9),"") | M66: =IF(AND( ISTEXT(D66), OR( ISNUMBER(F66), ISNUMBER(E66)), ISNUMBER(H66), ISNUMBER(I66), ISNUMBER($H$9), ISNUMBER($H$13)), IF(D66="Kumulus® WG", 3, IF(ISNUMBER(F66), F66, E66)*I66/$H$13), "")
B67: Nach Traubenschluss ES 75 - 80 | E67: =IF( ISTEXT(D67), IFERROR(IF(VLOOKUP(D67,'HD-produkten'!$A$3:$E$64, 4, FALSE) > 0, VLOOKUP(D67,'HD-produkten'!$A$3:$E$64, 4, FALSE), ""), ""), "") | G67: =IF( ISTEXT(D67), IFERROR(IF(VLOOKUP(D67,'HD-produkten'!$A$3:$E$16, 3, FALSE) > 0, VLOOKUP(D67,'HD-produkten'!$A$3:$E$64, 3, FALSE), ""), ""), "") | I67: =IF(AND(ISNUMBER(H67),ISNUMBER($H$13),ISNUMBER($H$15), ISTEXT(D67)), $H$13*H67/$H$15, "") | K67: =IF(ISNUMBER(M67), $H$15/H67 * IF(D67 <> "Kumulus® WG", M67 * $H$11/$H$13, E67), "") | L67: =IF(ISNUMBER(M67),M67*IF(ISNUMBER(J67),J67,$H$9),"") | M67: =IF(AND( ISTEXT(D67), OR( ISNUMBER(F67), ISNUMBER(E67)), ISNUMBER(H67), ISNUMBER(I67), ISNUMBER($H$9), ISNUMBER($H$13)), IF(D67="Kumulus® WG", 3, IF(ISNUMBER(F67), F67, E67)*I67/$H$13), "") | N67: **
E68: =IF( ISTEXT(D68), IFERROR(IF(VLOOKUP(D68,'HD-produkten'!$A$3:$E$64, 4, FALSE) > 0, VLOOKUP(D68,'HD-produkten'!$A$3:$E$64, 4, FALSE), ""), ""), "") | G68: =IF( ISTEXT(D68), IFERROR(IF(VLOOKUP(D68,'HD-produkten'!$A$3:$E$16, 3, FALSE) > 0, VLOOKUP(D68,'HD-produkten'!$A$3:$E$64, 3, FALSE), ""), ""), "") | I68: =IF(AND(ISNUMBER(H68),ISNUMBER($H$13),ISNUMBER($H$15), ISTEXT(D68)), $H$13*H68/$H$15, "") | K68: =IF(ISNUMBER(M68), $H$15/H68 * IF(D68 <> "Kumulus® WG", M68 * $H$11/$H$13, E68), "") | L68: =IF(ISNUMBER(M68),M68*IF(ISNUMBER(J68),J68,$H$9),"") | M68: =IF(AND( ISTEXT(D68), OR( ISNUMBER(F68), ISNUMBER(E68)), ISNUMBER(H68), ISNUMBER(I68), ISNUMBER($H$9), ISNUMBER($H$13)), IF(D68="Kumulus® WG", 3, IF(ISNUMBER(F68), F68, E68)*I68/$H$13), "")
E69: =IF( ISTEXT(D69), IFERROR(IF(VLOOKUP(D69,'HD-produkten'!$A$3:$E$64, 4, FALSE) > 0, VLOOKUP(D69,'HD-produkten'!$A$3:$E$64, 4, FALSE), ""), ""), "") | G69: =IF( ISTEXT(D69), IFERROR(IF(VLOOKUP(D69,'HD-produkten'!$A$3:$E$16, 3, FALSE) > 0, VLOOKUP(D69,'HD-produkten'!$A$3:$E$64, 3, FALSE), ""), ""), "") | I69: =IF(AND(ISNUMBER(H69),ISNUMBER($H$13),ISNUMBER($H$15), ISTEXT(D69)), $H$13*H69/$H$15, "") | K69: =IF(ISNUMBER(M69), $H$15/H69 * IF(D69 <> "Kumulus® WG", M69 * $H$11/$H$13, E69), "") | L69: =IF(ISNUMBER(M69),M69*IF(ISNUMBER(J69),J69,$H$9),"") | M69: =IF(AND( ISTEXT(D69), OR( ISNUMBER(F69), ISNUMBER(E69)), ISNUMBER(H69), ISNUMBER(I69), ISNUMBER($H$9), ISNUMBER($H$13)), IF(D69="Kumulus® WG", 3, IF(ISNUMBER(F69), F69, E69)*I69/$H$13), "")
E70: =IF( ISTEXT(D70), IFERROR(IF(VLOOKUP(D70,'HD-produkten'!$A$3:$E$64, 4, FALSE) > 0, VLOOKUP(D70,'HD-produkten'!$A$3:$E$64, 4, FALSE), ""), ""), "") | G70: =IF( ISTEXT(D70), IFERROR(IF(VLOOKUP(D70,'HD-produkten'!$A$3:$E$16, 3, FALSE) > 0, VLOOKUP(D70,'HD-produkten'!$A$3:$E$64, 3, FALSE), ""), ""), "") | I70: =IF(AND(ISNUMBER(H70),ISNUMBER($H$13),ISNUMBER($H$15), ISTEXT(D70)), $H$13*H70/$H$15, "") | K70: =IF(ISNUMBER(M70), $H$15/H70 * IF(D70 <> "Kumulus® WG", M70 * $H$11/$H$13, E70), "") | L70: =IF(ISNUMBER(M70),M70*IF(ISNUMBER(J70),J70,$H$9),"") | M70: =IF(AND( ISTEXT(D70), OR( ISNUMBER(F70), ISNUMBER(E70)), ISNUMBER(H70), ISNUMBER(I70), ISNUMBER($H$9), ISNUMBER($H$13)), IF(D70="Kumulus® WG", 3, IF(ISNUMBER(F70), F70, E70)*I70/$H$13), "")
E71: =IF( ISTEXT(D71), IFERROR(IF(VLOOKUP(D71,'HD-produkten'!$A$3:$E$64, 4, FALSE) > 0, VLOOKUP(D71,'HD-produkten'!$A$3:$E$64, 4, FALSE), ""), ""), "") | G71: =IF( ISTEXT(D71), IFERROR(IF(VLOOKUP(D71,'HD-produkten'!$A$3:$E$16, 3, FALSE) > 0, VLOOKUP(D71,'HD-produkten'!$A$3:$E$64, 3, FALSE), ""), ""), "") | I71: =IF(AND(ISNUMBER(H71),ISNUMBER($H$13),ISNUMBER($H$15), ISTEXT(D71)), $H$13*H71/$H$15, "") | K71: =IF(ISNUMBER(M71), $H$15/H71 * IF(D71 <> "Kumulus® WG", M71 * $H$11/$H$13, E71), "") | L71: =IF(ISNUMBER(M71),M71*IF(ISNUMBER(J71),J71,$H$9),"") | M71: =IF(AND( ISTEXT(D71), OR( ISNUMBER(F71), ISNUMBER(E71)), ISNUMBER(H71), ISNUMBER(I71), ISNUMBER($H$9), ISNUMBER($H$13)), IF(D71="Kumulus® WG", 3, IF(ISNUMBER(F71), F71, E71)*I71/$H$13), "")
E72: =IF( ISTEXT(D72), IFERROR(IF(VLOOKUP(D72,'HD-produkten'!$A$3:$E$64, 4, FALSE) > 0, VLOOKUP(D72,'HD-produkten'!$A$3:$E$64, 4, FALSE), ""), ""), "") | G72: =IF( ISTEXT(D72), IFERROR(IF(VLOOKUP(D72,'HD-produkten'!$A$3:$E$16, 3, FALSE) > 0, VLOOKUP(D72,'HD-produkten'!$A$3:$E$64, 3, FALSE), ""), ""), "") | I72: =IF(AND(ISNUMBER(H72),ISNUMBER($H$13),ISNUMBER($H$15), ISTEXT(D72)), $H$13*H72/$H$15, "") | K72: =IF(ISNUMBER(M72), $H$15/H72 * IF(D72 <> "Kumulus® WG", M72 * $H$11/$H$13, E72), "") | L72: =IF(ISNUMBER(M72),M72*IF(ISNUMBER(J72),J72,$H$9),"") | M72: =IF(AND( ISTEXT(D72), OR( ISNUMBER(F72), ISNUMBER(E72)), ISNUMBER(H72), ISNUMBER(I72), ISNUMBER($H$9), ISNUMBER($H$13)), IF(D72="Kumulus® WG", 3, IF(ISNUMBER(F72), F72, E72)*I72/$H$13), "")
E73: =IF( ISTEXT(D73), IFERROR(IF(VLOOKUP(D73,'HD-produkten'!$A$3:$E$64, 4, FALSE) > 0, VLOOKUP(D73,'HD-produkten'!$A$3:$E$64, 4, FALSE), ""), ""), "") | G73: =IF( ISTEXT(D73), IFERROR(IF(VLOOKUP(D73,'HD-produkten'!$A$3:$E$16, 3, FALSE) > 0, VLOOKUP(D73,'HD-produkten'!$A$3:$E$64, 3, FALSE), ""), ""), "") | I73: =IF(AND(ISNUMBER(H73),ISNUMBER($H$13),ISNUMBER($H$15), ISTEXT(D73)), $H$13*H73/$H$15, "") | K73: =IF(ISNUMBER(M73), $H$15/H73 * IF(D73 <> "Kumulus® WG", M73 * $H$11/$H$13, E73), "") | L73: =IF(ISNUMBER(M73),M73*IF(ISNUMBER(J73),J73,$H$9),"") | M73: =IF(AND( ISTEXT(D73), OR( ISNUMBER(F73), ISNUMBER(E73)), ISNUMBER(H73), ISNUMBER(I73), ISNUMBER($H$9), ISNUMBER($H$13)), IF(D73="Kumulus® WG", 3, IF(ISNUMBER(F73), F73, E73)*I73/$H$13), "")
E74: =IF( ISTEXT(D74), IFERROR(IF(VLOOKUP(D74,'HD-produkten'!$A$3:$E$64, 4, FALSE) > 0, VLOOKUP(D74,'HD-produkten'!$A$3:$E$64, 4, FALSE), ""), ""), "") | G74: =IF( ISTEXT(D74), IFERROR(IF(VLOOKUP(D74,'HD-produkten'!$A$3:$E$16, 3, FALSE) > 0, VLOOKUP(D74,'HD-produkten'!$A$3:$E$64, 3, FALSE), ""), ""), "") | I74: =IF(AND(ISNUMBER(H74),ISNUMBER($H$13),ISNUMBER($H$15), ISTEXT(D74)), $H$13*H74/$H$15, "") | K74: =IF(ISNUMBER(M74), $H$15/H74 * IF(D74 <> "Kumulus® WG", M74 * $H$11/$H$13, E74), "") | L74: =IF(ISNUMBER(M74),M74*IF(ISNUMBER(J74),J74,$H$9),"") | M74: =IF(AND( ISTEXT(D74), OR( ISNUMBER(F74), ISNUMBER(E74)), ISNUMBER(H74), ISNUMBER(I74), ISNUMBER($H$9), ISNUMBER($H$13)), IF(D74="Kumulus® WG", 3, IF(ISNUMBER(F74), F74, E74)*I74/$H$13), "")
E75: =IF( ISTEXT(D75), IFERROR(IF(VLOOKUP(D75,'HD-produkten'!$A$3:$E$64, 4, FALSE) > 0, VLOOKUP(D75,'HD-produkten'!$A$3:$E$64, 4, FALSE), ""), ""), "") | G75: =IF( ISTEXT(D75), IFERROR(IF(VLOOKUP(D75,'HD-produkten'!$A$3:$E$16, 3, FALSE) > 0, VLOOKUP(D75,'HD-produkten'!$A$3:$E$64, 3, FALSE), ""), ""), "") | I75: =IF(AND(ISNUMBER(H75),ISNUMBER($H$13),ISNUMBER($H$15), ISTEXT(D75)), $H$13*H75/$H$15, "") | K75: =IF(ISNUMBER(M75), $H$15/H75 * IF(D75 <> "Kumulus® WG", M75 * $H$11/$H$13, E75), "") | L75: =IF(ISNUMBER(M75),M75*IF(ISNUMBER(J75),J75,$H$9),"") | M75: =IF(AND( ISTEXT(D75), OR( ISNUMBER(F75), ISNUMBER(E75)), ISNUMBER(H75), ISNUMBER(I75), ISNUMBER($H$9), ISNUMBER($H$13)), IF(D75="Kumulus® WG", 3, IF(ISNUMBER(F75), F75, E75)*I75/$H$13), "")
B76: Abschluss ES 81 | E76: =IF( ISTEXT(D76), IFERROR(IF(VLOOKUP(D76,'HD-produkten'!$A$3:$E$64, 4, FALSE) > 0, VLOOKUP(D76,'HD-produkten'!$A$3:$E$64, 4, FALSE), ""), ""), "") | G76: =IF( ISTEXT(D76), IFERROR(IF(VLOOKUP(D76,'HD-produkten'!$A$3:$E$16, 3, FALSE) > 0, VLOOKUP(D76,'HD-produkten'!$A$3:$E$64, 3, FALSE), ""), ""), "") | I76: =IF(AND(ISNUMBER(H76),ISNUMBER($H$13),ISNUMBER($H$15), ISTEXT(D76)), $H$13*H76/$H$15, "") | K76: =IF(ISNUMBER(M76), $H$15/H76 * IF(D76 <> "Kumulus® WG", M76 * $H$11/$H$13, E76), "") | L76: =IF(ISNUMBER(M76),M76*IF(ISNUMBER(J76),J76,$H$9),"") | M76: =IF(AND( ISTEXT(D76), OR( ISNUMBER(F76), ISNUMBER(E76)), ISNUMBER(H76), ISNUMBER(I76), ISNUMBER($H$9), ISNUMBER($H$13)), IF(D76="Kumulus® WG", 3, IF(ISNUMBER(F76), F76, E76)*I76/$H$13), "")
E77: =IF( ISTEXT(D77), IFERROR(IF(VLOOKUP(D77,'HD-produkten'!$A$3:$E$64, 4, FALSE) > 0, VLOOKUP(D77,'HD-produkten'!$A$3:$E$64, 4, FALSE), ""), ""), "") | G77: =IF( ISTEXT(D77), IFERROR(IF(VLOOKUP(D77,'HD-produkten'!$A$3:$E$16, 3, FALSE) > 0, VLOOKUP(D77,'HD-produkten'!$A$3:$E$64, 3, FALSE), ""), ""), "") | I77: =IF(AND(ISNUMBER(H77),ISNUMBER($H$13),ISNUMBER($H$15), ISTEXT(D77)), $H$13*H77/$H$15, "") | K77: =IF(ISNUMBER(M77), $H$15/H77 * IF(D77 <> "Kumulus® WG", M77 * $H$11/$H$13, E77), "") | L77: =IF(ISNUMBER(M77),M77*IF(ISNUMBER(J77),J77,$H$9),"") | M77: =IF(AND( ISTEXT(D77), OR( ISNUMBER(F77), ISNUMBER(E77)), ISNUMBER(H77), ISNUMBER(I77), ISNUMBER($H$9), ISNUMBER($H$13)), IF(D77="Kumulus® WG", 3, IF(ISNUMBER(F77), F77, E77)*I77/$H$13), "")
E78: =IF( ISTEXT(D78), IFERROR(IF(VLOOKUP(D78,'HD-produkten'!$A$3:$E$64, 4, FALSE) > 0, VLOOKUP(D78,'HD-produkten'!$A$3:$E$64, 4, FALSE), ""), ""), "") | G78: =IF( ISTEXT(D78), IFERROR(IF(VLOOKUP(D78,'HD-produkten'!$A$3:$E$16, 3, FALSE) > 0, VLOOKUP(D78,'HD-produkten'!$A$3:$E$64, 3, FALSE), ""), ""), "") | I78: =IF(AND(ISNUMBER(H78),ISNUMBER($H$13),ISNUMBER($H$15), ISTEXT(D78)), $H$13*H78/$H$15, "") | K78: =IF(ISNUMBER(M78), $H$15/H78 * IF(D78 <> "Kumulus® WG", M78 * $H$11/$H$13, E78), "") | L78: =IF(ISNUMBER(M78),M78*IF(ISNUMBER(J78),J78,$H$9),"") | M78: =IF(AND( ISTEXT(D78), OR( ISNUMBER(F78), ISNUMBER(E78)), ISNUMBER(H78), ISNUMBER(I78), ISNUMBER($H$9), ISNUMBER($H$13)), IF(D78="Kumulus® WG", 3, IF(ISNUMBER(F78), F78, E78)*I78/$H$13), "")
E79: =IF( ISTEXT(D79), IFERROR(IF(VLOOKUP(D79,'HD-produkten'!$A$3:$E$64, 4, FALSE) > 0, VLOOKUP(D79,'HD-produkten'!$A$3:$E$64, 4, FALSE), ""), ""), "") | G79: =IF( ISTEXT(D79), IFERROR(IF(VLOOKUP(D79,'HD-produkten'!$A$3:$E$16, 3, FALSE) > 0, VLOOKUP(D79,'HD-produkten'!$A$3:$E$64, 3, FALSE), ""), ""), "") | I79: =IF(AND(ISNUMBER(H79),ISNUMBER($H$13),ISNUMBER($H$15), ISTEXT(D79)), $H$13*H79/$H$15, "") | K79: =IF(ISNUMBER(M79), $H$15/H79 * IF(D79 <> "Kumulus® WG", M79 * $H$11/$H$13, E79), "") | L79: =IF(ISNUMBER(M79),M79*IF(ISNUMBER(J79),J79,$H$9),"") | M79: =IF(AND( ISTEXT(D79), OR( ISNUMBER(F79), ISNUMBER(E79)), ISNUMBER(H79), ISNUMBER(I79), ISNUMBER($H$9), ISNUMBER($H$13)), IF(D79="Kumulus® WG", 3, IF(ISNUMBER(F79), F79, E79)*I79/$H$13), "")
E80: =IF( ISTEXT(D80), IFERROR(IF(VLOOKUP(D80,'HD-produkten'!$A$3:$E$64, 4, FALSE) > 0, VLOOKUP(D80,'HD-produkten'!$A$3:$E$64, 4, FALSE), ""), ""), "") | G80: =IF( ISTEXT(D80), IFERROR(IF(VLOOKUP(D80,'HD-produkten'!$A$3:$E$16, 3, FALSE) > 0, VLOOKUP(D80,'HD-produkten'!$A$3:$E$64, 3, FALSE), ""), ""), "") | I80: =IF(AND(ISNUMBER(H80),ISNUMBER($H$13),ISNUMBER($H$15), ISTEXT(D80)), $H$13*H80/$H$15, "") | K80: =IF(ISNUMBER(M80), $H$15/H80 * IF(D80 <> "Kumulus® WG", M80 * $H$11/$H$13, E80), "") | L80: =IF(ISNUMBER(M80),M80*IF(ISNUMBER(J80),J80,$H$9),"") | M80: =IF(AND( ISTEXT(D80), OR( ISNUMBER(F80), ISNUMBER(E80)), ISNUMBER(H80), ISNUMBER(I80), ISNUMBER($H$9), ISNUMBER($H$13)), IF(D80="Kumulus® WG", 3, IF(ISNUMBER(F80), F80, E80)*I80/$H$13), "")
E81: =IF( ISTEXT(D81), IFERROR(IF(VLOOKUP(D81,'HD-produkten'!$A$3:$E$64, 4, FALSE) > 0, VLOOKUP(D81,'HD-produkten'!$A$3:$E$64, 4, FALSE), ""), ""), "") | G81: =IF( ISTEXT(D81), IFERROR(IF(VLOOKUP(D81,'HD-produkten'!$A$3:$E$16, 3, FALSE) > 0, VLOOKUP(D81,'HD-produkten'!$A$3:$E$64, 3, FALSE), ""), ""), "") | I81: =IF(AND(ISNUMBER(H81),ISNUMBER($H$13),ISNUMBER($H$15), ISTEXT(D81)), $H$13*H81/$H$15, "") | K81: =IF(ISNUMBER(M81), $H$15/H81 * IF(D81 <> "Kumulus® WG", M81 * $H$11/$H$13, E81), "") | L81: =IF(ISNUMBER(M81),M81*IF(ISNUMBER(J81),J81,$H$9),"") | M81: =IF(AND( ISTEXT(D81), OR( ISNUMBER(F81), ISNUMBER(E81)), ISNUMBER(H81), ISNUMBER(I81), ISNUMBER($H$9), ISNUMBER($H$13)), IF(D81="Kumulus® WG", 3, IF(ISNUMBER(F81), F81, E81)*I81/$H$13), "")
E82: =IF( ISTEXT(D82), IFERROR(IF(VLOOKUP(D82,'HD-produkten'!$A$3:$E$64, 4, FALSE) > 0, VLOOKUP(D82,'HD-produkten'!$A$3:$E$64, 4, FALSE), ""), ""), "") | G82: =IF( ISTEXT(D82), IFERROR(IF(VLOOKUP(D82,'HD-produkten'!$A$3:$E$16, 3, FALSE) > 0, VLOOKUP(D82,'HD-produkten'!$A$3:$E$64, 3, FALSE), ""), ""), "") | I82: =IF(AND(ISNUMBER(H82),ISNUMBER($H$13),ISNUMBER($H$15), ISTEXT(D82)), $H$13*H82/$H$15, "") | K82: =IF(ISNUMBER(M82), $H$15/H82 * IF(D82 <> "Kumulus® WG", M82 * $H$11/$H$13, E82), "") | L82: =IF(ISNUMBER(M82),M82*IF(ISNUMBER(J82),J82,$H$9),"") | M82: =IF(AND( ISTEXT(D82), OR( ISNUMBER(F82), ISNUMBER(E82)), ISNUMBER(H82), ISNUMBER(I82), ISNUMBER($H$9), ISNUMBER($H$13)), IF(D82="Kumulus® WG", 3, IF(ISNUMBER(F82), F82, E82)*I82/$H$13), "")
E83: =IF( ISTEXT(D83), IFERROR(IF(VLOOKUP(D83,'HD-produkten'!$A$3:$E$64, 4, FALSE) > 0, VLOOKUP(D83,'HD-produkten'!$A$3:$E$64, 4, FALSE), ""), ""), "") | G83: =IF( ISTEXT(D83), IFERROR(IF(VLOOKUP(D83,'HD-produkten'!$A$3:$E$16, 3, FALSE) > 0, VLOOKUP(D83,'HD-produkten'!$A$3:$E$64, 3, FALSE), ""), ""), "") | I83: =IF(AND(ISNUMBER(H83),ISNUMBER($H$13),ISNUMBER($H$15), ISTEXT(D83)), $H$13*H83/$H$15, "") | K83: =IF(ISNUMBER(M83), $H$15/H83 * IF(D83 <> "Kumulus® WG", M83 * $H$11/$H$13, E83), "") | L83: =IF(ISNUMBER(M83),M83*IF(ISNUMBER(J83),J83,$H$9),"") | M83: =IF(AND( ISTEXT(D83), OR( ISNUMBER(F83), ISNUMBER(E83)), ISNUMBER(H83), ISNUMBER(I83), ISNUMBER($H$9), ISNUMBER($H$13)), IF(D83="Kumulus® WG", 3, IF(ISNUMBER(F83), F83, E83)*I83/$H$13), "")
B85: Notiz: | C85: Für Vollstandigkeit und Richtigkeit wird keine Gewähr übernommen; der Gebrauch liegt alleine im Verantwortungsbereich des Anwenders.
C86: Dieser Rechner ist nicht für Recycling-Spritzsysteme geeignet.
C87: * Bei 1. Spritzung bei Kumulus WG keine Düsenanzahl eintragen
C88: **Bei starkem Oidiumdruck wird zur Verringerung des Resistenzbildungsrisikos ein Zusatz von Karathane Gold empfohlen

Sheet Gesamtbedarf Blanko
B1: Gesamtbedarf
D2: . | E2: . | F2: . | G2: . | H2: . | I2: .
B4: . | D4: . | E4: . | F4: . | G4: . | H4: . | I4: .
B5: Ergebnis
B7: Betriebsgröße : | C7: =IF(ISNUMBER('Dosierrechner Blanko'!H9), CONCATENATE('Dosierrechner Blanko'!H9, " ha"), "")
B8: Gesamtkosten : | C8: =IF(SUM(H13:H43)/2 > 0, SUM(H13:H43)/2, "")
B9: Gesamtkosten pro ha : | C9: =IF(AND(C8>0, C8<>"", ISNUMBER('Dosierrechner Blanko'!H9)), C8/'Dosierrechner Blanko'!H9, "")
B12: Produkt | C12: Pfl. Reg. Nr. | D12: Industrie | E12: Kosten pro Einheit [kg, L, Stk] | F12: Gesamtmenge | H12: Gesamtkosten
B13: {=IFERROR(INDEX( 'HD-produkten Blanko'!$A$3:$A$48, SMALL( IF(0 < 'HD-produkten Blanko'!$F$3:$F$48, ROW('HD-produkten Blanko'!$F$3:$F$48)-2, ""), ROW(A1))), "")} | C13: =IF( B13<>"", VLOOKUP(B13,'HD-produkten Blanko'!$A$3:$F$113, 5, FALSE), "") | D13: =IF( B13<>"", VLOOKUP(B13,'HD-produkten Blanko'!$A$3:$F$113, 2, FALSE), "") | E13: 0 | F13: =IF( B13<>"", VLOOKUP(B13,'HD-produkten Blanko'!$A$3:$F$113, 6, FALSE), "") | G13: =IF( B13<>"", VLOOKUP(B13,'HD-produkten Blanko'!$A$3:$F$113, 3, FALSE), "") | H13: =IF(B13<>"",E13*F13,"Keine Daten verfügbar") -> Keine Daten verfügbar
B14: {=IFERROR(INDEX( 'HD-produkten Blanko'!$A$3:$A$48, SMALL( IF(0 < 'HD-produkten Blanko'!$F$3:$F$48, ROW('HD-produkten Blanko'!$F$3:$F$48)-2, ""), ROW(A2))), "")} | C14: =IF( B14<>"", VLOOKUP(B14,'HD-produkten Blanko'!$A$3:$F$113, 5, FALSE), "") | D14: =IF( B14<>"", VLOOKUP(B14,'HD-produkten Blanko'!$A$3:$F$113, 2, FALSE), "") | E14: 0 | F14: =IF( B14<>"", VLOOKUP(B14,'HD-produkten Blanko'!$A$3:$F$113, 6, FALSE), "") | G14: =IF( B14<>"", VLOOKUP(B14,'HD-produkten Blanko'!$A$3:$F$113, 3, FALSE), "") | H14: =IF(B14<>"",E14*F14, IF(B13<>"", SUM(H$13:H13), ""))
B15: {=IFERROR(INDEX( 'HD-produkten Blanko'!$A$3:$A$48, SMALL( IF(0 < 'HD-produkten Blanko'!$F$3:$F$48, ROW('HD-produkten Blanko'!$F$3:$F$48)-2, ""), ROW(A3))), "")} | C15: =IF( B15<>"", VLOOKUP(B15,'HD-produkten Blanko'!$A$3:$F$113, 5, FALSE), "") | D15: =IF( B15<>"", VLOOKUP(B15,'HD-produkten Blanko'!$A$3:$F$113, 2, FALSE), "") | E15: 0 | F15: =IF( B15<>"", VLOOKUP(B15,'HD-produkten Blanko'!$A$3:$F$113, 6, FALSE), "") | G15: =IF( B15<>"", VLOOKUP(B15,'HD-produkten Blanko'!$A$3:$F$113, 3, FALSE), "") | H15: =IF(B15<>"",E15*F15, IF(B14<>"", SUM(H$13:H14), ""))
B16: {=IFERROR(INDEX( 'HD-produkten Blanko'!$A$3:$A$48, SMALL( IF(0 < 'HD-produkten Blanko'!$F$3:$F$48, ROW('HD-produkten Blanko'!$F$3:$F$48)-2, ""), ROW(A4))), "")} | C16: =IF( B16<>"", VLOOKUP(B16,'HD-produkten Blanko'!$A$3:$F$113, 5, FALSE), "") | D16: =IF( B16<>"", VLOOKUP(B16,'HD-produkten Blanko'!$A$3:$F$113, 2, FALSE), "") | E16: 0 | F16: =IF( B16<>"", VLOOKUP(B16,'HD-produkten Blanko'!$A$3:$F$113, 6, FALSE), "") | G16: =IF( B16<>"", VLOOKUP(B16,'HD-produkten Blanko'!$A$3:$F$113, 3, FALSE), "") | H16: =IF(B16<>"",E16*F16, IF(B15<>"", SUM(H$13:H15), ""))
B17: {=IFERROR(INDEX( 'HD-produkten Blanko'!$A$3:$A$48, SMALL( IF(0 < 'HD-produkten Blanko'!$F$3:$F$48, ROW('HD-produkten Blanko'!$F$3:$F$48)-2, ""), ROW(A5))), "")} | C17: =IF( B17<>"", VLOOKUP(B17,'HD-produkten Blanko'!$A$3:$F$113, 5, FALSE), "") | D17: =IF( B17<>"", VLOOKUP(B17,'HD-produkten Blanko'!$A$3:$F$113, 2, FALSE), "") | E17: 0 | F17: =IF( B17<>"", VLOOKUP(B17,'HD-produkten Blanko'!$A$3:$F$113, 6, FALSE), "") | G17: =IF( B17<>"", VLOOKUP(B17,'HD-produkten Blanko'!$A$3:$F$113, 3, FALSE), "") | H17: =IF(B17<>"",E17*F17, IF(B16<>"", SUM(H$13:H16), ""))
B18: {=IFERROR(INDEX( 'HD-produkten Blanko'!$A$3:$A$48, SMALL( IF(0 < 'HD-produkten Blanko'!$F$3:$F$48, ROW('HD-produkten Blanko'!$F$3:$F$48)-2, ""), ROW(A6))), "")} | C18: =IF( B18<>"", VLOOKUP(B18,'HD-produkten Blanko'!$A$3:$F$113, 5, FALSE), "") | D18: =IF( B18<>"", VLOOKUP(B18,'HD-produkten Blanko'!$A$3:$F$113, 2, FALSE), "") | E18: 0 | F18: =IF( B18<>"", VLOOKUP(B18,'HD-produkten Blanko'!$A$3:$F$113, 6, FALSE), "") | G18: =IF( B18<>"", VLOOKUP(B18,'HD-produkten Blanko'!$A$3:$F$113, 3, FALSE), "") | H18: =IF(B18<>"",E18*F18, IF(B17<>"", SUM(H$13:H17), ""))
B19: {=IFERROR(INDEX( 'HD-produkten Blanko'!$A$3:$A$48, SMALL( IF(0 < 'HD-produkten Blanko'!$F$3:$F$48, ROW('HD-produkten Blanko'!$F$3:$F$48)-2, ""), ROW(A7))), "")} | C19: =IF( B19<>"", VLOOKUP(B19,'HD-produkten Blanko'!$A$3:$F$113, 5, FALSE), "") | D19: =IF( B19<>"", VLOOKUP(B19,'HD-produkten Blanko'!$A$3:$F$113, 2, FALSE), "") | E19: 0 | F19: =IF( B19<>"", VLOOKUP(B19,'HD-produkten Blanko'!$A$3:$F$113, 6, FALSE), "") | G19: =IF( B19<>"", VLOOKUP(B19,'HD-produkten Blanko'!$A$3:$F$113, 3, FALSE), "") | H19: =IF(B19<>"",E19*F19, IF(B18<>"", SUM(H$13:H18), ""))
B20: {=IFERROR(INDEX( 'HD-produkten Blanko'!$A$3:$A$48, SMALL( IF(0 < 'HD-produkten Blanko'!$F$3:$F$48, ROW('HD-produkten Blanko'!$F$3:$F$48)-2, ""), ROW(A8))), "")} | C20: =IF( B20<>"", VLOOKUP(B20,'HD-produkten Blanko'!$A$3:$F$113, 5, FALSE), "") | D20: =IF( B20<>"", VLOOKUP(B20,'HD-produkten Blanko'!$A$3:$F$113, 2, FALSE), "") | E20: 0 | F20: =IF( B20<>"", VLOOKUP(B20,'HD-produkten Blanko'!$A$3:$F$113, 6, FALSE), "") | G20: =IF( B20<>"", VLOOKUP(B20,'HD-produkten Blanko'!$A$3:$F$113, 3, FALSE), "") | H20: =IF(B20<>"",E20*F20, IF(B19<>"", SUM(H$13:H19), ""))
B21: {=IFERROR(INDEX( 'HD-produkten Blanko'!$A$3:$A$48, SMALL( IF(0 < 'HD-produkten Blanko'!$F$3:$F$48, ROW('HD-produkten Blanko'!$F$3:$F$48)-2, ""), ROW(A9))), "")} | C21: =IF( B21<>"", VLOOKUP(B21,'HD-produkten Blanko'!$A$3:$F$113, 5, FALSE), "") | D21: =IF( B21<>"", VLOOKUP(B21,'HD-produkten Blanko'!$A$3:$F$113, 2, FALSE), "") | E21: 0 | F21: =IF( B21<>"", VLOOKUP(B21,'HD-produkten Blanko'!$A$3:$F$113, 6, FALSE), "") | G21: =IF( B21<>"", VLOOKUP(B21,'HD-produkten Blanko'!$A$3:$F$113, 3, FALSE), "") | H21: =IF(B21<>"",E21*F21, IF(B20<>"", SUM(H$13:H20), ""))
B22: {=IFERROR(INDEX( 'HD-produkten Blanko'!$A$3:$A$48, SMALL( IF(0 < 'HD-produkten Blanko'!$F$3:$F$48, ROW('HD-produkten Blanko'!$F$3:$F$48)-2, ""), ROW(A10))), "")} | C22: =IF( B22<>"", VLOOKUP(B22,'HD-produkten Blanko'!$A$3:$F$113, 5, FALSE), "") | D22: =IF( B22<>"", VLOOKUP(B22,'HD-produkten Blanko'!$A$3:$F$113, 2, FALSE), "") | E22: 0 | F22: =IF( B22<>"", VLOOKUP(B22,'HD-produkten Blanko'!$A$3:$F$113, 6, FALSE), "") | G22: =IF( B22<>"", VLOOKUP(B22,'HD-produkten Blanko'!$A$3:$F$113, 3, FALSE), "") | H22: =IF(B22<>"",E22*F22, IF(B21<>"", SUM(H$13:H21), ""))
B23: {=IFERROR(INDEX( 'HD-produkten Blanko'!$A$3:$A$48, SMALL( IF(0 < 'HD-produkten Blanko'!$F$3:$F$48, ROW('HD-produkten Blanko'!$F$3:$F$48)-2, ""), ROW(A11))), "")} | C23: =IF( B23<>"", VLOOKUP(B23,'HD-produkten Blanko'!$A$3:$F$113, 5, FALSE), "") | D23: =IF( B23<>"", VLOOKUP(B23,'HD-produkten Blanko'!$A$3:$F$113, 2, FALSE), "") | E23: 0 | F23: =IF( B23<>"", VLOOKUP(B23,'HD-produkten Blanko'!$A$3:$F$113, 6, FALSE), "") | G23: =IF( B23<>"", VLOOKUP(B23,'HD-produkten Blanko'!$A$3:$F$113, 3, FALSE), "") | H23: =IF(B23<>"",E23*F23, IF(B22<>"", SUM(H$13:H22), ""))
B24: {=IFERROR(INDEX( 'HD-produkten Blanko'!$A$3:$A$48, SMALL( IF(0 < 'HD-produkten Blanko'!$F$3:$F$48, ROW('HD-produkten Blanko'!$F$3:$F$48)-2, ""), ROW(A12))), "")} | C24: =IF( B24<>"", VLOOKUP(B24,'HD-produkten Blanko'!$A$3:$F$113, 5, FALSE), "") | D24: =IF( B24<>"", VLOOKUP(B24,'HD-produkten Blanko'!$A$3:$F$113, 2, FALSE), "") | E24: 0 | F24: =IF( B24<>"", VLOOKUP(B24,'HD-produkten Blanko'!$A$3:$F$113, 6, FALSE), "") | G24: =IF( B24<>"", VLOOKUP(B24,'HD-produkten Blanko'!$A$3:$F$113, 3, FALSE), "") | H24: =IF(B24<>"",E24*F24, IF(B23<>"", SUM(H$13:H23), ""))
B25: {=IFERROR(INDEX( 'HD-produkten Blanko'!$A$3:$A$48, SMALL( IF(0 < 'HD-produkten Blanko'!$F$3:$F$48, ROW('HD-produkten Blanko'!$F$3:$F$48)-2, ""), ROW(A13))), "")} | C25: =IF( B25<>"", VLOOKUP(B25,'HD-produkten Blanko'!$A$3:$F$113, 5, FALSE), "") | D25: =IF( B25<>"", VLOOKUP(B25,'HD-produkten Blanko'!$A$3:$F$113, 2, FALSE), "") | E25: 0 | F25: =IF( B25<>"", VLOOKUP(B25,'HD-produkten Blanko'!$A$3:$F$113, 6, FALSE), "") | G25: =IF( B25<>"", VLOOKUP(B25,'HD-produkten Blanko'!$A$3:$F$113, 3, FALSE), "") | H25: =IF(B25<>"",E25*F25, IF(B24<>"", SUM(H$13:H24), ""))
... B43: {=IFERROR(INDEX( 'HD-produkten Blanko'!$A$3:$A$48, SMALL( IF(0 < 'HD-produkten Blanko'!$F$3:$F$48, ROW('HD-produkten Blanko'!$F$3:$F$48)-2, ""), ROW(A31))), "")} | C43: =IF( B43<>"", VLOOKUP(B43,'HD-produkten Blanko'!$A$3:$F$113, 5, FALSE), "") | D43: =IF( B43<>"", VLOOKUP(B43,'HD-produkten Blanko'!$A$3:$F$113, 2, FALSE), "") | E43: 0 | F43: =IF( B43<>"", VLOOKUP(B43,'HD-produkten Blanko'!$A$3:$F$113, 6, FALSE), "") | G43: =IF( B43<>"", VLOOKUP(B43,'HD-produkten Blanko'!$A$3:$F$113, 3, FALSE), "") | H43: =IF(B43<>"",E43*F43, IF(B42<>"", SUM(H$13:H42), ""))

Sheet Weinbau-Spritzplan
D1: Weinbau-Spritzplan 2018
E2: . | F2: . | G2: . | H2: . | I2: . | J2: . | K2: . | L2: .
D4: Austrieb ES 09 | E4: Erste Vorblüte ES 11-19 | F4: Letzte Vorblüte ES 57 – 61 | G4: Abgehende Blüte ES 68 – 69 | H4: Nachblüte ES 71 – 73 | I4: Vor Traubenschluss ES 73 – 75 | J4: Nach Traubenschluss ES 75-80 | K4: Abschluss ES 81
C5: Perono- spora | D5: Polyram® WG (0,8 kg/ha) | E5: Delan® Pro (1,5 l/ha) | F5: Delan® Pro (2,4 l/ha) | G5: Aktuan® Gold (1,25 kg/ha) | H5: Enervin® (3 kg/ha) | I5: Delan® Pro (4 l/ha) | J5: Zampro® (1,5 l/ha) | K5: Copac® Flow (1,5 l/ha)
C6: Oidium | D6: Kumulus® WG (3 kg/ha) | E6: Kumulus® WG (3 kg/ha) | F6: Vivando® (0,2 l/ha) + Kumulus® WG (3 kg/ha) | G6: Sercadis® (0,15 l/ha) + Kumulus® WG (3 kg/ha) | H6: Vivando® (0,25 l/ha)* + Kumulus® WG (3 kg/ha) | I6: Sercadis® (0,24 l/ha) + Kumulus® WG (3 kg/ha) | J6: Collis® (0,64 l/ha) + Kumar®** 1 %ig | K6: Vivando® (0,32 l/ha)
C7: Botrytis | G7: Scala® (2 l/ha) | I7: Cantus® (1,2 kg/ha) | J7: Collis® (0,64 l/ha) +
J8: Kumar®** 1 %ig
C9: Schwarz- fäule
C10: Pho- mopsis
C11: Roter Brenner
C13: Zugelassene Indikation | D13: ® = eingetragene Marke der BASF * Bei starkem Oidiumdruck wird zur Verringerung des Resistenzbildungsrisikos ein Zusatz von Karathane® Gold empfohlen; Karathane® Gold = eingetragene Marke von Dow Agrosciences GmbH ** Bei Mischung mit Kumulus WG max. 2 kg/ha Kumar® | F13: Kumar® - Eingetragene Marke der Spiess-Urania Chemicals GmbH Bitte beachten Sie die Gebrauchsanweisung, Gefahrenhinweise und Sicherheitsratschläge. www.agrar.basf.at | H13: Zusatz von Netzmittel Silwet® Top: Eine gute Benetzung ist entscheidend für den Bekämpfungserfolg. Die Zugabe von Netzmittel Silwet® Top (25 ml/100 l Brühe) optimiert in allen Fällen die Wirkungsintensität und Wirkungsdauer. | K13: Produktnamen und Pfl.Reg.Nr.: Zampro® 3672/0 | Aktuan® Gold 3207/0 | Enervin® 3494/0 Kumulus® WG: 396/0 | Collis® 3299/0 Vivando® 3356/0 | Cantus® 3149/0 | Scala® 3064/0 Polyram® WG 3384/0 | Copac® Flow 3675/0 Sercadis® 3796/0 | Delan® Pro 3632/0 | Kumar® 3399/0
C14: Zusatzwirkung
D16: ® = eingetragene Marke der BASF
D17: * Bei starkem Oidiumdruck wird zur Verringerung des
D18: Resistenzbildungsrisikos ein Zusatz von Karathane®
D19: Gold empfohlen; Karathane® Gold = eingetragene

Sheet HD-produkten
A1: Name | B1: Supplier | C1: Unit | D1: Dosage per ha | E1: Pfl. Reg. Nr. | F1: SUM usage
F2: {=SUM( IF( A2 = 'Dosierrechner BASF'!$D$19:$D$83, 'Dosierrechner BASF'!$L$19:$L$83, ""))} -> 0
A3: Aktuan® Gold | B3: Basf | C3: kg | D3: 1.56 | E3: 3207 | F3: {=SUM( IF( A3 = 'Dosierrechner BASF'!$D$19:$D$83, 'Dosierrechner BASF'!$L$19:$L$83, ""))} -> 6.24 | H3: Basf products
A4: Cantus® | B4: Basf | C4: kg | D4: 1.2 | E4: 3149 | F4: {=SUM( IF( A4 = 'Dosierrechner BASF'!$D$19:$D$83, 'Dosierrechner BASF'!$L$19:$L$83, ""))} -> 6
A5: Collis® | B5: Basf | C5: L | D5: 0.64 | E5: 3299 | F5: {=SUM( IF( A5 = 'Dosierrechner BASF'!$D$19:$D$83, 'Dosierrechner BASF'!$L$19:$L$83, ""))} -> 3.2
A6: Copac® Flow | B6: Basf | C6: L | D6: 1.5 | E6: 3675 | F6: {=SUM( IF( A6 = 'Dosierrechner BASF'!$D$19:$D$83, 'Dosierrechner BASF'!$L$19:$L$83, ""))} -> 7.5
A7: Delan® Pro | B7: Basf | C7: L | D7: 4 | E7: 3632 | F7: {=SUM( IF( A7 = 'Dosierrechner BASF'!$D$19:$D$83, 'Dosierrechner BASF'!$L$19:$L$83, ""))} -> 32
A8: Delan® WG | B8: Basf | C8: kg | D8: 0.6 | E8: 3450 | F8: {=SUM( IF( A8 = 'Dosierrechner BASF'!$D$19:$D$83, 'Dosierrechner BASF'!$L$19:$L$83, ""))} -> 0
A9: Enervin® | B9: Basf | C9: kg | D9: 3 | E9: 3494 | F9: {=SUM( IF( A9 = 'Dosierrechner BASF'!$D$19:$D$83, 'Dosierrechner BASF'!$L$19:$L$83, ""))} -> 15
A10: Forum® Star | B10: Basf | C10: kg | D10: 1.92 | E10: 3343 | F10: {=SUM( IF( A10 = 'Dosierrechner BASF'!$D$19:$D$83, 'Dosierrechner BASF'!$L$19:$L$83, ""))} -> 0
A11: Kumulus® WG | B11: Basf | C11: kg | D11: 3 | E11: 396 | F11: {=SUM( IF( A11 = 'Dosierrechner BASF'!$D$19:$D$83, 'Dosierrechner BASF'!$L$19:$L$83, ""))} -> 110
A12: Polyram® WG | B12: Basf | C12: kg | D12: 3.2 | E12: 3384 | F12: {=SUM( IF( A12 = 'Dosierrechner BASF'!$D$19:$D$83, 'Dosierrechner BASF'!$L$19:$L$83, ""))} -> 12.8
A13: Scala® | B13: Basf | C13: L | D13: 2 | E13: 3064 | F13: {=SUM( IF( A13 = 'Dosierrechner BASF'!$D$19:$D$83, 'Dosierrechner BASF'!$L$19:$L$83, ""))} -> 8
A14: Sercadis® | B14: Basf | C14: L | D14: 0.24 | E14: 3796 | F14: {=SUM( IF( A14 = 'Dosierrechner BASF'!$D$19:$D$83, 'Dosierrechner BASF'!$L$19:$L$83, ""))} -> 2.16
A15: Silwet® Top | B15: Basf | C15: L | D15: 0.1 | F15: {=SUM( IF( A15 = 'Dosierrechner BASF'!$D$19:$D$83, 'Dosierrechner BASF'!$L$19:$L$83, ""))} -> 0
A16: Vivando® | B16: Basf | C16: L | D16: 0.32 | E16: 3356 | F16: {=SUM( IF( A16 = 'Dosierrechner BASF'!$D$19:$D$83, 'Dosierrechner BASF'!$L$19:$L$83, ""))} -> 4.16
A17: Zampro® | B17: Basf | C17: L | D17: 1.5 | E17: 3672 | F17: {=SUM( IF( A17 = 'Dosierrechner BASF'!$D$19:$D$83, 'Dosierrechner BASF'!$L$19:$L$83, ""))} -> 7.5
A18: {=IFERROR( INDEX($A$49:$A$113, MATCH(0, COUNTIF($A$17:A17, $A$49:$A$113), 0)), "")} | B18: ="" | C18: ="" | E18: ="" | F18: =SUMIF(A48:A112, A18, F48:F112) -> 0 | H18: Unique list
A19: {=IFERROR( INDEX($A$49:$A$113, MATCH(0, COUNTIF($A$17:A18, $A$49:$A$113), 0)), "")} -> Prosper | B19: ="" | C19: ="" | E19: ="" | F19: =SUMIF(A49:A113, A19, F49:F113) -> 1.6
A20: {=IFERROR( INDEX($A$49:$A$113, MATCH(0, COUNTIF($A$17:A19, $A$49:$A$113), 0)), "")} | B20: ="" | C20: ="" | E20: ="" | F20: =SUMIF(A50:A114, A20, F50:F114) -> 0
A21: {=IFERROR( INDEX($A$49:$A$113, MATCH(0, COUNTIF($A$17:A20, $A$49:$A$113), 0)), "")} | B21: ="" | C21: ="" | E21: ="" | F21: =SUMIF(A51:A115, A21, F51:F115) -> 0
A22: {=IFERROR( INDEX($A$49:$A$113, MATCH(0, COUNTIF($A$17:A21, $A$49:$A$113), 0)), "")} | B22: ="" | C22: ="" | E22: ="" | F22: =SUMIF(A52:A116, A22, F52:F116) -> 0
A23: {=IFERROR( INDEX($A$49:$A$113, MATCH(0, COUNTIF($A$17:A22, $A$49:$A$113), 0)), "")} | B23: ="" | C23: ="" | E23: ="" | F23: =SUMIF(A53:A117, A23, F53:F117) -> 0
A24: {=IFERROR( INDEX($A$49:$A$113, MATCH(0, COUNTIF($A$17:A23, $A$49:$A$113), 0)), "")} | B24: ="" | C24: ="" | E24: ="" | F24: =SUMIF(A54:A118, A24, F54:F118) -> 0
A25: {=IFERROR( INDEX($A$49:$A$113, MATCH(0, COUNTIF($A$17:A24, $A$49:$A$113), 0)), "")} | B25: ="" | C25: ="" | E25: ="" | F25: =SUMIF(A55:A119, A25, F55:F119) -> 0
A26: {=IFERROR( INDEX($A$49:$A$113, MATCH(0, COUNTIF($A$17:A25, $A$49:$A$113), 0)), "")} | B26: ="" | C26: ="" | E26: ="" | F26: =SUMIF(A56:A120, A26, F56:F120) -> 0
A27: {=IFERROR( INDEX($A$49:$A$113, MATCH(0, COUNTIF($A$17:A26, $A$49:$A$113), 0)), "")} | B27: ="" | C27: ="" | E27: ="" | F27: =SUMIF(A57:A121, A27, F57:F121) -> 0
A28: {=IFERROR( INDEX($A$49:$A$113, MATCH(0, COUNTIF($A$17:A27, $A$49:$A$113), 0)), "")} | B28: ="" | C28: ="" | E28: ="" | F28: =SUMIF(A58:A122, A28, F58:F122) -> 0
A29: {=IFERROR( INDEX($A$49:$A$113, MATCH(0, COUNTIF($A$17:A28, $A$49:$A$113), 0)), "")} | B29: ="" | C29: ="" | E29: ="" | F29: =SUMIF(A59:A123, A29, F59:F123) -> 0
A30: {=IFERROR( INDEX($A$49:$A$113, MATCH(0, COUNTIF($A$17:A29, $A$49:$A$113), 0)), "")} | B30: ="" | C30: ="" | E30: ="" | F30: =SUMIF(A60:A124, A30, F60:F124) -> 0
... A48: {=IFERROR( INDEX($A$49:$A$113, MATCH(0, COUNTIF($A$17:A47, $A$49:$A$113), 0)), "")} | B48: ="" | C48: ="" | E48: ="" | F48: =SUMIF(A78:A142, A48, F78:F142) -> 0
A49: =IF( OR( ISERROR(MATCH('Dosierrechner BASF'!D19,product_list,0)) = FALSE, ISBLANK('Dosierrechner BASF'!D19), 'Dosierrechner BASF'!D19 = ""), "", 'Dosierrechner BASF'!D19) | B49: ="" | C49: =IF( OR( 'Dosierrechner BASF'!G19="", ISERROR(A49)), "", 'Dosierrechner BASF'!G19) -> kg | F49: =IF( AND(ISERROR(A49) = FALSE, A49<>""), 'Dosierrechner BASF'!L19, 0) -> 0 | H49: All list
A50: =IF( OR( ISERROR(MATCH('Dosierrechner BASF'!D20,product_list,0)) = FALSE, ISBLANK('Dosierrechner BASF'!D20), 'Dosierrechner BASF'!D20 = ""), "", 'Dosierrechner BASF'!D20) | B50: ="" | C50: =IF( OR( 'Dosierrechner BASF'!G20="", ISERROR(A50)), "", 'Dosierrechner BASF'!G20) -> kg | F50: =IF( AND(ISERROR(A50) = FALSE, A50<>""), SUM('Dosierrechner BASF'!L20), 0) -> 0
A51: =IF( OR( ISERROR(MATCH('Dosierrechner BASF'!D21,product_list,0)) = FALSE, ISBLANK('Dosierrechner BASF'!D21), 'Dosierrechner BASF'!D21 = ""), "", 'Dosierrechner BASF'!D21) | B51: ="" | C51: =IF( OR( 'Dosierrechner BASF'!G21="", ISERROR(A51)), "", 'Dosierrechner BASF'!G21) | F51: =IF( AND(ISERROR(A51) = FALSE, A51<>""), SUM('Dosierrechner BASF'!L21), 0) -> 0
A52: =IF( OR( ISERROR(MATCH('Dosierrechner BASF'!D22,product_list,0)) = FALSE, ISBLANK('Dosierrechner BASF'!D22), 'Dosierrechner BASF'!D22 = ""), "", 'Dosierrechner BASF'!D22) | B52: ="" | C52: =IF( OR( 'Dosierrechner BASF'!G22="", ISERROR(A52)), "", 'Dosierrechner BASF'!G22) | F52: =IF( AND(ISERROR(A52) = FALSE, A52<>""), SUM('Dosierrechner BASF'!L22), 0) -> 0
A53: =IF( OR( ISERROR(MATCH('Dosierrechner BASF'!D23,product_list,0)) = FALSE, ISBLANK('Dosierrechner BASF'!D23), 'Dosierrechner BASF'!D23 = ""), "", 'Dosierrechner BASF'!D23) | B53: ="" | C53: =IF( OR( 'Dosierrechner BASF'!G23="", ISERROR(A53)), "", 'Dosierrechner BASF'!G23) | F53: =IF( AND(ISERROR(A53) = FALSE, A53<>""), SUM('Dosierrechner BASF'!L23), 0) -> 0
A54: =IF( OR( ISERROR(MATCH('Dosierrechner BASF'!D24,product_list,0)) = FALSE, ISBLANK('Dosierrechner BASF'!D24), 'Dosierrechner BASF'!D24 = ""), "", 'Dosierrechner BASF'!D24) | B54: ="" | C54: =IF( OR( 'Dosierrechner BASF'!G24="", ISERROR(A54)), "", 'Dosierrechner BASF'!G24) | F54: =IF( AND(ISERROR(A54) = FALSE, A54<>""), SUM('Dosierrechner BASF'!L24), 0) -> 0
A55: =IF( OR( ISERROR(MATCH('Dosierrechner BASF'!D25,product_list,0)) = FALSE, ISBLANK('Dosierrechner BASF'!D25), 'Dosierrechner BASF'!D25 = ""), "", 'Dosierrechner BASF'!D25) | B55: ="" | C55: =IF( OR( 'Dosierrechner BASF'!G25="", ISERROR(A55)), "", 'Dosierrechner BASF'!G25) | F55: =IF( AND(ISERROR(A55) = FALSE, A55<>""), SUM('Dosierrechner BASF'!L25), 0) -> 0
A56: =IF( OR( ISERROR(MATCH('Dosierrechner BASF'!D26,product_list,0)) = FALSE, ISBLANK('Dosierrechner BASF'!D26), 'Dosierrechner BASF'!D26 = ""), "", 'Dosierrechner BASF'!D26) | B56: ="" | C56: =IF( OR( 'Dosierrechner BASF'!G26="", ISERROR(A56)), "", 'Dosierrechner BASF'!G26) -> kg | F56: =IF( AND(ISERROR(A56) = FALSE, A56<>""), SUM('Dosierrechner BASF'!L26), 0) -> 0
A57: =IF( OR( ISERROR(MATCH('Dosierrechner BASF'!D27,product_list,0)) = FALSE, ISBLANK('Dosierrechner BASF'!D27), 'Dosierrechner BASF'!D27 = ""), "", 'Dosierrechner BASF'!D27) | B57: ="" | C57: =IF( OR( 'Dosierrechner BASF'!G27="", ISERROR(A57)), "", 'Dosierrechner BASF'!G27) -> kg | F57: =IF( AND(ISERROR(A57) = FALSE, A57<>""), SUM('Dosierrechner BASF'!L27), 0) -> 0
A58: =IF( OR( ISERROR(MATCH('Dosierrechner BASF'!D28,product_list,0)) = FALSE, ISBLANK('Dosierrechner BASF'!D28), 'Dosierrechner BASF'!D28 = ""), "", 'Dosierrechner BASF'!D28) -> Prosper | B58: ="" | C58: =IF( OR( 'Dosierrechner BASF'!G28="", ISERROR(A58)), "", 'Dosierrechner BASF'!G28) | F58: =IF( AND(ISERROR(A58) = FALSE, A58<>""), SUM('Dosierrechner BASF'!L28), 0) -> 1.6
A59: =IF( OR( ISERROR(MATCH('Dosierrechner BASF'!D29,product_list,0)) = FALSE, ISBLANK('Dosierrechner BASF'!D29), 'Dosierrechner BASF'!D29 = ""), "", 'Dosierrechner BASF'!D29) | B59: ="" | C59: =IF( OR( 'Dosierrechner BASF'!G29="", ISERROR(A59)), "", 'Dosierrechner BASF'!G29) | F59: =IF( AND(ISERROR(A59) = FALSE, A59<>""), SUM('Dosierrechner BASF'!L29), 0) -> 0
A60: =IF( OR( ISERROR(MATCH('Dosierrechner BASF'!D30,product_list,0)) = FALSE, ISBLANK('Dosierrechner BASF'!D30), 'Dosierrechner BASF'!D30 = ""), "", 'Dosierrechner BASF'!D30) | B60: ="" | C60: =IF( OR( 'Dosierrechner BASF'!G30="", ISERROR(A60)), "", 'Dosierrechner BASF'!G30) | F60: =IF( AND(ISERROR(A60) = FALSE, A60<>""), SUM('Dosierrechner BASF'!L30), 0) -> 0
A61: =IF( OR( ISERROR(MATCH('Dosierrechner BASF'!D31,product_list,0)) = FALSE, ISBLANK('Dosierrechner BASF'!D31), 'Dosierrechner BASF'!D31 = ""), "", 'Dosierrechner BASF'!D31) | B61: ="" | C61: =IF( OR( 'Dosierrechner BASF'!G31="", ISERROR(A61)), "", 'Dosierrechner BASF'!G31) | F61: =IF( AND(ISERROR(A61) = FALSE, A61<>""), SUM('Dosierrechner BASF'!L31), 0) -> 0
... A113: =IF( OR( ISERROR(MATCH('Dosierrechner BASF'!D83,product_list,0)) = FALSE, ISBLANK('Dosierrechner BASF'!D83), 'Dosierrechner BASF'!D83 = ""), "", 'Dosierrechner BASF'!D83) | B113: ="" | C113: =IF( OR( 'Dosierrechner BASF'!G83="", ISERROR(A113)), "", 'Dosierrechner BASF'!G83) | F113: =IF( AND(ISERROR(A113) = FALSE, A113<>""), SUM('Dosierrechner BASF'!L83), 0) -> 0

Sheet HD-produkten Blanko
A1: Name | B1: Supplier | C1: Unit | D1: Dosage per ha | E1: Pfl. Reg. Nr. | F1: SUM usage
F2: {=SUM( IF( A2 = 'Dosierrechner Blanko'!$D$19:$D$83, 'Dosierrechner Blanko'!$L$19:$L$83, ""))} -> 0
A3: ='HD-produkten'!A3 -> Aktuan® Gold | B3: ='HD-produkten'!B3 -> Basf | C3: ='HD-produkten'!C3 -> kg | D3: ='HD-produkten'!D3 -> 1.56 | E3: ='HD-produkten'!E3 -> 3207 | F3: {=SUM( IF( A3 = 'Dosierrechner Blanko'!$D$19:$D$83, 'Dosierrechner Blanko'!$L$19:$L$83, ""))} -> 0 | H3: Basf products
A4: ='HD-produkten'!A4 -> Cantus® | B4: ='HD-produkten'!B4 -> Basf | C4: ='HD-produkten'!C4 -> kg | D4: ='HD-produkten'!D4 -> 1.2 | E4: ='HD-produkten'!E4 -> 3149 | F4: {=SUM( IF( A4 = 'Dosierrechner Blanko'!$D$19:$D$83, 'Dosierrechner Blanko'!$L$19:$L$83, ""))} -> 0
A5: ='HD-produkten'!A5 -> Collis® | B5: ='HD-produkten'!B5 -> Basf | C5: ='HD-produkten'!C5 -> L | D5: ='HD-produkten'!D5 -> 0.64 | E5: ='HD-produkten'!E5 -> 3299 | F5: {=SUM( IF( A5 = 'Dosierrechner Blanko'!$D$19:$D$83, 'Dosierrechner Blanko'!$L$19:$L$83, ""))} -> 0
A6: ='HD-produkten'!A6 -> Copac® Flow | B6: ='HD-produkten'!B6 -> Basf | C6: ='HD-produkten'!C6 -> L | D6: ='HD-produkten'!D6 -> 1.5 | E6: ='HD-produkten'!E6 -> 3675 | F6: {=SUM( IF( A6 = 'Dosierrechner Blanko'!$D$19:$D$83, 'Dosierrechner Blanko'!$L$19:$L$83, ""))} -> 0
A7: ='HD-produkten'!A7 -> Delan® Pro | B7: ='HD-produkten'!B7 -> Basf | C7: ='HD-produkten'!C7 -> L | D7: ='HD-produkten'!D7 -> 4 | E7: ='HD-produkten'!E7 -> 3632 | F7: {=SUM( IF( A7 = 'Dosierrechner Blanko'!$D$19:$D$83, 'Dosierrechner Blanko'!$L$19:$L$83, ""))} -> 0
A8: ='HD-produkten'!A8 -> Delan® WG | B8: ='HD-produkten'!B8 -> Basf | C8: ='HD-produkten'!C8 -> kg | D8: ='HD-produkten'!D8 -> 0.6 | E8: ='HD-produkten'!E8 -> 3450 | F8: {=SUM( IF( A8 = 'Dosierrechner Blanko'!$D$19:$D$83, 'Dosierrechner Blanko'!$L$19:$L$83, ""))} -> 0
A9: ='HD-produkten'!A9 -> Enervin® | B9: ='HD-produkten'!B9 -> Basf | C9: ='HD-produkten'!C9 -> kg | D9: ='HD-produkten'!D9 -> 3 | E9: ='HD-produkten'!E9 -> 3494 | F9: {=SUM( IF( A9 = 'Dosierrechner Blanko'!$D$19:$D$83, 'Dosierrechner Blanko'!$L$19:$L$83, ""))} -> 0
A10: ='HD-produkten'!A10 -> Forum® Star | B10: ='HD-produkten'!B10 -> Basf | C10: ='HD-produkten'!C10 -> kg | D10: ='HD-produkten'!D10 -> 1.92 | E10: ='HD-produkten'!E10 -> 3343 | F10: {=SUM( IF( A10 = 'Dosierrechner Blanko'!$D$19:$D$83, 'Dosierrechner Blanko'!$L$19:$L$83, ""))} -> 0
A11: ='HD-produkten'!A11 -> Kumulus® WG | B11: ='HD-produkten'!B11 -> Basf | C11: ='HD-produkten'!C11 -> kg | D11: ='HD-produkten'!D11 -> 3 | E11: ='HD-produkten'!E11 -> 396 | F11: {=SUM( IF( A11 = 'Dosierrechner Blanko'!$D$19:$D$83, 'Dosierrechner Blanko'!$L$19:$L$83, ""))} -> 0
A12: ='HD-produkten'!A12 -> Polyram® WG | B12: ='HD-produkten'!B12 -> Basf | C12: ='HD-produkten'!C12 -> kg | D12: ='HD-produkten'!D12 -> 3.2 | E12: ='HD-produkten'!E12 -> 3384 | F12: {=SUM( IF( A12 = 'Dosierrechner Blanko'!$D$19:$D$83, 'Dosierrechner Blanko'!$L$19:$L$83, ""))} -> 0
A13: ='HD-produkten'!A13 -> Scala® | B13: ='HD-produkten'!B13 -> Basf | C13: ='HD-produkten'!C13 -> L | D13: ='HD-produkten'!D13 -> 2 | E13: ='HD-produkten'!E13 -> 3064 | F13: {=SUM( IF( A13 = 'Dosierrechner Blanko'!$D$19:$D$83, 'Dosierrechner Blanko'!$L$19:$L$83, ""))} -> 0
A14: ='HD-produkten'!A14 -> Sercadis® | B14: ='HD-produkten'!B14 -> Basf | C14: ='HD-produkten'!C14 -> L | D14: ='HD-produkten'!D14 -> 0.24 | E14: ='HD-produkten'!E14 -> 3796 | F14: {=SUM( IF( A14 = 'Dosierrechner Blanko'!$D$19:$D$83, 'Dosierrechner Blanko'!$L$19:$L$83, ""))} -> 0
A15: ='HD-produkten'!A15 -> Silwet® Top | B15: ='HD-produkten'!B15 -> Basf | C15: ='HD-produkten'!C15 -> L | D15: ='HD-produkten'!D15 -> 0.1 | E15: ='HD-produkten'!E15 | F15: {=SUM( IF( A15 = 'Dosierrechner Blanko'!$D$19:$D$83, 'Dosierrechner Blanko'!$L$19:$L$83, ""))} -> 0
... A17: ='HD-produkten'!A17 -> Zampro® | B17: ='HD-produkten'!B17 -> Basf | C17: ='HD-produkten'!C17 -> L | D17: ='HD-produkten'!D17 -> 1.5 | E17: ='HD-produkten'!E17 -> 3672 | F17: {=SUM( IF( A17 = 'Dosierrechner Blanko'!$D$19:$D$83, 'Dosierrechner Blanko'!$L$19:$L$83, ""))} -> 0
A18: {=IFERROR( INDEX($A$49:$A$113, MATCH(0, COUNTIF($A$17:A17, $A$49:$A$113), 0)), "")} | B18: ="" | C18: ="" | E18: ="" | F18: =SUMIF(A48:A112, A18, F48:F112) -> 0 | H18: Unique list
A19: {=IFERROR( INDEX($A$49:$A$113, MATCH(0, COUNTIF($A$17:A18, $A$49:$A$113), 0)), "")} | B19: ="" | C19: ="" | E19: ="" | F19: =SUMIF(A49:A113, A19, F49:F113) -> 0
A20: {=IFERROR( INDEX($A$49:$A$113, MATCH(0, COUNTIF($A$17:A19, $A$49:$A$113), 0)), "")} | B20: ="" | C20: ="" | E20: ="" | F20: =SUMIF(A50:A114, A20, F50:F114) -> 0
A21: {=IFERROR( INDEX($A$49:$A$113, MATCH(0, COUNTIF($A$17:A20, $A$49:$A$113), 0)), "")} | B21: ="" | C21: ="" | E21: ="" | F21: =SUMIF(A51:A115, A21, F51:F115) -> 0
A22: {=IFERROR( INDEX($A$49:$A$113, MATCH(0, COUNTIF($A$17:A21, $A$49:$A$113), 0)), "")} | B22: ="" | C22: ="" | E22: ="" | F22: =SUMIF(A52:A116, A22, F52:F116) -> 0
A23: {=IFERROR( INDEX($A$49:$A$113, MATCH(0, COUNTIF($A$17:A22, $A$49:$A$113), 0)), "")} | B23: ="" | C23: ="" | E23: ="" | F23: =SUMIF(A53:A117, A23, F53:F117) -> 0
A24: {=IFERROR( INDEX($A$49:$A$113, MATCH(0, COUNTIF($A$17:A23, $A$49:$A$113), 0)), "")} | B24: ="" | C24: ="" | E24: ="" | F24: =SUMIF(A54:A118, A24, F54:F118) -> 0
A25: {=IFERROR( INDEX($A$49:$A$113, MATCH(0, COUNTIF($A$17:A24, $A$49:$A$113), 0)), "")} | B25: ="" | C25: ="" | E25: ="" | F25: =SUMIF(A55:A119, A25, F55:F119) -> 0
A26: {=IFERROR( INDEX($A$49:$A$113, MATCH(0, COUNTIF($A$17:A25, $A$49:$A$113), 0)), "")} | B26: ="" | C26: ="" | E26: ="" | F26: =SUMIF(A56:A120, A26, F56:F120) -> 0
A27: {=IFERROR( INDEX($A$49:$A$113, MATCH(0, COUNTIF($A$17:A26, $A$49:$A$113), 0)), "")} | B27: ="" | C27: ="" | E27: ="" | F27: =SUMIF(A57:A121, A27, F57:F121) -> 0
A28: {=IFERROR( INDEX($A$49:$A$113, MATCH(0, COUNTIF($A$17:A27, $A$49:$A$113), 0)), "")} | B28: ="" | C28: ="" | E28: ="" | F28: =SUMIF(A58:A122, A28, F58:F122) -> 0
A29: {=IFERROR( INDEX($A$49:$A$113, MATCH(0, COUNTIF($A$17:A28, $A$49:$A$113), 0)), "")} | B29: ="" | C29: ="" | E29: ="" | F29: =SUMIF(A59:A123, A29, F59:F123) -> 0
A30: {=IFERROR( INDEX($A$49:$A$113, MATCH(0, COUNTIF($A$17:A29, $A$49:$A$113), 0)), "")} | B30: ="" | C30: ="" | E30: ="" | F30: =SUMIF(A60:A124, A30, F60:F124) -> 0
... A48: {=IFERROR( INDEX($A$49:$A$113, MATCH(0, COUNTIF($A$17:A47, $A$49:$A$113), 0)), "")} | B48: ="" | C48: ="" | E48: ="" | F48: =SUMIF(A78:A142, A48, F78:F142) -> 0
A49: =IF( OR( ISERROR(MATCH('Dosierrechner Blanko'!D19,product_list,0)) = FALSE, ISBLANK('Dosierrechner Blanko'!D19), 'Dosierrechner Blanko'!D19 = ""), "", 'Dosierrechner Blanko'!D19) | B49: ="" | C49: =IF( OR( 'Dosierrechner Blanko'!G19="", ISERROR(A49)), "", 'Dosierrechner Blanko'!G19) | F49: =IF( AND(ISERROR(A49) = FALSE, A49<>""), 'Dosierrechner Blanko'!L19, 0) -> 0 | H49: All list
A50: =IF( OR( ISERROR(MATCH('Dosierrechner Blanko'!D20,product_list,0)) = FALSE, ISBLANK('Dosierrechner Blanko'!D20), 'Dosierrechner Blanko'!D20 = ""), "", 'Dosierrechner Blanko'!D20) | B50: ="" | C50: =IF( OR( 'Dosierrechner Blanko'!G20="", ISERROR(A50)), "", 'Dosierrechner Blanko'!G20) | F50: =IF( AND(ISERROR(A50) = FALSE, A50<>""), 'Dosierrechner Blanko'!L20, 0) -> 0
A51: =IF( OR( ISERROR(MATCH('Dosierrechner Blanko'!D21,product_list,0)) = FALSE, ISBLANK('Dosierrechner Blanko'!D21), 'Dosierrechner Blanko'!D21 = ""), "", 'Dosierrechner Blanko'!D21) | B51: ="" | C51: =IF( OR( 'Dosierrechner Blanko'!G21="", ISERROR(A51)), "", 'Dosierrechner Blanko'!G21) | F51: =IF( AND(ISERROR(A51) = FALSE, A51<>""), 'Dosierrechner Blanko'!L21, 0) -> 0
A52: =IF( OR( ISERROR(MATCH('Dosierrechner Blanko'!D22,product_list,0)) = FALSE, ISBLANK('Dosierrechner Blanko'!D22), 'Dosierrechner Blanko'!D22 = ""), "", 'Dosierrechner Blanko'!D22) | B52: ="" | C52: =IF( OR( 'Dosierrechner Blanko'!G22="", ISERROR(A52)), "", 'Dosierrechner Blanko'!G22) | F52: =IF( AND(ISERROR(A52) = FALSE, A52<>""), 'Dosierrechner Blanko'!L22, 0) -> 0
A53: =IF( OR( ISERROR(MATCH('Dosierrechner Blanko'!D23,product_list,0)) = FALSE, ISBLANK('Dosierrechner Blanko'!D23), 'Dosierrechner Blanko'!D23 = ""), "", 'Dosierrechner Blanko'!D23) | B53: ="" | C53: =IF( OR( 'Dosierrechner Blanko'!G23="", ISERROR(A53)), "", 'Dosierrechner Blanko'!G23) | F53: =IF( AND(ISERROR(A53) = FALSE, A53<>""), 'Dosierrechner Blanko'!L23, 0) -> 0
A54: =IF( OR( ISERROR(MATCH('Dosierrechner Blanko'!D24,product_list,0)) = FALSE, ISBLANK('Dosierrechner Blanko'!D24), 'Dosierrechner Blanko'!D24 = ""), "", 'Dosierrechner Blanko'!D24) | B54: ="" | C54: =IF( OR( 'Dosierrechner Blanko'!G24="", ISERROR(A54)), "", 'Dosierrechner Blanko'!G24) | F54: =IF( AND(ISERROR(A54) = FALSE, A54<>""), 'Dosierrechner Blanko'!L24, 0) -> 0
A55: =IF( OR( ISERROR(MATCH('Dosierrechner Blanko'!D25,product_list,0)) = FALSE, ISBLANK('Dosierrechner Blanko'!D25), 'Dosierrechner Blanko'!D25 = ""), "", 'Dosierrechner Blanko'!D25) | B55: ="" | C55: =IF( OR( 'Dosierrechner Blanko'!G25="", ISERROR(A55)), "", 'Dosierrechner Blanko'!G25) | F55: =IF( AND(ISERROR(A55) = FALSE, A55<>""), 'Dosierrechner Blanko'!L25, 0) -> 0
A56: =IF( OR( ISERROR(MATCH('Dosierrechner Blanko'!D26,product_list,0)) = FALSE, ISBLANK('Dosierrechner Blanko'!D26), 'Dosierrechner Blanko'!D26 = ""), "", 'Dosierrechner Blanko'!D26) | B56: ="" | C56: =IF( OR( 'Dosierrechner Blanko'!G26="", ISERROR(A56)), "", 'Dosierrechner Blanko'!G26) | F56: =IF( AND(ISERROR(A56) = FALSE, A56<>""), 'Dosierrechner Blanko'!L26, 0) -> 0
A57: =IF( OR( ISERROR(MATCH('Dosierrechner Blanko'!D27,product_list,0)) = FALSE, ISBLANK('Dosierrechner Blanko'!D27), 'Dosierrechner Blanko'!D27 = ""), "", 'Dosierrechner Blanko'!D27) | B57: ="" | C57: =IF( OR( 'Dosierrechner Blanko'!G27="", ISERROR(A57)), "", 'Dosierrechner Blanko'!G27) | F57: =IF( AND(ISERROR(A57) = FALSE, A57<>""), 'Dosierrechner Blanko'!L27, 0) -> 0
A58: =IF( OR( ISERROR(MATCH('Dosierrechner Blanko'!D28,product_list,0)) = FALSE, ISBLANK('Dosierrechner Blanko'!D28), 'Dosierrechner Blanko'!D28 = ""), "", 'Dosierrechner Blanko'!D28) | B58: ="" | C58: =IF( OR( 'Dosierrechner Blanko'!G28="", ISERROR(A58)), "", 'Dosierrechner Blanko'!G28) | F58: =IF( AND(ISERROR(A58) = FALSE, A58<>""), 'Dosierrechner Blanko'!L28, 0) -> 0
A59: =IF( OR( ISERROR(MATCH('Dosierrechner Blanko'!D29,product_list,0)) = FALSE, ISBLANK('Dosierrechner Blanko'!D29), 'Dosierrechner Blanko'!D29 = ""), "", 'Dosierrechner Blanko'!D29) | B59: ="" | C59: =IF( OR( 'Dosierrechner Blanko'!G29="", ISERROR(A59)), "", 'Dosierrechner Blanko'!G29) | F59: =IF( AND(ISERROR(A59) = FALSE, A59<>""), 'Dosierrechner Blanko'!L29, 0) -> 0
A60: =IF( OR( ISERROR(MATCH('Dosierrechner Blanko'!D30,product_list,0)) = FALSE, ISBLANK('Dosierrechner Blanko'!D30), 'Dosierrechner Blanko'!D30 = ""), "", 'Dosierrechner Blanko'!D30) | B60: ="" | C60: =IF( OR( 'Dosierrechner Blanko'!G30="", ISERROR(A60)), "", 'Dosierrechner Blanko'!G30) | F60: =IF( AND(ISERROR(A60) = FALSE, A60<>""), 'Dosierrechner Blanko'!L30, 0) -> 0
A61: =IF( OR( ISERROR(MATCH('Dosierrechner Blanko'!D31,product_list,0)) = FALSE, ISBLANK('Dosierrechner Blanko'!D31), 'Dosierrechner Blanko'!D31 = ""), "", 'Dosierrechner Blanko'!D31) | B61: ="" | C61: =IF( OR( 'Dosierrechner Blanko'!G31="", ISERROR(A61)), "", 'Dosierrechner Blanko'!G31) | F61: =IF( AND(ISERROR(A61) = FALSE, A61<>""), 'Dosierrechner Blanko'!L31, 0) -> 0
... A113: =IF( OR( ISERROR(MATCH('Dosierrechner Blanko'!D83,product_list,0)) = FALSE, ISBLANK('Dosierrechner Blanko'!D83), 'Dosierrechner Blanko'!D83 = ""), "", 'Dosierrechner Blanko'!D83) | B113: ="" | C113: =IF( OR( 'Dosierrechner Blanko'!G83="", ISERROR(A113)), "", 'Dosierrechner Blanko'!G83) | F113: =IF( AND(ISERROR(A113) = FALSE, A113<>""), 'Dosierrechner Blanko'!L83, 0) -> 0
